Workbook

Sheet 1.жалпы депозиттер
A1: Статистика / "Банк статистикасы" / "Коммерциялык банктар тарабынан жаңыдан кабыл алынган депозиттер, бир мезгил ичинде"
A3: 1-таблица. Иштеп жаткан коммерциялык банктар тарабынан жаңыдан кабыл алынган депозиттердин динамикасы
A5: (миң сом / пайыздар)
A6: Мезгил аралыгы | B6: Жалпы көлөм | C6: Орточо салмактанып алынган чендер | D6: анын ичинде:
D7: улуттук валютасында | F7: чет өлкө валютасында
D8: көлөм | E8: орточо салмактанып алынган чендер | F8: көлөм | G8: орточо салмактанып алынган чендер
A9: Үчтүн айы 1996 ж. | B9: ='2.жалпы мөөнөт'!B9 -> 44120.1 | C9: ='2.жалпы мөөнөт'!C9 -> 30.051715 | D9: ='6.улут.вал.мөөнөт'!B9 -> 34495.6 | E9: ='6.улут.вал.мөөнөт'!C9 -> 32.269946 | F9: ='10.чет өл.вал.мөөнөт'!B9 -> 9624.5 | G9: ='10.чет өл.вал.мөөнөт'!C9 -> 22.101252
A10: Бирдин айы | B10: ='2.жалпы мөөнөт'!B10 -> 44864.9 | C10: ='2.жалпы мөөнөт'!C10 -> 29.080911 | D10: ='6.улут.вал.мөөнөт'!B10 -> 35005.7 | E10: ='6.улут.вал.мөөнөт'!C10 -> 30.598378 | F10: ='10.чет өл.вал.мөөнөт'!B10 -> 9859.2 | G10: ='10.чет өл.вал.мөөнөт'!C10 -> 23.693052
A11: Жалган куран | B11: ='2.жалпы мөөнөт'!B11 -> 47498.9 | C11: ='2.жалпы мөөнөт'!C11 -> 26.537801 | D11: ='6.улут.вал.мөөнөт'!B11 -> 31495.5 | E11: ='6.улут.вал.мөөнөт'!C11 -> 28.254392 | F11: ='10.чет өл.вал.мөөнөт'!B11 -> 16003.4 | G11: ='10.чет өл.вал.мөөнөт'!C11 -> 23.159463
A12: Чын куран | B12: ='2.жалпы мөөнөт'!B12 -> 51267.3 | C12: ='2.жалпы мөөнөт'!C12 -> 26.000049 | D12: ='6.улут.вал.мөөнөт'!B12 -> 35798.9 | E12: ='6.улут.вал.мөөнөт'!C12 -> 29.333887 | F12: ='10.чет өл.вал.мөөнөт'!B12 -> 15468.4 | G12: ='10.чет өл.вал.мөөнөт'!C12 -> 18.284466
A13: Бугу | B13: ='2.жалпы мөөнөт'!B13 -> 60538.8 | C13: ='2.жалпы мөөнөт'!C13 -> 27.689793 | D13: ='6.улут.вал.мөөнөт'!B13 -> 43233.9 | E13: ='6.улут.вал.мөөнөт'!C13 -> 32.05947 | F13: ='10.чет өл.вал.мөөнөт'!B13 -> 17304.9 | G13: ='10.чет өл.вал.мөөнөт'!C13 -> 16.772758
A14: Кулжа | B14: ='2.жалпы мөөнөт'!B14 -> 50133.5 | C14: ='2.жалпы мөөнөт'!C14 -> 22.57934 | D14: ='6.улут.вал.мөөнөт'!B14 -> 20848.8 | E14: ='6.улут.вал.мөөнөт'!C14 -> 30.84791 | F14: ='10.чет өл.вал.мөөнөт'!B14 -> 29284.7 | G14: ='10.чет өл.вал.мөөнөт'!C14 -> 16.692656
A15: Теке | B15: ='2.жалпы мөөнөт'!B15 -> 50764.3 | C15: ='2.жалпы мөөнөт'!C15 -> 24.129365 | D15: ='6.улут.вал.мөөнөт'!B15 -> 33992.2 | E15: ='6.улут.вал.мөөнөт'!C15 -> 30.36971 | F15: ='10.чет өл.вал.мөөнөт'!B15 -> 16772.1 | G15: ='10.чет өл.вал.мөөнөт'!C15 -> 11.481989
A16: Баш оона | B16: ='2.жалпы мөөнөт'!B16 -> 84460.6 | C16: ='2.жалпы мөөнөт'!C16 -> 18.738324 | D16: ='6.улут.вал.мөөнөт'!B16 -> 29397.7 | E16: ='6.улут.вал.мөөнөт'!C16 -> 32.652997 | F16: ='10.чет өл.вал.мөөнөт'!B16 -> 55062.9 | G16: ='10.чет өл.вал.мөөнөт'!C16 -> 11.309377
A17: Аяк оона | B17: ='2.жалпы мөөнөт'!B17 -> 60079.8 | C17: ='2.жалпы мөөнөт'!C17 -> 25.757067 | D17: ='6.улут.вал.мөөнөт'!B17 -> 31982.7 | E17: ='6.улут.вал.мөөнөт'!C17 -> 32.981176 | F17: ='10.чет өл.вал.мөөнөт'!B17 -> 28097.1 | G17: ='10.чет өл.вал.мөөнөт'!C17 -> 17.533922
A18: Тогуздун айы | B18: ='2.жалпы мөөнөт'!B18 -> 90226.5 | C18: ='2.жалпы мөөнөт'!C18 -> 24.966312 | D18: ='6.улут.вал.мөөнөт'!B18 -> 44505.9 | E18: ='6.улут.вал.мөөнөт'!C18 -> 38.831866 | F18: ='10.чет өл.вал.мөөнөт'!B18 -> 45720.6 | G18: ='10.чет өл.вал.мөөнөт'!C18 -> 11.469137
A19: Жетинин айы | B19: ='2.жалпы мөөнөт'!B19 -> 77709.3 | C19: ='2.жалпы мөөнөт'!C19 -> 21.521011 | D19: ='6.улут.вал.мөөнөт'!B19 -> 47523.2 | E19: ='6.улут.вал.мөөнөт'!C19 -> 25.520296 | F19: ='10.чет өл.вал.мөөнөт'!B19 -> 30186.1 | G19: ='10.чет өл.вал.мөөнөт'!C19 -> 15.224774
A20: Бештин айы | B20: ='2.жалпы мөөнөт'!B20 -> 69039.9 | C20: ='2.жалпы мөөнөт'!C20 -> 20.399741 | D20: ='6.улут.вал.мөөнөт'!B20 -> 39096.3 | E20: ='6.улут.вал.мөөнөт'!C20 -> 24.757752 | F20: ='10.чет өл.вал.мөөнөт'!B20 -> 29943.6 | G20: ='10.чет өл.вал.мөөнөт'!C20 -> 14.70964
... A380: Бештин айы | B380: ='2.жалпы мөөнөт'!B380 -> 0 | C380: ='2.жалпы мөөнөт'!C380 -> #DIV/0! | D380: ='6.улут.вал.мөөнөт'!B380 -> 0 | E380: ='6.улут.вал.мөөнөт'!C380 -> #DIV/0! | F380: ='10.чет өл.вал.мөөнөт'!B380 -> 0 | G380: ='10.чет өл.вал.мөөнөт'!C380 -> #DIV/0!
A381: *- алдын ала алынган маалыматтар

Sheet 2.жалпы мөөнөт
A1: Статистика / "Банк статистикасы" / "Коммерциялык банктар тарабынан жаңыдан кабыл алынган депозиттер, бир мезгил ичинде"
A3: 2-таблица. Коммерциялык банктардын жаңыдан кабыл алынган депозиттеринин жалпы көлөмү жана орточо салмактанып алынган пайыздык чендери (бир мезгил ичинде)*
A5: (миң сом / пайыздар)
A6: Мезгил аралыгы | B6: Жалпы көлөм | C6: Орточо салмактанып алынган чендер | D6: Талап боюнча төлөнүүчү | F6: Мөөнөттүү депозиттер | H6: анын ичинде, мөөнөттөрү боюнча:
H7: 0 - 1 айга | J7: 1 - 3 айга | L7: 3 - 6 айга | N7: 6 - 12 айга | P7: 1 - 3 жыл | R7: 3 жылдан ашкан мөөнөткө
D8: көлөм | E8: орточо салмактанып алынган чендер | F8: көлөм | G8: орточо салмактанып алынган чендер | H8: көлөм | I8: орточо салмактанып алынган чендер | J8: көлөм | K8: орточо салмактанып алынган чендер | L8: көлөм | M8: орточо салмактанып алынган чендер | N8: көлөм | O8: орточо салмактанып алынган чендер | P8: көлөм | Q8: орточо салмактанып алынган чендер | R8: көлөм | S8: орточо салмактанып алынган чендер
A9: Үчтүн айы 1996 ж. | B9: ='3.жеке-бардыгы болуп'!B9+'4.юрид-бардыгы болуп'!B9 -> 44120.1 | C9: =('3.жеке-бардыгы болуп'!B9*'3.жеке-бардыгы болуп'!C9+'4.юрид-бардыгы болуп'!B9*'4.юрид-бардыгы болуп'!C9)/('3.жеке-бардыгы болуп'!B9+'4.юрид-бардыгы болуп'!B9) -> 30.051715 | D9: ='3.жеке-бардыгы болуп'!D9+'4.юрид-бардыгы болуп'!D9 -> 9281 | E9: =('3.жеке-бардыгы болуп'!D9*'3.жеке-бардыгы болуп'!E9+'4.юрид-бардыгы болуп'!D9*'4.юрид-бардыгы болуп'!E9)/('3.жеке-бардыгы болуп'!D9+'4.юрид-бардыгы болуп'!D9) -> 27.565855 | F9: =H9+J9+L9+N9+P9+R9 -> 34839.1 | G9: =(H9*I9+J9*K9+L9*M9+N9*O9+P9*Q9+R9*S9)/(H9+J9+L9+N9+P9+R9) -> 30.713938 | H9: ='3.жеке-бардыгы болуп'!H9+'4.юрид-бардыгы болуп'!H9 -> 2291 | I9: =('3.жеке-бардыгы болуп'!H9*'3.жеке-бардыгы болуп'!I9+'4.юрид-бардыгы болуп'!H9*'4.юрид-бардыгы болуп'!I9)/('3.жеке-бардыгы болуп'!H9+'4.юрид-бардыгы болуп'!H9) -> 7.2378874 | J9: ='3.жеке-бардыгы болуп'!J9+'4.юрид-бардыгы болуп'!J9 -> 12145.6 | K9: =('3.жеке-бардыгы болуп'!J9*'3.жеке-бардыгы болуп'!K9+'4.юрид-бардыгы болуп'!J9*'4.юрид-бардыгы болуп'!K9)/('3.жеке-бардыгы болуп'!J9+'4.юрид-бардыгы болуп'!J9) -> 30.215864 | L9: ='3.жеке-бардыгы болуп'!L9+'4.юрид-бардыгы болуп'!L9 -> 16147.3 | M9: =('3.жеке-бардыгы болуп'!L9*'3.жеке-бардыгы болуп'!M9+'4.юрид-бардыгы болуп'!L9*'4.юрид-бардыгы болуп'!M9)/('3.жеке-бардыгы болуп'!L9+'4.юрид-бардыгы болуп'!L9) -> 32.691825 | N9: ='3.жеке-бардыгы болуп'!N9+'4.юрид-бардыгы болуп'!N9 -> 3854 | O9: =('3.жеке-бардыгы болуп'!N9*'3.жеке-бардыгы болуп'!O9+'4.юрид-бардыгы болуп'!N9*'4.юрид-бардыгы болуп'!O9)/('3.жеке-бардыгы болуп'!N9+'4.юрид-бардыгы болуп'!N9) -> 36.987208 | P9: ='3.жеке-бардыгы болуп'!P9+'4.юрид-бардыгы болуп'!P9 -> 401.2 | Q9: =('3.жеке-бардыгы болуп'!P9*'3.жеке-бардыгы болуп'!Q9+'4.юрид-бардыгы болуп'!P9*'4.юрид-бардыгы болуп'!Q9)/('3.жеке-бардыгы болуп'!P9+'4.юрид-бардыгы болуп'!P9) -> 39.981954
A10: Бирдин айы | B10: ='3.жеке-бардыгы болуп'!B10+'4.юрид-бардыгы болуп'!B10 -> 44864.9 | C10: =('3.жеке-бардыгы болуп'!B10*'3.жеке-бардыгы болуп'!C10+'4.юрид-бардыгы болуп'!B10*'4.юрид-бардыгы болуп'!C10)/('3.жеке-бардыгы болуп'!B10+'4.юрид-бардыгы болуп'!B10) -> 29.080911 | D10: ='3.жеке-бардыгы болуп'!D10+'4.юрид-бардыгы болуп'!D10 -> 10774.3 | E10: =('3.жеке-бардыгы болуп'!D10*'3.жеке-бардыгы болуп'!E10+'4.юрид-бардыгы болуп'!D10*'4.юрид-бардыгы болуп'!E10)/('3.жеке-бардыгы болуп'!D10+'4.юрид-бардыгы болуп'!D10) -> 21.689084 | F10: =H10+J10+L10+N10+P10+R10 -> 34090.6 | G10: =(H10*I10+J10*K10+L10*M10+N10*O10+P10*Q10+R10*S10)/(H10+J10+L10+N10+P10+R10) -> 31.417091 | H10: ='3.жеке-бардыгы болуп'!H10+'4.юрид-бардыгы болуп'!H10 -> 695.5 | I10: =('3.жеке-бардыгы болуп'!H10*'3.жеке-бардыгы болуп'!I10+'4.юрид-бардыгы болуп'!H10*'4.юрид-бардыгы болуп'!I10)/('3.жеке-бардыгы болуп'!H10+'4.юрид-бардыгы болуп'!H10) -> 27.881524 | J10: ='3.жеке-бардыгы болуп'!J10+'4.юрид-бардыгы болуп'!J10 -> 14593 | K10: =('3.жеке-бардыгы болуп'!J10*'3.жеке-бардыгы болуп'!K10+'4.юрид-бардыгы болуп'!J10*'4.юрид-бардыгы болуп'!K10)/('3.жеке-бардыгы болуп'!J10+'4.юрид-бардыгы болуп'!J10) -> 26.031555 | L10: ='3.жеке-бардыгы болуп'!L10+'4.юрид-бардыгы болуп'!L10 -> 14365.6 | M10: =('3.жеке-бардыгы болуп'!L10*'3.жеке-бардыгы болуп'!M10+'4.юрид-бардыгы болуп'!L10*'4.юрид-бардыгы болуп'!M10)/('3.жеке-бардыгы болуп'!L10+'4.юрид-бардыгы болуп'!L10) -> 36.22843 | N10: ='3.жеке-бардыгы болуп'!N10+'4.юрид-бардыгы болуп'!N10 -> 4050.5 | O10: =('3.жеке-бардыгы болуп'!N10*'3.жеке-бардыгы болуп'!O10+'4.юрид-бардыгы болуп'!N10*'4.юрид-бардыгы болуп'!O10)/('3.жеке-бардыгы болуп'!N10+'4.юрид-бардыгы болуп'!N10) -> 33.713393 | P10: ='3.жеке-бардыгы болуп'!P10+'4.юрид-бардыгы болуп'!P10 -> 386 | Q10: =('3.жеке-бардыгы болуп'!P10*'3.жеке-бардыгы болуп'!Q10+'4.юрид-бардыгы болуп'!P10*'4.юрид-бардыгы болуп'!Q10)/('3.жеке-бардыгы болуп'!P10+'4.юрид-бардыгы болуп'!P10) -> 38.233575
A11: Жалган куран | B11: ='3.жеке-бардыгы болуп'!B11+'4.юрид-бардыгы болуп'!B11 -> 47498.9 | C11: =('3.жеке-бардыгы болуп'!B11*'3.жеке-бардыгы болуп'!C11+'4.юрид-бардыгы болуп'!B11*'4.юрид-бардыгы болуп'!C11)/('3.жеке-бардыгы болуп'!B11+'4.юрид-бардыгы болуп'!B11) -> 26.537801 | D11: ='3.жеке-бардыгы болуп'!D11+'4.юрид-бардыгы болуп'!D11 -> 12078.4 | E11: =('3.жеке-бардыгы болуп'!D11*'3.жеке-бардыгы болуп'!E11+'4.юрид-бардыгы болуп'!D11*'4.юрид-бардыгы болуп'!E11)/('3.жеке-бардыгы болуп'!D11+'4.юрид-бардыгы болуп'!D11) -> 19.656685 | F11: =H11+J11+L11+N11+P11+R11 -> 35420.5 | G11: =(H11*I11+J11*K11+L11*M11+N11*O11+P11*Q11+R11*S11)/(H11+J11+L11+N11+P11+R11) -> 28.884263 | H11: ='3.жеке-бардыгы болуп'!H11+'4.юрид-бардыгы болуп'!H11 -> 2892.7 | I11: =('3.жеке-бардыгы болуп'!H11*'3.жеке-бардыгы болуп'!I11+'4.юрид-бардыгы болуп'!H11*'4.юрид-бардыгы болуп'!I11)/('3.жеке-бардыгы болуп'!H11+'4.юрид-бардыгы болуп'!H11) -> 43.150171 | J11: ='3.жеке-бардыгы болуп'!J11+'4.юрид-бардыгы болуп'!J11 -> 13505 | K11: =('3.жеке-бардыгы болуп'!J11*'3.жеке-бардыгы болуп'!K11+'4.юрид-бардыгы болуп'!J11*'4.юрид-бардыгы болуп'!K11)/('3.жеке-бардыгы болуп'!J11+'4.юрид-бардыгы болуп'!J11) -> 24.040816 | L11: ='3.жеке-бардыгы болуп'!L11+'4.юрид-бардыгы болуп'!L11 -> 14574.9 | M11: =('3.жеке-бардыгы болуп'!L11*'3.жеке-бардыгы болуп'!M11+'4.юрид-бардыгы болуп'!L11*'4.юрид-бардыгы болуп'!M11)/('3.жеке-бардыгы болуп'!L11+'4.юрид-бардыгы болуп'!L11) -> 30.058273 | N11: ='3.жеке-бардыгы болуп'!N11+'4.юрид-бардыгы болуп'!N11 -> 4221.3 | O11: =('3.жеке-бардыгы болуп'!N11*'3.жеке-бардыгы болуп'!O11+'4.юрид-бардыгы болуп'!N11*'4.юрид-бардыгы болуп'!O11)/('3.жеке-бардыгы болуп'!N11+'4.юрид-бардыгы болуп'!N11) -> 30.725701 | P11: ='3.жеке-бардыгы болуп'!P11+'4.юрид-бардыгы болуп'!P11 -> 226.6 | Q11: =('3.жеке-бардыгы болуп'!P11*'3.жеке-бардыгы болуп'!Q11+'4.юрид-бардыгы болуп'!P11*'4.юрид-бардыгы болуп'!Q11)/('3.жеке-бардыгы болуп'!P11+'4.юрид-бардыгы болуп'!P11) -> 25.616064
A12: Чын куран | B12: ='3.жеке-бардыгы болуп'!B12+'4.юрид-бардыгы болуп'!B12 -> 51267.3 | C12: =('3.жеке-бардыгы болуп'!B12*'3.жеке-бардыгы болуп'!C12+'4.юрид-бардыгы болуп'!B12*'4.юрид-бардыгы болуп'!C12)/('3.жеке-бардыгы болуп'!B12+'4.юрид-бардыгы болуп'!B12) -> 26.000049 | D12: ='3.жеке-бардыгы болуп'!D12+'4.юрид-бардыгы болуп'!D12 -> 12672.3 | E12: =('3.жеке-бардыгы болуп'!D12*'3.жеке-бардыгы болуп'!E12+'4.юрид-бардыгы болуп'!D12*'4.юрид-бардыгы болуп'!E12)/('3.жеке-бардыгы болуп'!D12+'4.юрид-бардыгы болуп'!D12) -> 22.143074 | F12: =H12+J12+L12+N12+P12+R12 -> 38595 | G12: =(H12*I12+J12*K12+L12*M12+N12*O12+P12*Q12+R12*S12)/(H12+J12+L12+N12+P12+R12) -> 27.26645 | H12: ='3.жеке-бардыгы болуп'!H12+'4.юрид-бардыгы болуп'!H12 -> 3966.5 | I12: =('3.жеке-бардыгы болуп'!H12*'3.жеке-бардыгы болуп'!I12+'4.юрид-бардыгы болуп'!H12*'4.юрид-бардыгы болуп'!I12)/('3.жеке-бардыгы болуп'!H12+'4.юрид-бардыгы болуп'!H12) -> 23.004039 | J12: ='3.жеке-бардыгы болуп'!J12+'4.юрид-бардыгы болуп'!J12 -> 15075 | K12: =('3.жеке-бардыгы болуп'!J12*'3.жеке-бардыгы болуп'!K12+'4.юрид-бардыгы болуп'!J12*'4.юрид-бардыгы болуп'!K12)/('3.жеке-бардыгы болуп'!J12+'4.юрид-бардыгы болуп'!J12) -> 27.637965 | L12: ='3.жеке-бардыгы болуп'!L12+'4.юрид-бардыгы болуп'!L12 -> 13203.1 | M12: =('3.жеке-бардыгы болуп'!L12*'3.жеке-бардыгы болуп'!M12+'4.юрид-бардыгы болуп'!L12*'4.юрид-бардыгы болуп'!M12)/('3.жеке-бардыгы болуп'!L12+'4.юрид-бардыгы болуп'!L12) -> 28.16965 | N12: ='3.жеке-бардыгы болуп'!N12+'4.юрид-бардыгы болуп'!N12 -> 5969.1 | O12: =('3.жеке-бардыгы болуп'!N12*'3.жеке-бардыгы болуп'!O12+'4.юрид-бардыгы болуп'!N12*'4.юрид-бардыгы болуп'!O12)/('3.жеке-бардыгы болуп'!N12+'4.юрид-бардыгы болуп'!N12) -> 26.54338 | P12: ='3.жеке-бардыгы болуп'!P12+'4.юрид-бардыгы болуп'!P12 -> 381.3 | Q12: =('3.жеке-бардыгы болуп'!P12*'3.жеке-бардыгы болуп'!Q12+'4.юрид-бардыгы болуп'!P12*'4.юрид-бардыгы болуп'!Q12)/('3.жеке-бардыгы болуп'!P12+'4.юрид-бардыгы болуп'!P12) -> 36.962995
A13: Бугу | B13: ='3.жеке-бардыгы болуп'!B13+'4.юрид-бардыгы болуп'!B13 -> 60538.8 | C13: =('3.жеке-бардыгы болуп'!B13*'3.жеке-бардыгы болуп'!C13+'4.юрид-бардыгы болуп'!B13*'4.юрид-бардыгы болуп'!C13)/('3.жеке-бардыгы болуп'!B13+'4.юрид-бардыгы болуп'!B13) -> 27.689793 | D13: ='3.жеке-бардыгы болуп'!D13+'4.юрид-бардыгы болуп'!D13 -> 12246.6 | E13: =('3.жеке-бардыгы болуп'!D13*'3.жеке-бардыгы болуп'!E13+'4.юрид-бардыгы болуп'!D13*'4.юрид-бардыгы болуп'!E13)/('3.жеке-бардыгы болуп'!D13+'4.юрид-бардыгы болуп'!D13) -> 23.410391 | F13: =H13+J13+L13+N13+P13+R13 -> 48292.2 | G13: =(H13*I13+J13*K13+L13*M13+N13*O13+P13*Q13+R13*S13)/(H13+J13+L13+N13+P13+R13) -> 28.775022 | H13: ='3.жеке-бардыгы болуп'!H13+'4.юрид-бардыгы болуп'!H13 -> 1080.6 | I13: =('3.жеке-бардыгы болуп'!H13*'3.жеке-бардыгы болуп'!I13+'4.юрид-бардыгы болуп'!H13*'4.юрид-бардыгы болуп'!I13)/('3.жеке-бардыгы болуп'!H13+'4.юрид-бардыгы болуп'!H13) -> 31.388567 | J13: ='3.жеке-бардыгы болуп'!J13+'4.юрид-бардыгы болуп'!J13 -> 14679.3 | K13: =('3.жеке-бардыгы болуп'!J13*'3.жеке-бардыгы болуп'!K13+'4.юрид-бардыгы болуп'!J13*'4.юрид-бардыгы болуп'!K13)/('3.жеке-бардыгы болуп'!J13+'4.юрид-бардыгы болуп'!J13) -> 24.869605 | L13: ='3.жеке-бардыгы болуп'!L13+'4.юрид-бардыгы болуп'!L13 -> 14962 | M13: =('3.жеке-бардыгы болуп'!L13*'3.жеке-бардыгы болуп'!M13+'4.юрид-бардыгы болуп'!L13*'4.юрид-бардыгы болуп'!M13)/('3.жеке-бардыгы болуп'!L13+'4.юрид-бардыгы болуп'!L13) -> 30.635506 | N13: ='3.жеке-бардыгы болуп'!N13+'4.юрид-бардыгы болуп'!N13 -> 17337.5 | O13: =('3.жеке-бардыгы болуп'!N13*'3.жеке-бардыгы болуп'!O13+'4.юрид-бардыгы болуп'!N13*'4.юрид-бардыгы болуп'!O13)/('3.жеке-бардыгы болуп'!N13+'4.юрид-бардыгы болуп'!N13) -> 30.205622 | P13: ='3.жеке-бардыгы болуп'!P13+'4.юрид-бардыгы болуп'!P13 -> 232.8 | Q13: =('3.жеке-бардыгы болуп'!P13*'3.жеке-бардыгы болуп'!Q13+'4.юрид-бардыгы болуп'!P13*'4.юрид-бардыгы болуп'!Q13)/('3.жеке-бардыгы болуп'!P13+'4.юрид-бардыгы болуп'!P13) -> 36.786254
A14: Кулжа | B14: ='3.жеке-бардыгы болуп'!B14+'4.юрид-бардыгы болуп'!B14 -> 50133.5 | C14: =('3.жеке-бардыгы болуп'!B14*'3.жеке-бардыгы болуп'!C14+'4.юрид-бардыгы болуп'!B14*'4.юрид-бардыгы болуп'!C14)/('3.жеке-бардыгы болуп'!B14+'4.юрид-бардыгы болуп'!B14) -> 22.57934 | D14: ='3.жеке-бардыгы болуп'!D14+'4.юрид-бардыгы болуп'!D14 -> 11851.4 | E14: =('3.жеке-бардыгы болуп'!D14*'3.жеке-бардыгы болуп'!E14+'4.юрид-бардыгы болуп'!D14*'4.юрид-бардыгы болуп'!E14)/('3.жеке-бардыгы болуп'!D14+'4.юрид-бардыгы болуп'!D14) -> 17.045625 | F14: =H14+J14+L14+N14+P14+R14 -> 38282.1 | G14: =(H14*I14+J14*K14+L14*M14+N14*O14+P14*Q14+R14*S14)/(H14+J14+L14+N14+P14+R14) -> 24.292471 | H14: ='3.жеке-бардыгы болуп'!H14+'4.юрид-бардыгы болуп'!H14 -> 1062.8 | I14: =('3.жеке-бардыгы болуп'!H14*'3.жеке-бардыгы болуп'!I14+'4.юрид-бардыгы болуп'!H14*'4.юрид-бардыгы болуп'!I14)/('3.жеке-бардыгы болуп'!H14+'4.юрид-бардыгы болуп'!H14) -> 7.073297 | J14: ='3.жеке-бардыгы болуп'!J14+'4.юрид-бардыгы болуп'!J14 -> 22184.6 | K14: =('3.жеке-бардыгы болуп'!J14*'3.жеке-бардыгы болуп'!K14+'4.юрид-бардыгы болуп'!J14*'4.юрид-бардыгы болуп'!K14)/('3.жеке-бардыгы болуп'!J14+'4.юрид-бардыгы болуп'!J14) -> 22.694388 | L14: ='3.жеке-бардыгы болуп'!L14+'4.юрид-бардыгы болуп'!L14 -> 9337.3 | M14: =('3.жеке-бардыгы болуп'!L14*'3.жеке-бардыгы болуп'!M14+'4.юрид-бардыгы болуп'!L14*'4.юрид-бардыгы болуп'!M14)/('3.жеке-бардыгы болуп'!L14+'4.юрид-бардыгы болуп'!L14) -> 24.853945 | N14: ='3.жеке-бардыгы болуп'!N14+'4.юрид-бардыгы болуп'!N14 -> 5458.2 | O14: =('3.жеке-бардыгы болуп'!N14*'3.жеке-бардыгы болуп'!O14+'4.юрид-бардыгы болуп'!N14*'4.юрид-бардыгы болуп'!O14)/('3.жеке-бардыгы болуп'!N14+'4.юрид-бардыгы болуп'!N14) -> 33.159696 | P14: ='3.жеке-бардыгы болуп'!P14+'4.юрид-бардыгы болуп'!P14 -> 239.2 | Q14: =('3.жеке-бардыгы болуп'!P14*'3.жеке-бардыгы болуп'!Q14+'4.юрид-бардыгы болуп'!P14*'4.юрид-бардыгы болуп'!Q14)/('3.жеке-бардыгы болуп'!P14+'4.юрид-бардыгы болуп'!P14) -> 24.759197
A15: Теке | B15: ='3.жеке-бардыгы болуп'!B15+'4.юрид-бардыгы болуп'!B15 -> 50764.3 | C15: =('3.жеке-бардыгы болуп'!B15*'3.жеке-бардыгы болуп'!C15+'4.юрид-бардыгы болуп'!B15*'4.юрид-бардыгы болуп'!C15)/('3.жеке-бардыгы болуп'!B15+'4.юрид-бардыгы болуп'!B15) -> 24.129365 | D15: ='3.жеке-бардыгы болуп'!D15+'4.юрид-бардыгы болуп'!D15 -> 13175.4 | E15: =('3.жеке-бардыгы болуп'!D15*'3.жеке-бардыгы болуп'!E15+'4.юрид-бардыгы болуп'!D15*'4.юрид-бардыгы болуп'!E15)/('3.жеке-бардыгы болуп'!D15+'4.юрид-бардыгы болуп'!D15) -> 12.477743 | F15: =H15+J15+L15+N15+P15+R15 -> 37588.9 | G15: =(H15*I15+J15*K15+L15*M15+N15*O15+P15*Q15+R15*S15)/(H15+J15+L15+N15+P15+R15) -> 28.213411 | H15: ='3.жеке-бардыгы болуп'!H15+'4.юрид-бардыгы болуп'!H15 -> 3808.1 | I15: =('3.жеке-бардыгы болуп'!H15*'3.жеке-бардыгы болуп'!I15+'4.юрид-бардыгы болуп'!H15*'4.юрид-бардыгы болуп'!I15)/('3.жеке-бардыгы болуп'!H15+'4.юрид-бардыгы болуп'!H15) -> 3.0807489 | J15: ='3.жеке-бардыгы болуп'!J15+'4.юрид-бардыгы болуп'!J15 -> 14782.2 | K15: =('3.жеке-бардыгы болуп'!J15*'3.жеке-бардыгы болуп'!K15+'4.юрид-бардыгы болуп'!J15*'4.юрид-бардыгы болуп'!K15)/('3.жеке-бардыгы болуп'!J15+'4.юрид-бардыгы болуп'!J15) -> 31.170908 | L15: ='3.жеке-бардыгы болуп'!L15+'4.юрид-бардыгы болуп'!L15 -> 11316.1 | M15: =('3.жеке-бардыгы болуп'!L15*'3.жеке-бардыгы болуп'!M15+'4.юрид-бардыгы болуп'!L15*'4.юрид-бардыгы болуп'!M15)/('3.жеке-бардыгы болуп'!L15+'4.юрид-бардыгы болуп'!L15) -> 31.290608 | N15: ='3.жеке-бардыгы болуп'!N15+'4.юрид-бардыгы болуп'!N15 -> 7205.5 | O15: =('3.жеке-бардыгы болуп'!N15*'3.жеке-бардыгы болуп'!O15+'4.юрид-бардыгы болуп'!N15*'4.юрид-бардыгы болуп'!O15)/('3.жеке-бардыгы болуп'!N15+'4.юрид-бардыгы болуп'!N15) -> 29.901914 | P15: ='3.жеке-бардыгы болуп'!P15+'4.юрид-бардыгы болуп'!P15 -> 477 | Q15: =('3.жеке-бардыгы болуп'!P15*'3.жеке-бардыгы болуп'!Q15+'4.юрид-бардыгы болуп'!P15*'4.юрид-бардыгы болуп'!Q15)/('3.жеке-бардыгы болуп'!P15+'4.юрид-бардыгы болуп'!P15) -> 38.697694
A16: Баш оона | B16: ='3.жеке-бардыгы болуп'!B16+'4.юрид-бардыгы болуп'!B16 -> 84460.6 | C16: =('3.жеке-бардыгы болуп'!B16*'3.жеке-бардыгы болуп'!C16+'4.юрид-бардыгы болуп'!B16*'4.юрид-бардыгы болуп'!C16)/('3.жеке-бардыгы болуп'!B16+'4.юрид-бардыгы болуп'!B16) -> 18.738324 | D16: ='3.жеке-бардыгы болуп'!D16+'4.юрид-бардыгы болуп'!D16 -> 43051.7 | E16: =('3.жеке-бардыгы болуп'!D16*'3.жеке-бардыгы болуп'!E16+'4.юрид-бардыгы болуп'!D16*'4.юрид-бардыгы болуп'!E16)/('3.жеке-бардыгы болуп'!D16+'4.юрид-бардыгы болуп'!D16) -> 8.2210795 | F16: =H16+J16+L16+N16+P16+R16 -> 41408.9 | G16: =(H16*I16+J16*K16+L16*M16+N16*O16+P16*Q16+R16*S16)/(H16+J16+L16+N16+P16+R16) -> 29.672815 | H16: ='3.жеке-бардыгы болуп'!H16+'4.юрид-бардыгы болуп'!H16 -> 5350.1 | I16: =('3.жеке-бардыгы болуп'!H16*'3.жеке-бардыгы болуп'!I16+'4.юрид-бардыгы болуп'!H16*'4.юрид-бардыгы болуп'!I16)/('3.жеке-бардыгы болуп'!H16+'4.юрид-бардыгы болуп'!H16) -> 9.5698622 | J16: ='3.жеке-бардыгы болуп'!J16+'4.юрид-бардыгы болуп'!J16 -> 10884.9 | K16: =('3.жеке-бардыгы болуп'!J16*'3.жеке-бардыгы болуп'!K16+'4.юрид-бардыгы болуп'!J16*'4.юрид-бардыгы болуп'!K16)/('3.жеке-бардыгы болуп'!J16+'4.юрид-бардыгы болуп'!J16) -> 29.503 | L16: ='3.жеке-бардыгы болуп'!L16+'4.юрид-бардыгы болуп'!L16 -> 19978.9 | M16: =('3.жеке-бардыгы болуп'!L16*'3.жеке-бардыгы болуп'!M16+'4.юрид-бардыгы болуп'!L16*'4.юрид-бардыгы болуп'!M16)/('3.жеке-бардыгы болуп'!L16+'4.юрид-бардыгы болуп'!L16) -> 35.106358 | N16: ='3.жеке-бардыгы болуп'!N16+'4.юрид-бардыгы болуп'!N16 -> 4478.9 | O16: =('3.жеке-бардыгы болуп'!N16*'3.жеке-бардыгы болуп'!O16+'4.юрид-бардыгы болуп'!N16*'4.юрид-бардыгы болуп'!O16)/('3.жеке-бардыгы болуп'!N16+'4.юрид-бардыгы болуп'!N16) -> 30.5331 | P16: ='3.жеке-бардыгы болуп'!P16+'4.юрид-бардыгы болуп'!P16 -> 716.1 | Q16: =('3.жеке-бардыгы болуп'!P16*'3.жеке-бардыгы болуп'!Q16+'4.юрид-бардыгы болуп'!P16*'4.юрид-бардыгы болуп'!Q16)/('3.жеке-бардыгы болуп'!P16+'4.юрид-бардыгы болуп'!P16) -> 25.472141
A17: Аяк оона | B17: ='3.жеке-бардыгы болуп'!B17+'4.юрид-бардыгы болуп'!B17 -> 60079.8 | C17: =('3.жеке-бардыгы болуп'!B17*'3.жеке-бардыгы болуп'!C17+'4.юрид-бардыгы болуп'!B17*'4.юрид-бардыгы болуп'!C17)/('3.жеке-бардыгы болуп'!B17+'4.юрид-бардыгы болуп'!B17) -> 25.757067 | D17: ='3.жеке-бардыгы болуп'!D17+'4.юрид-бардыгы болуп'!D17 -> 10956.6 | E17: =('3.жеке-бардыгы болуп'!D17*'3.жеке-бардыгы болуп'!E17+'4.юрид-бардыгы болуп'!D17*'4.юрид-бардыгы болуп'!E17)/('3.жеке-бардыгы болуп'!D17+'4.юрид-бардыгы болуп'!D17) -> 13.32431 | F17: =H17+J17+L17+N17+P17+R17 -> 49123.2 | G17: =(H17*I17+J17*K17+L17*M17+N17*O17+P17*Q17+R17*S17)/(H17+J17+L17+N17+P17+R17) -> 28.53011 | H17: ='3.жеке-бардыгы болуп'!H17+'4.юрид-бардыгы болуп'!H17 -> 1413.6 | I17: =('3.жеке-бардыгы болуп'!H17*'3.жеке-бардыгы болуп'!I17+'4.юрид-бардыгы болуп'!H17*'4.юрид-бардыгы болуп'!I17)/('3.жеке-бардыгы болуп'!H17+'4.юрид-бардыгы болуп'!H17) -> 3.7814092 | J17: ='3.жеке-бардыгы болуп'!J17+'4.юрид-бардыгы болуп'!J17 -> 23652 | K17: =('3.жеке-бардыгы болуп'!J17*'3.жеке-бардыгы болуп'!K17+'4.юрид-бардыгы болуп'!J17*'4.юрид-бардыгы болуп'!K17)/('3.жеке-бардыгы болуп'!J17+'4.юрид-бардыгы болуп'!J17) -> 24.879736 | L17: ='3.жеке-бардыгы болуп'!L17+'4.юрид-бардыгы болуп'!L17 -> 16333.4 | M17: =('3.жеке-бардыгы болуп'!L17*'3.жеке-бардыгы болуп'!M17+'4.юрид-бардыгы болуп'!L17*'4.юрид-бардыгы болуп'!M17)/('3.жеке-бардыгы болуп'!L17+'4.юрид-бардыгы болуп'!L17) -> 37.567138 | N17: ='3.жеке-бардыгы болуп'!N17+'4.юрид-бардыгы болуп'!N17 -> 7596.4 | O17: =('3.жеке-бардыгы болуп'!N17*'3.жеке-бардыгы болуп'!O17+'4.юрид-бардыгы болуп'!N17*'4.юрид-бардыгы болуп'!O17)/('3.жеке-бардыгы болуп'!N17+'4.юрид-бардыгы болуп'!N17) -> 25.062715 | P17: ='3.жеке-бардыгы болуп'!P17+'4.юрид-бардыгы болуп'!P17 -> 127.8 | Q17: =('3.жеке-бардыгы болуп'!P17*'3.жеке-бардыгы болуп'!Q17+'4.юрид-бардыгы болуп'!P17*'4.юрид-бардыгы болуп'!Q17)/('3.жеке-бардыгы болуп'!P17+'4.юрид-бардыгы болуп'!P17) -> 28.98169
A18: Тогуздун айы | B18: ='3.жеке-бардыгы болуп'!B18+'4.юрид-бардыгы болуп'!B18 -> 90226.5 | C18: =('3.жеке-бардыгы болуп'!B18*'3.жеке-бардыгы болуп'!C18+'4.юрид-бардыгы болуп'!B18*'4.юрид-бардыгы болуп'!C18)/('3.жеке-бардыгы болуп'!B18+'4.юрид-бардыгы болуп'!B18) -> 24.966312 | D18: ='3.жеке-бардыгы болуп'!D18+'4.юрид-бардыгы болуп'!D18 -> 37173.6 | E18: =('3.жеке-бардыгы болуп'!D18*'3.жеке-бардыгы болуп'!E18+'4.юрид-бардыгы болуп'!D18*'4.юрид-бардыгы болуп'!E18)/('3.жеке-бардыгы болуп'!D18+'4.юрид-бардыгы болуп'!D18) -> 9.8071629 | F18: =H18+J18+L18+N18+P18+R18 -> 53052.9 | G18: =(H18*I18+J18*K18+L18*M18+N18*O18+P18*Q18+R18*S18)/(H18+J18+L18+N18+P18+R18) -> 35.588167 | H18: ='3.жеке-бардыгы болуп'!H18+'4.юрид-бардыгы болуп'!H18 -> 2901.2 | I18: =('3.жеке-бардыгы болуп'!H18*'3.жеке-бардыгы болуп'!I18+'4.юрид-бардыгы болуп'!H18*'4.юрид-бардыгы болуп'!I18)/('3.жеке-бардыгы болуп'!H18+'4.юрид-бардыгы болуп'!H18) -> 22.826072 | J18: ='3.жеке-бардыгы болуп'!J18+'4.юрид-бардыгы болуп'!J18 -> 17291.1 | K18: =('3.жеке-бардыгы болуп'!J18*'3.жеке-бардыгы болуп'!K18+'4.юрид-бардыгы болуп'!J18*'4.юрид-бардыгы болуп'!K18)/('3.жеке-бардыгы болуп'!J18+'4.юрид-бардыгы болуп'!J18) -> 28.075066 | L18: ='3.жеке-бардыгы болуп'!L18+'4.юрид-бардыгы болуп'!L18 -> 29475.8 | M18: =('3.жеке-бардыгы болуп'!L18*'3.жеке-бардыгы болуп'!M18+'4.юрид-бардыгы болуп'!L18*'4.юрид-бардыгы болуп'!M18)/('3.жеке-бардыгы болуп'!L18+'4.юрид-бардыгы болуп'!L18) -> 43.243029 | N18: ='3.жеке-бардыгы болуп'!N18+'4.юрид-бардыгы болуп'!N18 -> 3135.4 | O18: =('3.жеке-бардыгы болуп'!N18*'3.жеке-бардыгы болуп'!O18+'4.юрид-бардыгы болуп'!N18*'4.юрид-бардыгы болуп'!O18)/('3.жеке-бардыгы болуп'!N18+'4.юрид-бардыгы болуп'!N18) -> 18.623047 | P18: ='3.жеке-бардыгы болуп'!P18+'4.юрид-бардыгы болуп'!P18 -> 249.4 | Q18: =('3.жеке-бардыгы болуп'!P18*'3.жеке-бардыгы болуп'!Q18+'4.юрид-бардыгы болуп'!P18*'4.юрид-бардыгы болуп'!Q18)/('3.жеке-бардыгы болуп'!P18+'4.юрид-бардыгы болуп'!P18) -> 13.512751
A19: Жетинин айы | B19: ='3.жеке-бардыгы болуп'!B19+'4.юрид-бардыгы болуп'!B19 -> 77709.3 | C19: =('3.жеке-бардыгы болуп'!B19*'3.жеке-бардыгы болуп'!C19+'4.юрид-бардыгы болуп'!B19*'4.юрид-бардыгы болуп'!C19)/('3.жеке-бардыгы болуп'!B19+'4.юрид-бардыгы болуп'!B19) -> 21.521011 | D19: ='3.жеке-бардыгы болуп'!D19+'4.юрид-бардыгы болуп'!D19 -> 22973.7 | E19: =('3.жеке-бардыгы болуп'!D19*'3.жеке-бардыгы болуп'!E19+'4.юрид-бардыгы болуп'!D19*'4.юрид-бардыгы болуп'!E19)/('3.жеке-бардыгы болуп'!D19+'4.юрид-бардыгы болуп'!D19) -> 13.248201 | F19: =H19+J19+L19+N19+P19+R19 -> 54735.6 | G19: =(H19*I19+J19*K19+L19*M19+N19*O19+P19*Q19+R19*S19)/(H19+J19+L19+N19+P19+R19) -> 24.993286 | H19: ='3.жеке-бардыгы болуп'!H19+'4.юрид-бардыгы болуп'!H19 -> 10723.2 | I19: =('3.жеке-бардыгы болуп'!H19*'3.жеке-бардыгы болуп'!I19+'4.юрид-бардыгы болуп'!H19*'4.юрид-бардыгы болуп'!I19)/('3.жеке-бардыгы болуп'!H19+'4.юрид-бардыгы болуп'!H19) -> 15.977973 | J19: ='3.жеке-бардыгы болуп'!J19+'4.юрид-бардыгы болуп'!J19 -> 27986.5 | K19: =('3.жеке-бардыгы болуп'!J19*'3.жеке-бардыгы болуп'!K19+'4.юрид-бардыгы болуп'!J19*'4.юрид-бардыгы болуп'!K19)/('3.жеке-бардыгы болуп'!J19+'4.юрид-бардыгы болуп'!J19) -> 24.887472 | L19: ='3.жеке-бардыгы болуп'!L19+'4.юрид-бардыгы болуп'!L19 -> 15312.1 | M19: =('3.жеке-бардыгы болуп'!L19*'3.жеке-бардыгы болуп'!M19+'4.юрид-бардыгы болуп'!L19*'4.юрид-бардыгы болуп'!M19)/('3.жеке-бардыгы болуп'!L19+'4.юрид-бардыгы болуп'!L19) -> 31.694986 | N19: ='3.жеке-бардыгы болуп'!N19+'4.юрид-бардыгы болуп'!N19 -> 692.7 | O19: =('3.жеке-бардыгы болуп'!N19*'3.жеке-бардыгы болуп'!O19+'4.юрид-бардыгы болуп'!N19*'4.юрид-бардыгы болуп'!O19)/('3.жеке-бардыгы болуп'!N19+'4.юрид-бардыгы болуп'!N19) -> 20.168096 | P19: ='3.жеке-бардыгы болуп'!P19+'4.юрид-бардыгы болуп'!P19 -> 21.1 | Q19: =('3.жеке-бардыгы болуп'!P19*'3.жеке-бардыгы болуп'!Q19+'4.юрид-бардыгы болуп'!P19*'4.юрид-бардыгы болуп'!Q19)/('3.жеке-бардыгы болуп'!P19+'4.юрид-бардыгы болуп'!P19) -> 42.037915
A20: Бештин айы | B20: ='3.жеке-бардыгы болуп'!B20+'4.юрид-бардыгы болуп'!B20 -> 69039.9 | C20: =('3.жеке-бардыгы болуп'!B20*'3.жеке-бардыгы болуп'!C20+'4.юрид-бардыгы болуп'!B20*'4.юрид-бардыгы болуп'!C20)/('3.жеке-бардыгы болуп'!B20+'4.юрид-бардыгы болуп'!B20) -> 20.399741 | D20: ='3.жеке-бардыгы болуп'!D20+'4.юрид-бардыгы болуп'!D20 -> 28713.1 | E20: =('3.жеке-бардыгы болуп'!D20*'3.жеке-бардыгы болуп'!E20+'4.юрид-бардыгы болуп'!D20*'4.юрид-бардыгы болуп'!E20)/('3.жеке-бардыгы болуп'!D20+'4.юрид-бардыгы болуп'!D20) -> 8.7380841 | F20: =H20+J20+L20+N20+P20+R20 -> 40326.8 | G20: =(H20*I20+J20*K20+L20*M20+N20*O20+P20*Q20+R20*S20)/(H20+J20+L20+N20+P20+R20) -> 28.702961 | H20: ='3.жеке-бардыгы болуп'!H20+'4.юрид-бардыгы болуп'!H20 -> 2858.3 | I20: =('3.жеке-бардыгы болуп'!H20*'3.жеке-бардыгы болуп'!I20+'4.юрид-бардыгы болуп'!H20*'4.юрид-бардыгы болуп'!I20)/('3.жеке-бардыгы болуп'!H20+'4.юрид-бардыгы болуп'!H20) -> 18.706749 | J20: ='3.жеке-бардыгы болуп'!J20+'4.юрид-бардыгы болуп'!J20 -> 16350.8 | K20: =('3.жеке-бардыгы болуп'!J20*'3.жеке-бардыгы болуп'!K20+'4.юрид-бардыгы болуп'!J20*'4.юрид-бардыгы болуп'!K20)/('3.жеке-бардыгы болуп'!J20+'4.юрид-бардыгы болуп'!J20) -> 30.043679 | L20: ='3.жеке-бардыгы болуп'!L20+'4.юрид-бардыгы болуп'!L20 -> 16919.7 | M20: =('3.жеке-бардыгы болуп'!L20*'3.жеке-бардыгы болуп'!M20+'4.юрид-бардыгы болуп'!L20*'4.юрид-бардыгы болуп'!M20)/('3.жеке-бардыгы болуп'!L20+'4.юрид-бардыгы болуп'!L20) -> 27.948651 | N20: ='3.жеке-бардыгы болуп'!N20+'4.юрид-бардыгы болуп'!N20 -> 4170.9 | O20: =('3.жеке-бардыгы болуп'!N20*'3.жеке-бардыгы болуп'!O20+'4.юрид-бардыгы болуп'!N20*'4.юрид-бардыгы болуп'!O20)/('3.жеке-бардыгы болуп'!N20+'4.юрид-бардыгы болуп'!N20) -> 33.256528 | P20: ='3.жеке-бардыгы болуп'!P20+'4.юрид-бардыгы болуп'!P20 -> 27.1 | Q20: =('3.жеке-бардыгы болуп'!P20*'3.жеке-бардыгы болуп'!Q20+'4.юрид-бардыгы болуп'!P20*'4.юрид-бардыгы болуп'!Q20)/('3.жеке-бардыгы болуп'!P20+'4.юрид-бардыгы болуп'!P20) -> 44.223616
... A110: Кулжа | B110: ='3.жеке-бардыгы болуп'!B110+'4.юрид-бардыгы болуп'!B110 -> 7186362.3 | C110: =('3.жеке-бардыгы болуп'!B110*'3.жеке-бардыгы болуп'!C110+'4.юрид-бардыгы болуп'!B110*'4.юрид-бардыгы болуп'!C110)/('3.жеке-бардыгы болуп'!B110+'4.юрид-бардыгы болуп'!B110) -> 0.44774262 | D110: ='3.жеке-бардыгы болуп'!D110+'4.юрид-бардыгы болуп'!D110 -> 6808872.9 | E110: =('3.жеке-бардыгы болуп'!D110*'3.жеке-бардыгы болуп'!E110+'4.юрид-бардыгы болуп'!D110*'4.юрид-бардыгы болуп'!E110)/('3.жеке-бардыгы болуп'!D110+'4.юрид-бардыгы болуп'!D110) -> 0.11246479 | F110: =H110+J110+L110+N110+P110+R110 -> 377489.4 | G110: =(H110*I110+J110*K110+L110*M110+N110*O110+P110*Q110+R110*S110)/(H110+J110+L110+N110+P110+R110) -> 6.4952346 | H110: ='3.жеке-бардыгы болуп'!H110+'4.юрид-бардыгы болуп'!H110 -> 14992.8 | I110: =('3.жеке-бардыгы болуп'!H110*'3.жеке-бардыгы болуп'!I110+'4.юрид-бардыгы болуп'!H110*'4.юрид-бардыгы болуп'!I110)/('3.жеке-бардыгы болуп'!H110+'4.юрид-бардыгы болуп'!H110) -> 0.98127301 | J110: ='3.жеке-бардыгы болуп'!J110+'4.юрид-бардыгы болуп'!J110 -> 50101.1 | K110: =('3.жеке-бардыгы болуп'!J110*'3.жеке-бардыгы болуп'!K110+'4.юрид-бардыгы болуп'!J110*'4.юрид-бардыгы болуп'!K110)/('3.жеке-бардыгы болуп'!J110+'4.юрид-бардыгы болуп'!J110) -> 4.342131 | L110: ='3.жеке-бардыгы болуп'!L110+'4.юрид-бардыгы болуп'!L110 -> 42255.1 | M110: =('3.жеке-бардыгы болуп'!L110*'3.жеке-бардыгы болуп'!M110+'4.юрид-бардыгы болуп'!L110*'4.юрид-бардыгы болуп'!M110)/('3.жеке-бардыгы болуп'!L110+'4.юрид-бардыгы болуп'!L110) -> 7.0670127 | N110: ='3.жеке-бардыгы болуп'!N110+'4.юрид-бардыгы болуп'!N110 -> 30045.8 | O110: =('3.жеке-бардыгы болуп'!N110*'3.жеке-бардыгы болуп'!O110+'4.юрид-бардыгы болуп'!N110*'4.юрид-бардыгы болуп'!O110)/('3.жеке-бардыгы болуп'!N110+'4.юрид-бардыгы болуп'!N110) -> 9.5463517 | P110: ='3.жеке-бардыгы болуп'!P110+'4.юрид-бардыгы болуп'!P110 -> 240094.6 | Q110: =('3.жеке-бардыгы болуп'!P110*'3.жеке-бардыгы болуп'!Q110+'4.юрид-бардыгы болуп'!P110*'4.юрид-бардыгы болуп'!Q110)/('3.жеке-бардыгы болуп'!P110+'4.юрид-бардыгы болуп'!P110) -> 6.8063985
A111: Теке | B111: ='3.жеке-бардыгы болуп'!B111+'4.юрид-бардыгы болуп'!B111 -> 10822018 | C111: =('3.жеке-бардыгы болуп'!B111*'3.жеке-бардыгы болуп'!C111+'4.юрид-бардыгы болуп'!B111*'4.юрид-бардыгы болуп'!C111)/('3.жеке-бардыгы болуп'!B111+'4.юрид-бардыгы болуп'!B111) -> 0.30889517 | D111: ='3.жеке-бардыгы болуп'!D111+'4.юрид-бардыгы болуп'!D111 -> 10526255 | E111: =('3.жеке-бардыгы болуп'!D111*'3.жеке-бардыгы болуп'!E111+'4.юрид-бардыгы болуп'!D111*'4.юрид-бардыгы болуп'!E111)/('3.жеке-бардыгы болуп'!D111+'4.юрид-бардыгы болуп'!D111) -> 0.10330682 | F111: =H111+J111+L111+N111+P111+R111 -> 295762.8 | G111: =(H111*I111+J111*K111+L111*M111+N111*O111+P111*Q111+R111*S111)/(H111+J111+L111+N111+P111+R111) -> 7.6258242 | H111: ='3.жеке-бардыгы болуп'!H111+'4.юрид-бардыгы болуп'!H111 -> 13375.4 | I111: =('3.жеке-бардыгы болуп'!H111*'3.жеке-бардыгы болуп'!I111+'4.юрид-бардыгы болуп'!H111*'4.юрид-бардыгы болуп'!I111)/('3.жеке-бардыгы болуп'!H111+'4.юрид-бардыгы болуп'!H111) -> 4.6248727 | J111: ='3.жеке-бардыгы болуп'!J111+'4.юрид-бардыгы болуп'!J111 -> 79334.4 | K111: =('3.жеке-бардыгы болуп'!J111*'3.жеке-бардыгы болуп'!K111+'4.юрид-бардыгы болуп'!J111*'4.юрид-бардыгы болуп'!K111)/('3.жеке-бардыгы болуп'!J111+'4.юрид-бардыгы болуп'!J111) -> 3.9179416 | L111: ='3.жеке-бардыгы болуп'!L111+'4.юрид-бардыгы болуп'!L111 -> 45797.9 | M111: =('3.жеке-бардыгы болуп'!L111*'3.жеке-бардыгы болуп'!M111+'4.юрид-бардыгы болуп'!L111*'4.юрид-бардыгы болуп'!M111)/('3.жеке-бардыгы болуп'!L111+'4.юрид-бардыгы болуп'!L111) -> 6.0345491 | N111: ='3.жеке-бардыгы болуп'!N111+'4.юрид-бардыгы болуп'!N111 -> 71258 | O111: =('3.жеке-бардыгы болуп'!N111*'3.жеке-бардыгы болуп'!O111+'4.юрид-бардыгы болуп'!N111*'4.юрид-бардыгы болуп'!O111)/('3.жеке-бардыгы болуп'!N111+'4.юрид-бардыгы болуп'!N111) -> 9.3701001 | P111: ='3.жеке-бардыгы болуп'!P111+'4.юрид-бардыгы болуп'!P111 -> 85996.3 | Q111: =('3.жеке-бардыгы болуп'!P111*'3.жеке-бардыгы болуп'!Q111+'4.юрид-бардыгы болуп'!P111*'4.юрид-бардыгы болуп'!Q111)/('3.жеке-бардыгы болуп'!P111+'4.юрид-бардыгы болуп'!P111) -> 10.915286 | R111: ='3.жеке-бардыгы болуп'!R111+'4.юрид-бардыгы болуп'!R111 -> 0.8 | S111: =('3.жеке-бардыгы болуп'!R111*'3.жеке-бардыгы болуп'!S111+'4.юрид-бардыгы болуп'!R111*'4.юрид-бардыгы болуп'!S111)/('3.жеке-бардыгы болуп'!R111+'4.юрид-бардыгы болуп'!R111) -> 12
A112: Баш оона | B112: ='3.жеке-бардыгы болуп'!B112+'4.юрид-бардыгы болуп'!B112 -> 12010770 | C112: =('3.жеке-бардыгы болуп'!B112*'3.жеке-бардыгы болуп'!C112+'4.юрид-бардыгы болуп'!B112*'4.юрид-бардыгы болуп'!C112)/('3.жеке-бардыгы болуп'!B112+'4.юрид-бардыгы болуп'!B112) -> 0.2336798 | D112: ='3.жеке-бардыгы болуп'!D112+'4.юрид-бардыгы болуп'!D112 -> 11687927 | E112: =('3.жеке-бардыгы болуп'!D112*'3.жеке-бардыгы болуп'!E112+'4.юрид-бардыгы болуп'!D112*'4.юрид-бардыгы болуп'!E112)/('3.жеке-бардыгы болуп'!D112+'4.юрид-бардыгы болуп'!D112) -> 0.055744169 | F112: =H112+J112+L112+N112+P112+R112 -> 322843.6 | G112: =(H112*I112+J112*K112+L112*M112+N112*O112+P112*Q112+R112*S112)/(H112+J112+L112+N112+P112+R112) -> 6.6754945 | H112: ='3.жеке-бардыгы болуп'!H112+'4.юрид-бардыгы болуп'!H112 -> 12599.4 | I112: =('3.жеке-бардыгы болуп'!H112*'3.жеке-бардыгы болуп'!I112+'4.юрид-бардыгы болуп'!H112*'4.юрид-бардыгы болуп'!I112)/('3.жеке-бардыгы болуп'!H112+'4.юрид-бардыгы болуп'!H112) -> 4.6357622 | J112: ='3.жеке-бардыгы болуп'!J112+'4.юрид-бардыгы болуп'!J112 -> 78786 | K112: =('3.жеке-бардыгы болуп'!J112*'3.жеке-бардыгы болуп'!K112+'4.юрид-бардыгы болуп'!J112*'4.юрид-бардыгы болуп'!K112)/('3.жеке-бардыгы болуп'!J112+'4.юрид-бардыгы болуп'!J112) -> 4.9885981 | L112: ='3.жеке-бардыгы болуп'!L112+'4.юрид-бардыгы болуп'!L112 -> 46124.5 | M112: =('3.жеке-бардыгы болуп'!L112*'3.жеке-бардыгы болуп'!M112+'4.юрид-бардыгы болуп'!L112*'4.юрид-бардыгы болуп'!M112)/('3.жеке-бардыгы болуп'!L112+'4.юрид-бардыгы болуп'!L112) -> 5.9439689 | N112: ='3.жеке-бардыгы болуп'!N112+'4.юрид-бардыгы болуп'!N112 -> 44731.9 | O112: =('3.жеке-бардыгы болуп'!N112*'3.жеке-бардыгы болуп'!O112+'4.юрид-бардыгы болуп'!N112*'4.юрид-бардыгы болуп'!O112)/('3.жеке-бардыгы болуп'!N112+'4.юрид-бардыгы болуп'!N112) -> 9.9050951 | P112: ='3.жеке-бардыгы болуп'!P112+'4.юрид-бардыгы болуп'!P112 -> 140601.8 | Q112: =('3.жеке-бардыгы болуп'!P112*'3.жеке-бардыгы болуп'!Q112+'4.юрид-бардыгы болуп'!P112*'4.юрид-бардыгы болуп'!Q112)/('3.жеке-бардыгы болуп'!P112+'4.юрид-бардыгы болуп'!P112) -> 7.0160186
A113: Аяк оона | B113: ='3.жеке-бардыгы болуп'!B113+'4.юрид-бардыгы болуп'!B113 -> 11792089 | C113: =('3.жеке-бардыгы болуп'!B113*'3.жеке-бардыгы болуп'!C113+'4.юрид-бардыгы болуп'!B113*'4.юрид-бардыгы болуп'!C113)/('3.жеке-бардыгы болуп'!B113+'4.юрид-бардыгы болуп'!B113) -> 0.32325857 | D113: ='3.жеке-бардыгы болуп'!D113+'4.юрид-бардыгы болуп'!D113 -> 11298965 | E113: =('3.жеке-бардыгы болуп'!D113*'3.жеке-бардыгы болуп'!E113+'4.юрид-бардыгы болуп'!D113*'4.юрид-бардыгы болуп'!E113)/('3.жеке-бардыгы болуп'!D113+'4.юрид-бардыгы болуп'!D113) -> 0.082070654 | F113: =H113+J113+L113+N113+P113+R113 -> 493124.5 | G113: =(H113*I113+J113*K113+L113*M113+N113*O113+P113*Q113+R113*S113)/(H113+J113+L113+N113+P113+R113) -> 5.8495987 | H113: ='3.жеке-бардыгы болуп'!H113+'4.юрид-бардыгы болуп'!H113 -> 109492.5 | I113: =('3.жеке-бардыгы болуп'!H113*'3.жеке-бардыгы болуп'!I113+'4.юрид-бардыгы болуп'!H113*'4.юрид-бардыгы болуп'!I113)/('3.жеке-бардыгы болуп'!H113+'4.юрид-бардыгы болуп'!H113) -> 2.6485366 | J113: ='3.жеке-бардыгы болуп'!J113+'4.юрид-бардыгы болуп'!J113 -> 72538.7 | K113: =('3.жеке-бардыгы болуп'!J113*'3.жеке-бардыгы болуп'!K113+'4.юрид-бардыгы болуп'!J113*'4.юрид-бардыгы болуп'!K113)/('3.жеке-бардыгы болуп'!J113+'4.юрид-бардыгы болуп'!J113) -> 3.8736384 | L113: ='3.жеке-бардыгы болуп'!L113+'4.юрид-бардыгы болуп'!L113 -> 47898.2 | M113: =('3.жеке-бардыгы болуп'!L113*'3.жеке-бардыгы болуп'!M113+'4.юрид-бардыгы болуп'!L113*'4.юрид-бардыгы болуп'!M113)/('3.жеке-бардыгы болуп'!L113+'4.юрид-бардыгы болуп'!L113) -> 8.6470853 | N113: ='3.жеке-бардыгы болуп'!N113+'4.юрид-бардыгы болуп'!N113 -> 59130.2 | O113: =('3.жеке-бардыгы болуп'!N113*'3.жеке-бардыгы болуп'!O113+'4.юрид-бардыгы болуп'!N113*'4.юрид-бардыгы болуп'!O113)/('3.жеке-бардыгы болуп'!N113+'4.юрид-бардыгы болуп'!N113) -> 7.8887279 | P113: ='3.жеке-бардыгы болуп'!P113+'4.юрид-бардыгы болуп'!P113 -> 140941.6 | Q113: =('3.жеке-бардыгы болуп'!P113*'3.жеке-бардыгы болуп'!Q113+'4.юрид-бардыгы болуп'!P113*'4.юрид-бардыгы болуп'!Q113)/('3.жеке-бардыгы болуп'!P113+'4.юрид-бардыгы болуп'!P113) -> 10.166987 | R113: ='3.жеке-бардыгы болуп'!R113+'4.юрид-бардыгы болуп'!R113 -> 63123.3 | S113: =('3.жеке-бардыгы болуп'!R113*'3.жеке-бардыгы болуп'!S113+'4.юрид-бардыгы болуп'!R113*'4.юрид-бардыгы болуп'!S113)/('3.жеке-бардыгы болуп'!R113+'4.юрид-бардыгы болуп'!R113) -> 5.7031239e-05
A114: Тогуздун айы | B114: ='3.жеке-бардыгы болуп'!B114+'4.юрид-бардыгы болуп'!B114 -> 12491343 | C114: =('3.жеке-бардыгы болуп'!B114*'3.жеке-бардыгы болуп'!C114+'4.юрид-бардыгы болуп'!B114*'4.юрид-бардыгы болуп'!C114)/('3.жеке-бардыгы болуп'!B114+'4.юрид-бардыгы болуп'!B114) -> 0.44789463 | D114: ='3.жеке-бардыгы болуп'!D114+'4.юрид-бардыгы болуп'!D114 -> 11645180 | E114: =('3.жеке-бардыгы болуп'!D114*'3.жеке-бардыгы болуп'!E114+'4.юрид-бардыгы болуп'!D114*'4.юрид-бардыгы болуп'!E114)/('3.жеке-бардыгы болуп'!D114+'4.юрид-бардыгы болуп'!D114) -> 0.10094098 | F114: =H114+J114+L114+N114+P114+R114 -> 846163.2 | G114: =(H114*I114+J114*K114+L114*M114+N114*O114+P114*Q114+R114*S114)/(H114+J114+L114+N114+P114+R114) -> 5.2227864 | H114: ='3.жеке-бардыгы болуп'!H114+'4.юрид-бардыгы болуп'!H114 -> 167684.8 | I114: =('3.жеке-бардыгы болуп'!H114*'3.жеке-бардыгы болуп'!I114+'4.юрид-бардыгы болуп'!H114*'4.юрид-бардыгы болуп'!I114)/('3.жеке-бардыгы болуп'!H114+'4.юрид-бардыгы болуп'!H114) -> 1.6953882 | J114: ='3.жеке-бардыгы болуп'!J114+'4.юрид-бардыгы болуп'!J114 -> 170073.4 | K114: =('3.жеке-бардыгы болуп'!J114*'3.жеке-бардыгы болуп'!K114+'4.юрид-бардыгы болуп'!J114*'4.юрид-бардыгы болуп'!K114)/('3.жеке-бардыгы болуп'!J114+'4.юрид-бардыгы болуп'!J114) -> 3.2894521 | L114: ='3.жеке-бардыгы болуп'!L114+'4.юрид-бардыгы болуп'!L114 -> 166610.6 | M114: =('3.жеке-бардыгы болуп'!L114*'3.жеке-бардыгы болуп'!M114+'4.юрид-бардыгы болуп'!L114*'4.юрид-бардыгы болуп'!M114)/('3.жеке-бардыгы болуп'!L114+'4.юрид-бардыгы болуп'!L114) -> 5.9496984 | N114: ='3.жеке-бардыгы болуп'!N114+'4.юрид-бардыгы болуп'!N114 -> 106012.2 | O114: =('3.жеке-бардыгы болуп'!N114*'3.жеке-бардыгы болуп'!O114+'4.юрид-бардыгы болуп'!N114*'4.юрид-бардыгы болуп'!O114)/('3.жеке-бардыгы болуп'!N114+'4.юрид-бардыгы болуп'!N114) -> 7.388982 | P114: ='3.жеке-бардыгы болуп'!P114+'4.юрид-бардыгы болуп'!P114 -> 235781.7 | Q114: =('3.жеке-бардыгы болуп'!P114*'3.жеке-бардыгы болуп'!Q114+'4.юрид-бардыгы болуп'!P114*'4.юрид-бардыгы болуп'!Q114)/('3.жеке-бардыгы болуп'!P114+'4.юрид-бардыгы болуп'!P114) -> 7.6383343 | R114: ='3.жеке-бардыгы болуп'!R114+'4.юрид-бардыгы болуп'!R114 -> 0.5 | S114: =('3.жеке-бардыгы болуп'!R114*'3.жеке-бардыгы болуп'!S114+'4.юрид-бардыгы болуп'!R114*'4.юрид-бардыгы болуп'!S114)/('3.жеке-бардыгы болуп'!R114+'4.юрид-бардыгы болуп'!R114) -> 12
A115: Жетинин айы | B115: ='3.жеке-бардыгы болуп'!B115+'4.юрид-бардыгы болуп'!B115 -> 13252588 | C115: =('3.жеке-бардыгы болуп'!B115*'3.жеке-бардыгы болуп'!C115+'4.юрид-бардыгы болуп'!B115*'4.юрид-бардыгы болуп'!C115)/('3.жеке-бардыгы болуп'!B115+'4.юрид-бардыгы болуп'!B115) -> 0.17619582 | D115: ='3.жеке-бардыгы болуп'!D115+'4.юрид-бардыгы болуп'!D115 -> 12848765 | E115: =('3.жеке-бардыгы болуп'!D115*'3.жеке-бардыгы болуп'!E115+'4.юрид-бардыгы болуп'!D115*'4.юрид-бардыгы болуп'!E115)/('3.жеке-бардыгы болуп'!D115+'4.юрид-бардыгы болуп'!D115) -> 0.01375013 | F115: =H115+J115+L115+N115+P115+R115 -> 403822.6 | G115: =(H115*I115+J115*K115+L115*M115+N115*O115+P115*Q115+R115*S115)/(H115+J115+L115+N115+P115+R115) -> 5.3448677 | H115: ='3.жеке-бардыгы болуп'!H115+'4.юрид-бардыгы болуп'!H115 -> 125485.1 | I115: =('3.жеке-бардыгы болуп'!H115*'3.жеке-бардыгы болуп'!I115+'4.юрид-бардыгы болуп'!H115*'4.юрид-бардыгы болуп'!I115)/('3.жеке-бардыгы болуп'!H115+'4.юрид-бардыгы болуп'!H115) -> 2.7670497 | J115: ='3.жеке-бардыгы болуп'!J115+'4.юрид-бардыгы болуп'!J115 -> 74452.1 | K115: =('3.жеке-бардыгы болуп'!J115*'3.жеке-бардыгы болуп'!K115+'4.юрид-бардыгы болуп'!J115*'4.юрид-бардыгы болуп'!K115)/('3.жеке-бардыгы болуп'!J115+'4.юрид-бардыгы болуп'!J115) -> 3.965842 | L115: ='3.жеке-бардыгы болуп'!L115+'4.юрид-бардыгы болуп'!L115 -> 58535 | M115: =('3.жеке-бардыгы болуп'!L115*'3.жеке-бардыгы болуп'!M115+'4.юрид-бардыгы болуп'!L115*'4.юрид-бардыгы болуп'!M115)/('3.жеке-бардыгы болуп'!L115+'4.юрид-бардыгы болуп'!L115) -> 6.0870633 | N115: ='3.жеке-бардыгы болуп'!N115+'4.юрид-бардыгы болуп'!N115 -> 44649.3 | O115: =('3.жеке-бардыгы болуп'!N115*'3.жеке-бардыгы болуп'!O115+'4.юрид-бардыгы болуп'!N115*'4.юрид-бардыгы болуп'!O115)/('3.жеке-бардыгы болуп'!N115+'4.юрид-бардыгы болуп'!N115) -> 9.5076702 | P115: ='3.жеке-бардыгы болуп'!P115+'4.юрид-бардыгы болуп'!P115 -> 100700.8 | Q115: =('3.жеке-бардыгы болуп'!P115*'3.жеке-бардыгы болуп'!Q115+'4.юрид-бардыгы болуп'!P115*'4.юрид-бардыгы болуп'!Q115)/('3.жеке-бардыгы болуп'!P115+'4.юрид-бардыгы болуп'!P115) -> 7.2995341 | R115: ='3.жеке-бардыгы болуп'!R115+'4.юрид-бардыгы болуп'!R115 -> 0.3 | S115: =('3.жеке-бардыгы болуп'!R115*'3.жеке-бардыгы болуп'!S115+'4.юрид-бардыгы болуп'!R115*'4.юрид-бардыгы болуп'!S115)/('3.жеке-бардыгы болуп'!R115+'4.юрид-бардыгы болуп'!R115) -> 12
A116: Бештин айы | B116: ='3.жеке-бардыгы болуп'!B116+'4.юрид-бардыгы болуп'!B116 -> 14854000 | C116: =('3.жеке-бардыгы болуп'!B116*'3.жеке-бардыгы болуп'!C116+'4.юрид-бардыгы болуп'!B116*'4.юрид-бардыгы болуп'!C116)/('3.жеке-бардыгы болуп'!B116+'4.юрид-бардыгы болуп'!B116) -> 0.24472759 | D116: ='3.жеке-бардыгы болуп'!D116+'4.юрид-бардыгы болуп'!D116 -> 14154988 | E116: =('3.жеке-бардыгы болуп'!D116*'3.жеке-бардыгы болуп'!E116+'4.юрид-бардыгы болуп'!D116*'4.юрид-бардыгы болуп'!E116)/('3.жеке-бардыгы болуп'!D116+'4.юрид-бардыгы болуп'!D116) -> 0.017533398 | F116: =H116+J116+L116+N116+P116+R116 -> 699012 | G116: =(H116*I116+J116*K116+L116*M116+N116*O116+P116*Q116+R116*S116)/(H116+J116+L116+N116+P116+R116) -> 4.8454082 | H116: ='3.жеке-бардыгы болуп'!H116+'4.юрид-бардыгы болуп'!H116 -> 158887.9 | I116: =('3.жеке-бардыгы болуп'!H116*'3.жеке-бардыгы болуп'!I116+'4.юрид-бардыгы болуп'!H116*'4.юрид-бардыгы болуп'!I116)/('3.жеке-бардыгы болуп'!H116+'4.юрид-бардыгы болуп'!H116) -> 2.46083 | J116: ='3.жеке-бардыгы болуп'!J116+'4.юрид-бардыгы болуп'!J116 -> 126142.6 | K116: =('3.жеке-бардыгы болуп'!J116*'3.жеке-бардыгы болуп'!K116+'4.юрид-бардыгы болуп'!J116*'4.юрид-бардыгы болуп'!K116)/('3.жеке-бардыгы болуп'!J116+'4.юрид-бардыгы болуп'!J116) -> 3.8065781 | L116: ='3.жеке-бардыгы болуп'!L116+'4.юрид-бардыгы болуп'!L116 -> 66566.5 | M116: =('3.жеке-бардыгы болуп'!L116*'3.жеке-бардыгы болуп'!M116+'4.юрид-бардыгы болуп'!L116*'4.юрид-бардыгы болуп'!M116)/('3.жеке-бардыгы болуп'!L116+'4.юрид-бардыгы болуп'!L116) -> 7.5456316 | N116: ='3.жеке-бардыгы болуп'!N116+'4.юрид-бардыгы болуп'!N116 -> 58228.8 | O116: =('3.жеке-бардыгы болуп'!N116*'3.жеке-бардыгы болуп'!O116+'4.юрид-бардыгы болуп'!N116*'4.юрид-бардыгы болуп'!O116)/('3.жеке-бардыгы болуп'!N116+'4.юрид-бардыгы болуп'!N116) -> 8.9746048 | P116: ='3.жеке-бардыгы болуп'!P116+'4.юрид-бардыгы болуп'!P116 -> 227720.7 | Q116: =('3.жеке-бардыгы болуп'!P116*'3.жеке-бардыгы болуп'!Q116+'4.юрид-бардыгы болуп'!P116*'4.юрид-бардыгы болуп'!Q116)/('3.жеке-бардыгы болуп'!P116+'4.юрид-бардыгы болуп'!P116) -> 6.5471357 | R116: ='3.жеке-бардыгы болуп'!R116+'4.юрид-бардыгы болуп'!R116 -> 61465.5 | S116: =('3.жеке-бардыгы болуп'!R116*'3.жеке-бардыгы болуп'!S116+'4.юрид-бардыгы болуп'!R116*'4.юрид-бардыгы болуп'!S116)/('3.жеке-бардыгы болуп'!R116+'4.юрид-бардыгы болуп'!R116) -> 0.00074187959
A117: Үчтүн айы 2005 ж. | B117: ='3.жеке-бардыгы болуп'!B117+'4.юрид-бардыгы болуп'!B117 -> 8854900.8 | C117: =('3.жеке-бардыгы болуп'!B117*'3.жеке-бардыгы болуп'!C117+'4.юрид-бардыгы болуп'!B117*'4.юрид-бардыгы болуп'!C117)/('3.жеке-бардыгы болуп'!B117+'4.юрид-бардыгы болуп'!B117) -> 0.49379472 | D117: ='3.жеке-бардыгы болуп'!D117+'4.юрид-бардыгы болуп'!D117 -> 7919923.9 | E117: =('3.жеке-бардыгы болуп'!D117*'3.жеке-бардыгы болуп'!E117+'4.юрид-бардыгы болуп'!D117*'4.юрид-бардыгы болуп'!E117)/('3.жеке-бардыгы болуп'!D117+'4.юрид-бардыгы болуп'!D117) -> 0.0111707 | F117: =H117+J117+L117+N117+P117+R117 -> 934976.9 | G117: =(H117*I117+J117*K117+L117*M117+N117*O117+P117*Q117+R117*S117)/(H117+J117+L117+N117+P117+R117) -> 4.5819658 | H117: ='3.жеке-бардыгы болуп'!H117+'4.юрид-бардыгы болуп'!H117 -> 126965.3 | I117: =('3.жеке-бардыгы болуп'!H117*'3.жеке-бардыгы болуп'!I117+'4.юрид-бардыгы болуп'!H117*'4.юрид-бардыгы болуп'!I117)/('3.жеке-бардыгы болуп'!H117+'4.юрид-бардыгы болуп'!H117) -> 3.6816516 | J117: ='3.жеке-бардыгы болуп'!J117+'4.юрид-бардыгы болуп'!J117 -> 72767.1 | K117: =('3.жеке-бардыгы болуп'!J117*'3.жеке-бардыгы болуп'!K117+'4.юрид-бардыгы болуп'!J117*'4.юрид-бардыгы болуп'!K117)/('3.жеке-бардыгы болуп'!J117+'4.юрид-бардыгы болуп'!J117) -> 4.0885152 | L117: ='3.жеке-бардыгы болуп'!L117+'4.юрид-бардыгы болуп'!L117 -> 111258.9 | M117: =('3.жеке-бардыгы болуп'!L117*'3.жеке-бардыгы болуп'!M117+'4.юрид-бардыгы болуп'!L117*'4.юрид-бардыгы болуп'!M117)/('3.жеке-бардыгы болуп'!L117+'4.юрид-бардыгы болуп'!L117) -> 9.3513869 | N117: ='3.жеке-бардыгы болуп'!N117+'4.юрид-бардыгы болуп'!N117 -> 50974.9 | O117: =('3.жеке-бардыгы болуп'!N117*'3.жеке-бардыгы болуп'!O117+'4.юрид-бардыгы болуп'!N117*'4.юрид-бардыгы болуп'!O117)/('3.жеке-бардыгы болуп'!N117+'4.юрид-бардыгы болуп'!N117) -> 9.2653579 | P117: ='3.жеке-бардыгы болуп'!P117+'4.юрид-бардыгы болуп'!P117 -> 573010.4 | Q117: =('3.жеке-бардыгы болуп'!P117*'3.жеке-бардыгы болуп'!Q117+'4.юрид-бардыгы болуп'!P117*'4.юрид-бардыгы болуп'!Q117)/('3.жеке-бардыгы болуп'!P117+'4.юрид-бардыгы болуп'!P117) -> 3.5014224 | R117: ='3.жеке-бардыгы болуп'!R117+'4.юрид-бардыгы болуп'!R117 -> 0.3 | S117: =('3.жеке-бардыгы болуп'!R117*'3.жеке-бардыгы болуп'!S117+'4.юрид-бардыгы болуп'!R117*'4.юрид-бардыгы болуп'!S117)/('3.жеке-бардыгы болуп'!R117+'4.юрид-бардыгы болуп'!R117) -> 12
A118: Бирдин айы | B118: ='3.жеке-бардыгы болуп'!B118+'4.юрид-бардыгы болуп'!B118 -> 10691606 | C118: =('3.жеке-бардыгы болуп'!B118*'3.жеке-бардыгы болуп'!C118+'4.юрид-бардыгы болуп'!B118*'4.юрид-бардыгы болуп'!C118)/('3.жеке-бардыгы болуп'!B118+'4.юрид-бардыгы болуп'!B118) -> 0.25187512 | D118: ='3.жеке-бардыгы болуп'!D118+'4.юрид-бардыгы болуп'!D118 -> 10345418 | E118: =('3.жеке-бардыгы болуп'!D118*'3.жеке-бардыгы болуп'!E118+'4.юрид-бардыгы болуп'!D118*'4.юрид-бардыгы болуп'!E118)/('3.жеке-бардыгы болуп'!D118+'4.юрид-бардыгы болуп'!D118) -> 0.0105407 | F118: =H118+J118+L118+N118+P118+R118 -> 346187.9 | G118: =(H118*I118+J118*K118+L118*M118+N118*O118+P118*Q118+R118*S118)/(H118+J118+L118+N118+P118+R118) -> 7.46387 | H118: ='3.жеке-бардыгы болуп'!H118+'4.юрид-бардыгы болуп'!H118 -> 11301.5 | I118: =('3.жеке-бардыгы болуп'!H118*'3.жеке-бардыгы болуп'!I118+'4.юрид-бардыгы болуп'!H118*'4.юрид-бардыгы болуп'!I118)/('3.жеке-бардыгы болуп'!H118+'4.юрид-бардыгы болуп'!H118) -> 1.4539355 | J118: ='3.жеке-бардыгы болуп'!J118+'4.юрид-бардыгы болуп'!J118 -> 77613.6 | K118: =('3.жеке-бардыгы болуп'!J118*'3.жеке-бардыгы болуп'!K118+'4.юрид-бардыгы болуп'!J118*'4.юрид-бардыгы болуп'!K118)/('3.жеке-бардыгы болуп'!J118+'4.юрид-бардыгы болуп'!J118) -> 3.4383263 | L118: ='3.жеке-бардыгы болуп'!L118+'4.юрид-бардыгы болуп'!L118 -> 79383.6 | M118: =('3.жеке-бардыгы болуп'!L118*'3.жеке-бардыгы болуп'!M118+'4.юрид-бардыгы болуп'!L118*'4.юрид-бардыгы болуп'!M118)/('3.жеке-бардыгы болуп'!L118+'4.юрид-бардыгы болуп'!L118) -> 6.2830775 | N118: ='3.жеке-бардыгы болуп'!N118+'4.юрид-бардыгы болуп'!N118 -> 66937.7 | O118: =('3.жеке-бардыгы болуп'!N118*'3.жеке-бардыгы болуп'!O118+'4.юрид-бардыгы болуп'!N118*'4.юрид-бардыгы болуп'!O118)/('3.жеке-бардыгы болуп'!N118+'4.юрид-бардыгы болуп'!N118) -> 8.7691556 | P118: ='3.жеке-бардыгы болуп'!P118+'4.юрид-бардыгы болуп'!P118 -> 110951.2 | Q118: =('3.жеке-бардыгы болуп'!P118*'3.жеке-бардыгы болуп'!Q118+'4.юрид-бардыгы болуп'!P118*'4.юрид-бардыгы болуп'!Q118)/('3.жеке-бардыгы болуп'!P118+'4.юрид-бардыгы болуп'!P118) -> 10.949363 | R118: ='3.жеке-бардыгы болуп'!R118+'4.юрид-бардыгы болуп'!R118 -> 0.3 | S118: =('3.жеке-бардыгы болуп'!R118*'3.жеке-бардыгы болуп'!S118+'4.юрид-бардыгы болуп'!R118*'4.юрид-бардыгы болуп'!S118)/('3.жеке-бардыгы болуп'!R118+'4.юрид-бардыгы болуп'!R118) -> 12
A119: Жалган куран | B119: ='3.жеке-бардыгы болуп'!B119+'4.юрид-бардыгы болуп'!B119 -> 12266439 | C119: =('3.жеке-бардыгы болуп'!B119*'3.жеке-бардыгы болуп'!C119+'4.юрид-бардыгы болуп'!B119*'4.юрид-бардыгы болуп'!C119)/('3.жеке-бардыгы болуп'!B119+'4.юрид-бардыгы болуп'!B119) -> 0.24162238 | D119: ='3.жеке-бардыгы болуп'!D119+'4.юрид-бардыгы болуп'!D119 -> 11398437 | E119: =('3.жеке-бардыгы болуп'!D119*'3.жеке-бардыгы болуп'!E119+'4.юрид-бардыгы болуп'!D119*'4.юрид-бардыгы болуп'!E119)/('3.жеке-бардыгы болуп'!D119+'4.юрид-бардыгы болуп'!D119) -> 0.012365061 | F119: =H119+J119+L119+N119+P119+R119 -> 868002.3 | G119: =(H119*I119+J119*K119+L119*M119+N119*O119+P119*Q119+R119*S119)/(H119+J119+L119+N119+P119+R119) -> 3.2521847 | H119: ='3.жеке-бардыгы болуп'!H119+'4.юрид-бардыгы болуп'!H119 -> 45700.2 | I119: =('3.жеке-бардыгы болуп'!H119*'3.жеке-бардыгы болуп'!I119+'4.юрид-бардыгы болуп'!H119*'4.юрид-бардыгы болуп'!I119)/('3.жеке-бардыгы болуп'!H119+'4.юрид-бардыгы болуп'!H119) -> 1.8096179 | J119: ='3.жеке-бардыгы болуп'!J119+'4.юрид-бардыгы болуп'!J119 -> 61349.7 | K119: =('3.жеке-бардыгы болуп'!J119*'3.жеке-бардыгы болуп'!K119+'4.юрид-бардыгы болуп'!J119*'4.юрид-бардыгы болуп'!K119)/('3.жеке-бардыгы болуп'!J119+'4.юрид-бардыгы болуп'!J119) -> 3.6129583 | L119: ='3.жеке-бардыгы болуп'!L119+'4.юрид-бардыгы болуп'!L119 -> 46623.7 | M119: =('3.жеке-бардыгы болуп'!L119*'3.жеке-бардыгы болуп'!M119+'4.юрид-бардыгы болуп'!L119*'4.юрид-бардыгы болуп'!M119)/('3.жеке-бардыгы болуп'!L119+'4.юрид-бардыгы болуп'!L119) -> 8.9453941 | N119: ='3.жеке-бардыгы болуп'!N119+'4.юрид-бардыгы болуп'!N119 -> 52957.4 | O119: =('3.жеке-бардыгы болуп'!N119*'3.жеке-бардыгы болуп'!O119+'4.юрид-бардыгы болуп'!N119*'4.юрид-бардыгы болуп'!O119)/('3.жеке-бардыгы болуп'!N119+'4.юрид-бардыгы болуп'!N119) -> 8.2707278 | P119: ='3.жеке-бардыгы болуп'!P119+'4.юрид-бардыгы болуп'!P119 -> 600759.9 | Q119: =('3.жеке-бардыгы болуп'!P119*'3.жеке-бардыгы болуп'!Q119+'4.юрид-бардыгы болуп'!P119*'4.юрид-бардыгы болуп'!Q119)/('3.жеке-бардыгы болуп'!P119+'4.юрид-бардыгы болуп'!P119) -> 2.7689624 | R119: ='3.жеке-бардыгы болуп'!R119+'4.юрид-бардыгы болуп'!R119 -> 60611.4 | S119: =('3.жеке-бардыгы болуп'!R119*'3.жеке-бардыгы болуп'!S119+'4.юрид-бардыгы болуп'!R119*'4.юрид-бардыгы болуп'!S119)/('3.жеке-бардыгы болуп'!R119+'4.юрид-бардыгы болуп'!R119) -> 7.9193023e-05
A120: Чын куран | B120: ='3.жеке-бардыгы болуп'!B120+'4.юрид-бардыгы болуп'!B120 -> 14580227 | C120: =('3.жеке-бардыгы болуп'!B120*'3.жеке-бардыгы болуп'!C120+'4.юрид-бардыгы болуп'!B120*'4.юрид-бардыгы болуп'!C120)/('3.жеке-бардыгы болуп'!B120+'4.юрид-бардыгы болуп'!B120) -> 0.24237296 | D120: ='3.жеке-бардыгы болуп'!D120+'4.юрид-бардыгы болуп'!D120 -> 14064667 | E120: =('3.жеке-бардыгы болуп'!D120*'3.жеке-бардыгы болуп'!E120+'4.юрид-бардыгы болуп'!D120*'4.юрид-бардыгы болуп'!E120)/('3.жеке-бардыгы болуп'!D120+'4.юрид-бардыгы болуп'!D120) -> 0.011872425 | F120: =H120+J120+L120+N120+P120+R120 -> 515559.9 | G120: =(H120*I120+J120*K120+L120*M120+N120*O120+P120*Q120+R120*S120)/(H120+J120+L120+N120+P120+R120) -> 6.5305139 | H120: ='3.жеке-бардыгы болуп'!H120+'4.юрид-бардыгы болуп'!H120 -> 20816.6 | I120: =('3.жеке-бардыгы болуп'!H120*'3.жеке-бардыгы болуп'!I120+'4.юрид-бардыгы болуп'!H120*'4.юрид-бардыгы болуп'!I120)/('3.жеке-бардыгы болуп'!H120+'4.юрид-бардыгы болуп'!H120) -> 2.2293516 | J120: ='3.жеке-бардыгы болуп'!J120+'4.юрид-бардыгы болуп'!J120 -> 161651 | K120: =('3.жеке-бардыгы болуп'!J120*'3.жеке-бардыгы болуп'!K120+'4.юрид-бардыгы болуп'!J120*'4.юрид-бардыгы болуп'!K120)/('3.жеке-бардыгы болуп'!J120+'4.юрид-бардыгы болуп'!J120) -> 3.8577046 | L120: ='3.жеке-бардыгы болуп'!L120+'4.юрид-бардыгы болуп'!L120 -> 60442.6 | M120: =('3.жеке-бардыгы болуп'!L120*'3.жеке-бардыгы болуп'!M120+'4.юрид-бардыгы болуп'!L120*'4.юрид-бардыгы болуп'!M120)/('3.жеке-бардыгы болуп'!L120+'4.юрид-бардыгы болуп'!L120) -> 6.9732468 | N120: ='3.жеке-бардыгы болуп'!N120+'4.юрид-бардыгы болуп'!N120 -> 65064.7 | O120: =('3.жеке-бардыгы болуп'!N120*'3.жеке-бардыгы болуп'!O120+'4.юрид-бардыгы болуп'!N120*'4.юрид-бардыгы болуп'!O120)/('3.жеке-бардыгы болуп'!N120+'4.юрид-бардыгы болуп'!N120) -> 10.160284 | P120: ='3.жеке-бардыгы болуп'!P120+'4.юрид-бардыгы болуп'!P120 -> 207584.7 | Q120: =('3.жеке-бардыгы болуп'!P120*'3.жеке-бардыгы болуп'!Q120+'4.юрид-бардыгы болуп'!P120*'4.юрид-бардыгы болуп'!Q120)/('3.жеке-бардыгы болуп'!P120+'4.юрид-бардыгы болуп'!P120) -> 7.7765902 | R120: ='3.жеке-бардыгы болуп'!R120+'4.юрид-бардыгы болуп'!R120 -> 0.3 | S120: =('3.жеке-бардыгы болуп'!R120*'3.жеке-бардыгы болуп'!S120+'4.юрид-бардыгы болуп'!R120*'4.юрид-бардыгы болуп'!S120)/('3.жеке-бардыгы болуп'!R120+'4.юрид-бардыгы болуп'!R120) -> 12
A121: Бугу | B121: ='3.жеке-бардыгы болуп'!B121+'4.юрид-бардыгы болуп'!B121 -> 9694579.6 | C121: =('3.жеке-бардыгы болуп'!B121*'3.жеке-бардыгы болуп'!C121+'4.юрид-бардыгы болуп'!B121*'4.юрид-бардыгы болуп'!C121)/('3.жеке-бардыгы болуп'!B121+'4.юрид-бардыгы болуп'!B121) -> 0.21343434 | D121: ='3.жеке-бардыгы болуп'!D121+'4.юрид-бардыгы болуп'!D121 -> 9402590.5 | E121: =('3.жеке-бардыгы болуп'!D121*'3.жеке-бардыгы болуп'!E121+'4.юрид-бардыгы болуп'!D121*'4.юрид-бардыгы болуп'!E121)/('3.жеке-бардыгы болуп'!D121+'4.юрид-бардыгы болуп'!D121) -> 0.021996625 | F121: =H121+J121+L121+N121+P121+R121 -> 291989.1 | G121: =(H121*I121+J121*K121+L121*M121+N121*O121+P121*Q121+R121*S121)/(H121+J121+L121+N121+P121+R121) -> 6.3780839 | H121: ='3.жеке-бардыгы болуп'!H121+'4.юрид-бардыгы болуп'!H121 -> 8355.5 | I121: =('3.жеке-бардыгы болуп'!H121*'3.жеке-бардыгы болуп'!I121+'4.юрид-бардыгы болуп'!H121*'4.юрид-бардыгы болуп'!I121)/('3.жеке-бардыгы болуп'!H121+'4.юрид-бардыгы болуп'!H121) -> 2.0156049 | J121: ='3.жеке-бардыгы болуп'!J121+'4.юрид-бардыгы болуп'!J121 -> 156424.3 | K121: =('3.жеке-бардыгы болуп'!J121*'3.жеке-бардыгы болуп'!K121+'4.юрид-бардыгы болуп'!J121*'4.юрид-бардыгы болуп'!K121)/('3.жеке-бардыгы болуп'!J121+'4.юрид-бардыгы болуп'!J121) -> 4.0853234 | L121: ='3.жеке-бардыгы болуп'!L121+'4.юрид-бардыгы болуп'!L121 -> 47757.5 | M121: =('3.жеке-бардыгы болуп'!L121*'3.жеке-бардыгы болуп'!M121+'4.юрид-бардыгы болуп'!L121*'4.юрид-бардыгы болуп'!M121)/('3.жеке-бардыгы болуп'!L121+'4.юрид-бардыгы болуп'!L121) -> 7.3367781 | N121: ='3.жеке-бардыгы болуп'!N121+'4.юрид-бардыгы болуп'!N121 -> 41156.1 | O121: =('3.жеке-бардыгы болуп'!N121*'3.жеке-бардыгы болуп'!O121+'4.юрид-бардыгы болуп'!N121*'4.юрид-бардыгы болуп'!O121)/('3.жеке-бардыгы болуп'!N121+'4.юрид-бардыгы болуп'!N121) -> 9.8158445 | P121: ='3.жеке-бардыгы болуп'!P121+'4.юрид-бардыгы болуп'!P121 -> 38169 | Q121: =('3.жеке-бардыгы болуп'!P121*'3.жеке-бардыгы болуп'!Q121+'4.юрид-бардыгы болуп'!P121*'4.юрид-бардыгы болуп'!Q121)/('3.жеке-бардыгы болуп'!P121+'4.юрид-бардыгы болуп'!P121) -> 11.810911 | R121: ='3.жеке-бардыгы болуп'!R121+'4.юрид-бардыгы болуп'!R121 -> 126.7 | S121: =('3.жеке-бардыгы болуп'!R121*'3.жеке-бардыгы болуп'!S121+'4.юрид-бардыгы болуп'!R121*'4.юрид-бардыгы болуп'!S121)/('3.жеке-бардыгы болуп'!R121+'4.юрид-бардыгы болуп'!R121) -> 10
A122: Кулжа | B122: ='3.жеке-бардыгы болуп'!B122+'4.юрид-бардыгы болуп'!B122 -> 7806894.1 | C122: =('3.жеке-бардыгы болуп'!B122*'3.жеке-бардыгы болуп'!C122+'4.юрид-бардыгы болуп'!B122*'4.юрид-бардыгы болуп'!C122)/('3.жеке-бардыгы болуп'!B122+'4.юрид-бардыгы болуп'!B122) -> 0.27343483 | D122: ='3.жеке-бардыгы болуп'!D122+'4.юрид-бардыгы болуп'!D122 -> 7354716.5 | E122: =('3.жеке-бардыгы болуп'!D122*'3.жеке-бардыгы болуп'!E122+'4.юрид-бардыгы болуп'!D122*'4.юрид-бардыгы болуп'!E122)/('3.жеке-бардыгы болуп'!D122+'4.юрид-бардыгы болуп'!D122) -> 0.025249469 | F122: =H122+J122+L122+N122+P122+R122 -> 452177.6 | G122: =(H122*I122+J122*K122+L122*M122+N122*O122+P122*Q122+R122*S122)/(H122+J122+L122+N122+P122+R122) -> 4.310196 | H122: ='3.жеке-бардыгы болуп'!H122+'4.юрид-бардыгы болуп'!H122 -> 27077.8 | I122: =('3.жеке-бардыгы болуп'!H122*'3.жеке-бардыгы болуп'!I122+'4.юрид-бардыгы болуп'!H122*'4.юрид-бардыгы болуп'!I122)/('3.жеке-бардыгы болуп'!H122+'4.юрид-бардыгы болуп'!H122) -> 1.3579043 | J122: ='3.жеке-бардыгы болуп'!J122+'4.юрид-бардыгы болуп'!J122 -> 195918.2 | K122: =('3.жеке-бардыгы болуп'!J122*'3.жеке-бардыгы болуп'!K122+'4.юрид-бардыгы болуп'!J122*'4.юрид-бардыгы болуп'!K122)/('3.жеке-бардыгы болуп'!J122+'4.юрид-бардыгы болуп'!J122) -> 2.4382082 | L122: ='3.жеке-бардыгы болуп'!L122+'4.юрид-бардыгы болуп'!L122 -> 84742.9 | M122: =('3.жеке-бардыгы болуп'!L122*'3.жеке-бардыгы болуп'!M122+'4.юрид-бардыгы болуп'!L122*'4.юрид-бардыгы болуп'!M122)/('3.жеке-бардыгы болуп'!L122+'4.юрид-бардыгы болуп'!L122) -> 7.4365878 | N122: ='3.жеке-бардыгы болуп'!N122+'4.юрид-бардыгы болуп'!N122 -> 40310.5 | O122: =('3.жеке-бардыгы болуп'!N122*'3.жеке-бардыгы болуп'!O122+'4.юрид-бардыгы болуп'!N122*'4.юрид-бардыгы болуп'!O122)/('3.жеке-бардыгы болуп'!N122+'4.юрид-бардыгы болуп'!N122) -> 8.6228722 | P122: ='3.жеке-бардыгы болуп'!P122+'4.юрид-бардыгы болуп'!P122 -> 44364.9 | Q122: =('3.жеке-бардыгы болуп'!P122*'3.жеке-бардыгы болуп'!Q122+'4.юрид-бардыгы болуп'!P122*'4.юрид-бардыгы болуп'!Q122)/('3.жеке-бардыгы болуп'!P122+'4.юрид-бардыгы болуп'!P122) -> 10.294677 | R122: ='3.жеке-бардыгы болуп'!R122+'4.юрид-бардыгы болуп'!R122 -> 59763.3 | S122: =('3.жеке-бардыгы болуп'!R122*'3.жеке-бардыгы болуп'!S122+'4.юрид-бардыгы болуп'!R122*'4.юрид-бардыгы болуп'!S122)/('3.жеке-бардыгы болуп'!R122+'4.юрид-бардыгы болуп'!R122) -> 5.0198031e-05
