Workbook

Sheet 1.жалпы депозиттер
A1: Статистика / "Банк статистикасы" / "Коммерциялык банктар тарабынан жаңыдан кабыл алынган депозиттер, бир мезгил ичинде"
A3: 1-таблица. Иштеп жаткан коммерциялык банктар тарабынан жаңыдан кабыл алынган депозиттердин динамикасы
A5: (миң сом / пайыздар)
A6: Мезгил аралыгы | B6: Жалпы көлөм | C6: Орточо салмактанып алынган чендер | D6: анын ичинде:
D7: улуттук валютасында | F7: чет өлкө валютасында
D8: көлөм | E8: орточо салмактанып алынган чендер | F8: көлөм | G8: орточо салмактанып алынган чендер
A9: Үчтүн айы 1996 ж. | B9: ='2.жалпы мөөнөт'!B9 -> 44120.1 | C9: ='2.жалпы мөөнөт'!C9 -> 30.051715 | D9: ='6.улут.вал.мөөнөт'!B9 -> 34495.6 | E9: ='6.улут.вал.мөөнөт'!C9 -> 32.269946 | F9: ='10.чет өл.вал.мөөнөт'!B9 -> 9624.5 | G9: ='10.чет өл.вал.мөөнөт'!C9 -> 22.101252
A10: Бирдин айы | B10: ='2.жалпы мөөнөт'!B10 -> 44864.9 | C10: ='2.жалпы мөөнөт'!C10 -> 29.080911 | D10: ='6.улут.вал.мөөнөт'!B10 -> 35005.7 | E10: ='6.улут.вал.мөөнөт'!C10 -> 30.598378 | F10: ='10.чет өл.вал.мөөнөт'!B10 -> 9859.2 | G10: ='10.чет өл.вал.мөөнөт'!C10 -> 23.693052
A11: Жалган куран | B11: ='2.жалпы мөөнөт'!B11 -> 47498.9 | C11: ='2.жалпы мөөнөт'!C11 -> 26.537801 | D11: ='6.улут.вал.мөөнөт'!B11 -> 31495.5 | E11: ='6.улут.вал.мөөнөт'!C11 -> 28.254392 | F11: ='10.чет өл.вал.мөөнөт'!B11 -> 16003.4 | G11: ='10.чет өл.вал.мөөнөт'!C11 -> 23.159463
A12: Чын куран | B12: ='2.жалпы мөөнөт'!B12 -> 51267.3 | C12: ='2.жалпы мөөнөт'!C12 -> 26.000049 | D12: ='6.улут.вал.мөөнөт'!B12 -> 35798.9 | E12: ='6.улут.вал.мөөнөт'!C12 -> 29.333887 | F12: ='10.чет өл.вал.мөөнөт'!B12 -> 15468.4 | G12: ='10.чет өл.вал.мөөнөт'!C12 -> 18.284466
A13: Бугу | B13: ='2.жалпы мөөнөт'!B13 -> 60538.8 | C13: ='2.жалпы мөөнөт'!C13 -> 27.689793 | D13: ='6.улут.вал.мөөнөт'!B13 -> 43233.9 | E13: ='6.улут.вал.мөөнөт'!C13 -> 32.05947 | F13: ='10.чет өл.вал.мөөнөт'!B13 -> 17304.9 | G13: ='10.чет өл.вал.мөөнөт'!C13 -> 16.772758
A14: Кулжа | B14: ='2.жалпы мөөнөт'!B14 -> 50133.5 | C14: ='2.жалпы мөөнөт'!C14 -> 22.57934 | D14: ='6.улут.вал.мөөнөт'!B14 -> 20848.8 | E14: ='6.улут.вал.мөөнөт'!C14 -> 30.84791 | F14: ='10.чет өл.вал.мөөнөт'!B14 -> 29284.7 | G14: ='10.чет өл.вал.мөөнөт'!C14 -> 16.692656
A15: Теке | B15: ='2.жалпы мөөнөт'!B15 -> 50764.3 | C15: ='2.жалпы мөөнөт'!C15 -> 24.129365 | D15: ='6.улут.вал.мөөнөт'!B15 -> 33992.2 | E15: ='6.улут.вал.мөөнөт'!C15 -> 30.36971 | F15: ='10.чет өл.вал.мөөнөт'!B15 -> 16772.1 | G15: ='10.чет өл.вал.мөөнөт'!C15 -> 11.481989
A16: Баш оона | B16: ='2.жалпы мөөнөт'!B16 -> 84460.6 | C16: ='2.жалпы мөөнөт'!C16 -> 18.738324 | D16: ='6.улут.вал.мөөнөт'!B16 -> 29397.7 | E16: ='6.улут.вал.мөөнөт'!C16 -> 32.652997 | F16: ='10.чет өл.вал.мөөнөт'!B16 -> 55062.9 | G16: ='10.чет өл.вал.мөөнөт'!C16 -> 11.309377
A17: Аяк оона | B17: ='2.жалпы мөөнөт'!B17 -> 60079.8 | C17: ='2.жалпы мөөнөт'!C17 -> 25.757067 | D17: ='6.улут.вал.мөөнөт'!B17 -> 31982.7 | E17: ='6.улут.вал.мөөнөт'!C17 -> 32.981176 | F17: ='10.чет өл.вал.мөөнөт'!B17 -> 28097.1 | G17: ='10.чет өл.вал.мөөнөт'!C17 -> 17.533922
A18: Тогуздун айы | B18: ='2.жалпы мөөнөт'!B18 -> 90226.5 | C18: ='2.жалпы мөөнөт'!C18 -> 24.966312 | D18: ='6.улут.вал.мөөнөт'!B18 -> 44505.9 | E18: ='6.улут.вал.мөөнөт'!C18 -> 38.831866 | F18: ='10.чет өл.вал.мөөнөт'!B18 -> 45720.6 | G18: ='10.чет өл.вал.мөөнөт'!C18 -> 11.469137
A19: Жетинин айы | B19: ='2.жалпы мөөнөт'!B19 -> 77709.3 | C19: ='2.жалпы мөөнөт'!C19 -> 21.521011 | D19: ='6.улут.вал.мөөнөт'!B19 -> 47523.2 | E19: ='6.улут.вал.мөөнөт'!C19 -> 25.520296 | F19: ='10.чет өл.вал.мөөнөт'!B19 -> 30186.1 | G19: ='10.чет өл.вал.мөөнөт'!C19 -> 15.224774
A20: Бештин айы | B20: ='2.жалпы мөөнөт'!B20 -> 69039.9 | C20: ='2.жалпы мөөнөт'!C20 -> 20.399741 | D20: ='6.улут.вал.мөөнөт'!B20 -> 39096.3 | E20: ='6.улут.вал.мөөнөт'!C20 -> 24.757752 | F20: ='10.чет өл.вал.мөөнөт'!B20 -> 29943.6 | G20: ='10.чет өл.вал.мөөнөт'!C20 -> 14.70964
... A380: Бештин айы | B380: ='2.жалпы мөөнөт'!B380 -> 0 | C380: ='2.жалпы мөөнөт'!C380 -> #DIV/0! | D380: ='6.улут.вал.мөөнөт'!B380 -> 0 | E380: ='6.улут.вал.мөөнөт'!C380 -> #DIV/0! | F380: ='10.чет өл.вал.мөөнөт'!B380 -> 0 | G380: ='10.чет өл.вал.мөөнөт'!C380 -> #DIV/0!
A381: *- алдын ала алынган маалыматтар

Sheet 2.жалпы мөөнөт
A1: Статистика / "Банк статистикасы" / "Коммерциялык банктар тарабынан жаңыдан кабыл алынган депозиттер, бир мезгил ичинде"
A3: 2-таблица. Коммерциялык банктардын жаңыдан кабыл алынган депозиттеринин жалпы көлөмү жана орточо салмактанып алынган пайыздык чендери (бир мезгил ичинде)*
A5: (миң сом / пайыздар)
A6: Мезгил аралыгы | B6: Жалпы көлөм | C6: Орточо салмактанып алынган чендер | D6: Талап боюнча төлөнүүчү | F6: Мөөнөттүү депозиттер | H6: анын ичинде, мөөнөттөрү боюнча:
H7: 0 - 1 айга | J7: 1 - 3 айга | L7: 3 - 6 айга | N7: 6 - 12 айга | P7: 1 - 3 жыл | R7: 3 жылдан ашкан мөөнөткө
D8: көлөм | E8: орточо салмактанып алынган чендер | F8: көлөм | G8: орточо салмактанып алынган чендер | H8: көлөм | I8: орточо салмактанып алынган чендер | J8: көлөм | K8: орточо салмактанып алынган чендер | L8: көлөм | M8: орточо салмактанып алынган чендер | N8: көлөм | O8: орточо салмактанып алынган чендер | P8: көлөм | Q8: орточо салмактанып алынган чендер | R8: көлөм | S8: орточо салмактанып алынган чендер
A9: Үчтүн айы 1996 ж. | B9: ='3.жеке-бардыгы болуп'!B9+'4.юрид-бардыгы болуп'!B9 -> 44120.1 | C9: =('3.жеке-бардыгы болуп'!B9*'3.жеке-бардыгы болуп'!C9+'4.юрид-бардыгы болуп'!B9*'4.юрид-бардыгы болуп'!C9)/('3.жеке-бардыгы болуп'!B9+'4.юрид-бардыгы болуп'!B9) -> 30.051715 | D9: ='3.жеке-бардыгы болуп'!D9+'4.юрид-бардыгы болуп'!D9 -> 9281 | E9: =('3.жеке-бардыгы болуп'!D9*'3.жеке-бардыгы болуп'!E9+'4.юрид-бардыгы болуп'!D9*'4.юрид-бардыгы болуп'!E9)/('3.жеке-бардыгы болуп'!D9+'4.юрид-бардыгы болуп'!D9) -> 27.565855 | F9: =H9+J9+L9+N9+P9+R9 -> 34839.1 | G9: =(H9*I9+J9*K9+L9*M9+N9*O9+P9*Q9+R9*S9)/(H9+J9+L9+N9+P9+R9) -> 30.713938 | H9: ='3.жеке-бардыгы болуп'!H9+'4.юрид-бардыгы болуп'!H9 -> 2291 | I9: =('3.жеке-бардыгы болуп'!H9*'3.жеке-бардыгы болуп'!I9+'4.юрид-бардыгы болуп'!H9*'4.юрид-бардыгы болуп'!I9)/('3.жеке-бардыгы болуп'!H9+'4.юрид-бардыгы болуп'!H9) -> 7.2378874 | J9: ='3.жеке-бардыгы болуп'!J9+'4.юрид-бардыгы болуп'!J9 -> 12145.6 | K9: =('3.жеке-бардыгы болуп'!J9*'3.жеке-бардыгы болуп'!K9+'4.юрид-бардыгы болуп'!J9*'4.юрид-бардыгы болуп'!K9)/('3.жеке-бардыгы болуп'!J9+'4.юрид-бардыгы болуп'!J9) -> 30.215864 | L9: ='3.жеке-бардыгы болуп'!L9+'4.юрид-бардыгы болуп'!L9 -> 16147.3 | M9: =('3.жеке-бардыгы болуп'!L9*'3.жеке-бардыгы болуп'!M9+'4.юрид-бардыгы болуп'!L9*'4.юрид-бардыгы болуп'!M9)/('3.жеке-бардыгы болуп'!L9+'4.юрид-бардыгы болуп'!L9) -> 32.691825 | N9: ='3.жеке-бардыгы болуп'!N9+'4.юрид-бардыгы болуп'!N9 -> 3854 | O9: =('3.жеке-бардыгы болуп'!N9*'3.жеке-бардыгы болуп'!O9+'4.юрид-бардыгы болуп'!N9*'4.юрид-бардыгы болуп'!O9)/('3.жеке-бардыгы болуп'!N9+'4.юрид-бардыгы болуп'!N9) -> 36.987208 | P9: ='3.жеке-бардыгы болуп'!P9+'4.юрид-бардыгы болуп'!P9 -> 401.2 | Q9: =('3.жеке-бардыгы болуп'!P9*'3.жеке-бардыгы болуп'!Q9+'4.юрид-бардыгы болуп'!P9*'4.юрид-бардыгы болуп'!Q9)/('3.жеке-бардыгы болуп'!P9+'4.юрид-бардыгы болуп'!P9) -> 39.981954
A10: Бирдин айы | B10: ='3.жеке-бардыгы болуп'!B10+'4.юрид-бардыгы болуп'!B10 -> 44864.9 | C10: =('3.жеке-бардыгы болуп'!B10*'3.жеке-бардыгы болуп'!C10+'4.юрид-бардыгы болуп'!B10*'4.юрид-бардыгы болуп'!C10)/('3.жеке-бардыгы болуп'!B10+'4.юрид-бардыгы болуп'!B10) -> 29.080911 | D10: ='3.жеке-бардыгы болуп'!D10+'4.юрид-бардыгы болуп'!D10 -> 10774.3 | E10: =('3.жеке-бардыгы болуп'!D10*'3.жеке-бардыгы болуп'!E10+'4.юрид-бардыгы болуп'!D10*'4.юрид-бардыгы болуп'!E10)/('3.жеке-бардыгы болуп'!D10+'4.юрид-бардыгы болуп'!D10) -> 21.689084 | F10: =H10+J10+L10+N10+P10+R10 -> 34090.6 | G10: =(H10*I10+J10*K10+L10*M10+N10*O10+P10*Q10+R10*S10)/(H10+J10+L10+N10+P10+R10) -> 31.417091 | H10: ='3.жеке-бардыгы болуп'!H10+'4.юрид-бардыгы болуп'!H10 -> 695.5 | I10: =('3.жеке-бардыгы болуп'!H10*'3.жеке-бардыгы болуп'!I10+'4.юрид-бардыгы болуп'!H10*'4.юрид-бардыгы болуп'!I10)/('3.жеке-бардыгы болуп'!H10+'4.юрид-бардыгы болуп'!H10) -> 27.881524 | J10: ='3.жеке-бардыгы болуп'!J10+'4.юрид-бардыгы болуп'!J10 -> 14593 | K10: =('3.жеке-бардыгы болуп'!J10*'3.жеке-бардыгы болуп'!K10+'4.юрид-бардыгы болуп'!J10*'4.юрид-бардыгы болуп'!K10)/('3.жеке-бардыгы болуп'!J10+'4.юрид-бардыгы болуп'!J10) -> 26.031555 | L10: ='3.жеке-бардыгы болуп'!L10+'4.юрид-бардыгы болуп'!L10 -> 14365.6 | M10: =('3.жеке-бардыгы болуп'!L10*'3.жеке-бардыгы болуп'!M10+'4.юрид-бардыгы болуп'!L10*'4.юрид-бардыгы болуп'!M10)/('3.жеке-бардыгы болуп'!L10+'4.юрид-бардыгы болуп'!L10) -> 36.22843 | N10: ='3.жеке-бардыгы болуп'!N10+'4.юрид-бардыгы болуп'!N10 -> 4050.5 | O10: =('3.жеке-бардыгы болуп'!N10*'3.жеке-бардыгы болуп'!O10+'4.юрид-бардыгы болуп'!N10*'4.юрид-бардыгы болуп'!O10)/('3.жеке-бардыгы болуп'!N10+'4.юрид-бардыгы болуп'!N10) -> 33.713393 | P10: ='3.жеке-бардыгы болуп'!P10+'4.юрид-бардыгы болуп'!P10 -> 386 | Q10: =('3.жеке-бардыгы болуп'!P10*'3.жеке-бардыгы болуп'!Q10+'4.юрид-бардыгы болуп'!P10*'4.юрид-бардыгы болуп'!Q10)/('3.жеке-бардыгы болуп'!P10+'4.юрид-бардыгы болуп'!P10) -> 38.233575
A11: Жалган куран | B11: ='3.жеке-бардыгы болуп'!B11+'4.юрид-бардыгы болуп'!B11 -> 47498.9 | C11: =('3.жеке-бардыгы болуп'!B11*'3.жеке-бардыгы болуп'!C11+'4.юрид-бардыгы болуп'!B11*'4.юрид-бардыгы болуп'!C11)/('3.жеке-бардыгы болуп'!B11+'4.юрид-бардыгы болуп'!B11) -> 26.537801 | D11: ='3.жеке-бардыгы болуп'!D11+'4.юрид-бардыгы болуп'!D11 -> 12078.4 | E11: =('3.жеке-бардыгы болуп'!D11*'3.жеке-бардыгы болуп'!E11+'4.юрид-бардыгы болуп'!D11*'4.юрид-бардыгы болуп'!E11)/('3.жеке-бардыгы болуп'!D11+'4.юрид-бардыгы болуп'!D11) -> 19.656685 | F11: =H11+J11+L11+N11+P11+R11 -> 35420.5 | G11: =(H11*I11+J11*K11+L11*M11+N11*O11+P11*Q11+R11*S11)/(H11+J11+L11+N11+P11+R11) -> 28.884263 | H11: ='3.жеке-бардыгы болуп'!H11+'4.юрид-бардыгы болуп'!H11 -> 2892.7 | I11: =('3.жеке-бардыгы болуп'!H11*'3.жеке-бардыгы болуп'!I11+'4.юрид-бардыгы болуп'!H11*'4.юрид-бардыгы болуп'!I11)/('3.жеке-бардыгы болуп'!H11+'4.юрид-бардыгы болуп'!H11) -> 43.150171 | J11: ='3.жеке-бардыгы болуп'!J11+'4.юрид-бардыгы болуп'!J11 -> 13505 | K11: =('3.жеке-бардыгы болуп'!J11*'3.жеке-бардыгы болуп'!K11+'4.юрид-бардыгы болуп'!J11*'4.юрид-бардыгы болуп'!K11)/('3.жеке-бардыгы болуп'!J11+'4.юрид-бардыгы болуп'!J11) -> 24.040816 | L11: ='3.жеке-бардыгы болуп'!L11+'4.юрид-бардыгы болуп'!L11 -> 14574.9 | M11: =('3.жеке-бардыгы болуп'!L11*'3.жеке-бардыгы болуп'!M11+'4.юрид-бардыгы болуп'!L11*'4.юрид-бардыгы болуп'!M11)/('3.жеке-бардыгы болуп'!L11+'4.юрид-бардыгы болуп'!L11) -> 30.058273 | N11: ='3.жеке-бардыгы болуп'!N11+'4.юрид-бардыгы болуп'!N11 -> 4221.3 | O11: =('3.жеке-бардыгы болуп'!N11*'3.жеке-бардыгы болуп'!O11+'4.юрид-бардыгы болуп'!N11*'4.юрид-бардыгы болуп'!O11)/('3.жеке-бардыгы болуп'!N11+'4.юрид-бардыгы болуп'!N11) -> 30.725701 | P11: ='3.жеке-бардыгы болуп'!P11+'4.юрид-бардыгы болуп'!P11 -> 226.6 | Q11: =('3.жеке-бардыгы болуп'!P11*'3.жеке-бардыгы болуп'!Q11+'4.юрид-бардыгы болуп'!P11*'4.юрид-бардыгы болуп'!Q11)/('3.жеке-бардыгы болуп'!P11+'4.юрид-бардыгы болуп'!P11) -> 25.616064
A12: Чын куран | B12: ='3.жеке-бардыгы болуп'!B12+'4.юрид-бардыгы болуп'!B12 -> 51267.3 | C12: =('3.жеке-бардыгы болуп'!B12*'3.жеке-бардыгы болуп'!C12+'4.юрид-бардыгы болуп'!B12*'4.юрид-бардыгы болуп'!C12)/('3.жеке-бардыгы болуп'!B12+'4.юрид-бардыгы болуп'!B12) -> 26.000049 | D12: ='3.жеке-бардыгы болуп'!D12+'4.юрид-бардыгы болуп'!D12 -> 12672.3 | E12: =('3.жеке-бардыгы болуп'!D12*'3.жеке-бардыгы болуп'!E12+'4.юрид-бардыгы болуп'!D12*'4.юрид-бардыгы болуп'!E12)/('3.жеке-бардыгы болуп'!D12+'4.юрид-бардыгы болуп'!D12) -> 22.143074 | F12: =H12+J12+L12+N12+P12+R12 -> 38595 | G12: =(H12*I12+J12*K12+L12*M12+N12*O12+P12*Q12+R12*S12)/(H12+J12+L12+N12+P12+R12) -> 27.26645 | H12: ='3.жеке-бардыгы болуп'!H12+'4.юрид-бардыгы болуп'!H12 -> 3966.5 | I12: =('3.жеке-бардыгы болуп'!H12*'3.жеке-бардыгы болуп'!I12+'4.юрид-бардыгы болуп'!H12*'4.юрид-бардыгы болуп'!I12)/('3.жеке-бардыгы болуп'!H12+'4.юрид-бардыгы болуп'!H12) -> 23.004039 | J12: ='3.жеке-бардыгы болуп'!J12+'4.юрид-бардыгы болуп'!J12 -> 15075 | K12: =('3.жеке-бардыгы болуп'!J12*'3.жеке-бардыгы болуп'!K12+'4.юрид-бардыгы болуп'!J12*'4.юрид-бардыгы болуп'!K12)/('3.жеке-бардыгы болуп'!J12+'4.юрид-бардыгы болуп'!J12) -> 27.637965 | L12: ='3.жеке-бардыгы болуп'!L12+'4.юрид-бардыгы болуп'!L12 -> 13203.1 | M12: =('3.жеке-бардыгы болуп'!L12*'3.жеке-бардыгы болуп'!M12+'4.юрид-бардыгы болуп'!L12*'4.юрид-бардыгы болуп'!M12)/('3.жеке-бардыгы болуп'!L12+'4.юрид-бардыгы болуп'!L12) -> 28.16965 | N12: ='3.жеке-бардыгы болуп'!N12+'4.юрид-бардыгы болуп'!N12 -> 5969.1 | O12: =('3.жеке-бардыгы болуп'!N12*'3.жеке-бардыгы болуп'!O12+'4.юрид-бардыгы болуп'!N12*'4.юрид-бардыгы болуп'!O12)/('3.жеке-бардыгы болуп'!N12+'4.юрид-бардыгы болуп'!N12) -> 26.54338 | P12: ='3.жеке-бардыгы болуп'!P12+'4.юрид-бардыгы болуп'!P12 -> 381.3 | Q12: =('3.жеке-бардыгы болуп'!P12*'3.жеке-бардыгы болуп'!Q12+'4.юрид-бардыгы болуп'!P12*'4.юрид-бардыгы болуп'!Q12)/('3.жеке-бардыгы болуп'!P12+'4.юрид-бардыгы болуп'!P12) -> 36.962995
A13: Бугу | B13: ='3.жеке-бардыгы болуп'!B13+'4.юрид-бардыгы болуп'!B13 -> 60538.8 | C13: =('3.жеке-бардыгы болуп'!B13*'3.жеке-бардыгы болуп'!C13+'4.юрид-бардыгы болуп'!B13*'4.юрид-бардыгы болуп'!C13)/('3.жеке-бардыгы болуп'!B13+'4.юрид-бардыгы болуп'!B13) -> 27.689793 | D13: ='3.жеке-бардыгы болуп'!D13+'4.юрид-бардыгы болуп'!D13 -> 12246.6 | E13: =('3.жеке-бардыгы болуп'!D13*'3.жеке-бардыгы болуп'!E13+'4.юрид-бардыгы болуп'!D13*'4.юрид-бардыгы болуп'!E13)/('3.жеке-бардыгы болуп'!D13+'4.юрид-бардыгы болуп'!D13) -> 23.410391 | F13: =H13+J13+L13+N13+P13+R13 -> 48292.2 | G13: =(H13*I13+J13*K13+L13*M13+N13*O13+P13*Q13+R13*S13)/(H13+J13+L13+N13+P13+R13) -> 28.775022 | H13: ='3.жеке-бардыгы болуп'!H13+'4.юрид-бардыгы болуп'!H13 -> 1080.6 | I13: =('3.жеке-бардыгы болуп'!H13*'3.жеке-бардыгы болуп'!I13+'4.юрид-бардыгы болуп'!H13*'4.юрид-бардыгы болуп'!I13)/('3.жеке-бардыгы болуп'!H13+'4.юрид-бардыгы болуп'!H13) -> 31.388567 | J13: ='3.жеке-бардыгы болуп'!J13+'4.юрид-бардыгы болуп'!J13 -> 14679.3 | K13: =('3.жеке-бардыгы болуп'!J13*'3.жеке-бардыгы болуп'!K13+'4.юрид-бардыгы болуп'!J13*'4.юрид-бардыгы болуп'!K13)/('3.жеке-бардыгы болуп'!J13+'4.юрид-бардыгы болуп'!J13) -> 24.869605 | L13: ='3.жеке-бардыгы болуп'!L13+'4.юрид-бардыгы болуп'!L13 -> 14962 | M13: =('3.жеке-бардыгы болуп'!L13*'3.жеке-бардыгы болуп'!M13+'4.юрид-бардыгы болуп'!L13*'4.юрид-бардыгы болуп'!M13)/('3.жеке-бардыгы болуп'!L13+'4.юрид-бардыгы болуп'!L13) -> 30.635506 | N13: ='3.жеке-бардыгы болуп'!N13+'4.юрид-бардыгы болуп'!N13 -> 17337.5 | O13: =('3.жеке-бардыгы болуп'!N13*'3.жеке-бардыгы болуп'!O13+'4.юрид-бардыгы болуп'!N13*'4.юрид-бардыгы болуп'!O13)/('3.жеке-бардыгы болуп'!N13+'4.юрид-бардыгы болуп'!N13) -> 30.205622 | P13: ='3.жеке-бардыгы болуп'!P13+'4.юрид-бардыгы болуп'!P13 -> 232.8 | Q13: =('3.жеке-бардыгы болуп'!P13*'3.жеке-бардыгы болуп'!Q13+'4.юрид-бардыгы болуп'!P13*'4.юрид-бардыгы болуп'!Q13)/('3.жеке-бардыгы болуп'!P13+'4.юрид-бардыгы болуп'!P13) -> 36.786254
A14: Кулжа | B14: ='3.жеке-бардыгы болуп'!B14+'4.юрид-бардыгы болуп'!B14 -> 50133.5 | C14: =('3.жеке-бардыгы болуп'!B14*'3.жеке-бардыгы болуп'!C14+'4.юрид-бардыгы болуп'!B14*'4.юрид-бардыгы болуп'!C14)/('3.жеке-бардыгы болуп'!B14+'4.юрид-бардыгы болуп'!B14) -> 22.57934 | D14: ='3.жеке-бардыгы болуп'!D14+'4.юрид-бардыгы болуп'!D14 -> 11851.4 | E14: =('3.жеке-бардыгы болуп'!D14*'3.жеке-бардыгы болуп'!E14+'4.юрид-бардыгы болуп'!D14*'4.юрид-бардыгы болуп'!E14)/('3.жеке-бардыгы болуп'!D14+'4.юрид-бардыгы болуп'!D14) -> 17.045625 | F14: =H14+J14+L14+N14+P14+R14 -> 38282.1 | G14: =(H14*I14+J14*K14+L14*M14+N14*O14+P14*Q14+R14*S14)/(H14+J14+L14+N14+P14+R14) -> 24.292471 | H14: ='3.жеке-бардыгы болуп'!H14+'4.юрид-бардыгы болуп'!H14 -> 1062.8 | I14: =('3.жеке-бардыгы болуп'!H14*'3.жеке-бардыгы болуп'!I14+'4.юрид-бардыгы болуп'!H14*'4.юрид-бардыгы болуп'!I14)/('3.жеке-бардыгы болуп'!H14+'4.юрид-бардыгы болуп'!H14) -> 7.073297 | J14: ='3.жеке-бардыгы болуп'!J14+'4.юрид-бардыгы болуп'!J14 -> 22184.6 | K14: =('3.жеке-бардыгы болуп'!J14*'3.жеке-бардыгы болуп'!K14+'4.юрид-бардыгы болуп'!J14*'4.юрид-бардыгы болуп'!K14)/('3.жеке-бардыгы болуп'!J14+'4.юрид-бардыгы болуп'!J14) -> 22.694388 | L14: ='3.жеке-бардыгы болуп'!L14+'4.юрид-бардыгы болуп'!L14 -> 9337.3 | M14: =('3.жеке-бардыгы болуп'!L14*'3.жеке-бардыгы болуп'!M14+'4.юрид-бардыгы болуп'!L14*'4.юрид-бардыгы болуп'!M14)/('3.жеке-бардыгы болуп'!L14+'4.юрид-бардыгы болуп'!L14) -> 24.853945 | N14: ='3.жеке-бардыгы болуп'!N14+'4.юрид-бардыгы болуп'!N14 -> 5458.2 | O14: =('3.жеке-бардыгы болуп'!N14*'3.жеке-бардыгы болуп'!O14+'4.юрид-бардыгы болуп'!N14*'4.юрид-бардыгы болуп'!O14)/('3.жеке-бардыгы болуп'!N14+'4.юрид-бардыгы болуп'!N14) -> 33.159696 | P14: ='3.жеке-бардыгы болуп'!P14+'4.юрид-бардыгы болуп'!P14 -> 239.2 | Q14: =('3.жеке-бардыгы болуп'!P14*'3.жеке-бардыгы болуп'!Q14+'4.юрид-бардыгы болуп'!P14*'4.юрид-бардыгы болуп'!Q14)/('3.жеке-бардыгы болуп'!P14+'4.юрид-бардыгы болуп'!P14) -> 24.759197
A15: Теке | B15: ='3.жеке-бардыгы болуп'!B15+'4.юрид-бардыгы болуп'!B15 -> 50764.3 | C15: =('3.жеке-бардыгы болуп'!B15*'3.жеке-бардыгы болуп'!C15+'4.юрид-бардыгы болуп'!B15*'4.юрид-бардыгы болуп'!C15)/('3.жеке-бардыгы болуп'!B15+'4.юрид-бардыгы болуп'!B15) -> 24.129365 | D15: ='3.жеке-бардыгы болуп'!D15+'4.юрид-бардыгы болуп'!D15 -> 13175.4 | E15: =('3.жеке-бардыгы болуп'!D15*'3.жеке-бардыгы болуп'!E15+'4.юрид-бардыгы болуп'!D15*'4.юрид-бардыгы болуп'!E15)/('3.жеке-бардыгы болуп'!D15+'4.юрид-бардыгы болуп'!D15) -> 12.477743 | F15: =H15+J15+L15+N15+P15+R15 -> 37588.9 | G15: =(H15*I15+J15*K15+L15*M15+N15*O15+P15*Q15+R15*S15)/(H15+J15+L15+N15+P15+R15) -> 28.213411 | H15: ='3.жеке-бардыгы болуп'!H15+'4.юрид-бардыгы болуп'!H15 -> 3808.1 | I15: =('3.жеке-бардыгы болуп'!H15*'3.жеке-бардыгы болуп'!I15+'4.юрид-бардыгы болуп'!H15*'4.юрид-бардыгы болуп'!I15)/('3.жеке-бардыгы болуп'!H15+'4.юрид-бардыгы болуп'!H15) -> 3.0807489 | J15: ='3.жеке-бардыгы болуп'!J15+'4.юрид-бардыгы болуп'!J15 -> 14782.2 | K15: =('3.жеке-бардыгы болуп'!J15*'3.жеке-бардыгы болуп'!K15+'4.юрид-бардыгы болуп'!J15*'4.юрид-бардыгы болуп'!K15)/('3.жеке-бардыгы болуп'!J15+'4.юрид-бардыгы болуп'!J15) -> 31.170908 | L15: ='3.жеке-бардыгы болуп'!L15+'4.юрид-бардыгы болуп'!L15 -> 11316.1 | M15: =('3.жеке-бардыгы болуп'!L15*'3.жеке-бардыгы болуп'!M15+'4.юрид-бардыгы болуп'!L15*'4.юрид-бардыгы болуп'!M15)/('3.жеке-бардыгы болуп'!L15+'4.юрид-бардыгы болуп'!L15) -> 31.290608 | N15: ='3.жеке-бардыгы болуп'!N15+'4.юрид-бардыгы болуп'!N15 -> 7205.5 | O15: =('3.жеке-бардыгы болуп'!N15*'3.жеке-бардыгы болуп'!O15+'4.юрид-бардыгы болуп'!N15*'4.юрид-бардыгы болуп'!O15)/('3.жеке-бардыгы болуп'!N15+'4.юрид-бардыгы болуп'!N15) -> 29.901914 | P15: ='3.жеке-бардыгы болуп'!P15+'4.юрид-бардыгы болуп'!P15 -> 477 | Q15: =('3.жеке-бардыгы болуп'!P15*'3.жеке-бардыгы болуп'!Q15+'4.юрид-бардыгы болуп'!P15*'4.юрид-бардыгы болуп'!Q15)/('3.жеке-бардыгы болуп'!P15+'4.юрид-бардыгы болуп'!P15) -> 38.697694
A16: Баш оона | B16: ='3.жеке-бардыгы болуп'!B16+'4.юрид-бардыгы болуп'!B16 -> 84460.6 | C16: =('3.жеке-бардыгы болуп'!B16*'3.жеке-бардыгы болуп'!C16+'4.юрид-бардыгы болуп'!B16*'4.юрид-бардыгы болуп'!C16)/('3.жеке-бардыгы болуп'!B16+'4.юрид-бардыгы болуп'!B16) -> 18.738324 | D16: ='3.жеке-бардыгы болуп'!D16+'4.юрид-бардыгы болуп'!D16 -> 43051.7 | E16: =('3.жеке-бардыгы болуп'!D16*'3.жеке-бардыгы болуп'!E16+'4.юрид-бардыгы болуп'!D16*'4.юрид-бардыгы болуп'!E16)/('3.жеке-бардыгы болуп'!D16+'4.юрид-бардыгы болуп'!D16) -> 8.2210795 | F16: =H16+J16+L16+N16+P16+R16 -> 41408.9 | G16: =(H16*I16+J16*K16+L16*M16+N16*O16+P16*Q16+R16*S16)/(H16+J16+L16+N16+P16+R16) -> 29.672815 | H16: ='3.жеке-бардыгы болуп'!H16+'4.юрид-бардыгы болуп'!H16 -> 5350.1 | I16: =('3.жеке-бардыгы болуп'!H16*'3.жеке-бардыгы болуп'!I16+'4.юрид-бардыгы болуп'!H16*'4.юрид-бардыгы болуп'!I16)/('3.жеке-бардыгы болуп'!H16+'4.юрид-бардыгы болуп'!H16) -> 9.5698622 | J16: ='3.жеке-бардыгы болуп'!J16+'4.юрид-бардыгы болуп'!J16 -> 10884.9 | K16: =('3.жеке-бардыгы болуп'!J16*'3.жеке-бардыгы болуп'!K16+'4.юрид-бардыгы болуп'!J16*'4.юрид-бардыгы болуп'!K16)/('3.жеке-бардыгы болуп'!J16+'4.юрид-бардыгы болуп'!J16) -> 29.503 | L16: ='3.жеке-бардыгы болуп'!L16+'4.юрид-бардыгы болуп'!L16 -> 19978.9 | M16: =('3.жеке-бардыгы болуп'!L16*'3.жеке-бардыгы болуп'!M16+'4.юрид-бардыгы болуп'!L16*'4.юрид-бардыгы болуп'!M16)/('3.жеке-бардыгы болуп'!L16+'4.юрид-бардыгы болуп'!L16) -> 35.106358 | N16: ='3.жеке-бардыгы болуп'!N16+'4.юрид-бардыгы болуп'!N16 -> 4478.9 | O16: =('3.жеке-бардыгы болуп'!N16*'3.жеке-бардыгы болуп'!O16+'4.юрид-бардыгы болуп'!N16*'4.юрид-бардыгы болуп'!O16)/('3.жеке-бардыгы болуп'!N16+'4.юрид-бардыгы болуп'!N16) -> 30.5331 | P16: ='3.жеке-бардыгы болуп'!P16+'4.юрид-бардыгы болуп'!P16 -> 716.1 | Q16: =('3.жеке-бардыгы болуп'!P16*'3.жеке-бардыгы болуп'!Q16+'4.юрид-бардыгы болуп'!P16*'4.юрид-бардыгы болуп'!Q16)/('3.жеке-бардыгы болуп'!P16+'4.юрид-бардыгы болуп'!P16) -> 25.472141
A17: Аяк оона | B17: ='3.жеке-бардыгы болуп'!B17+'4.юрид-бардыгы болуп'!B17 -> 60079.8 | C17: =('3.жеке-бардыгы болуп'!B17*'3.жеке-бардыгы болуп'!C17+'4.юрид-бардыгы болуп'!B17*'4.юрид-бардыгы болуп'!C17)/('3.жеке-бардыгы болуп'!B17+'4.юрид-бардыгы болуп'!B17) -> 25.757067 | D17: ='3.жеке-бардыгы болуп'!D17+'4.юрид-бардыгы болуп'!D17 -> 10956.6 | E17: =('3.жеке-бардыгы болуп'!D17*'3.жеке-бардыгы болуп'!E17+'4.юрид-бардыгы болуп'!D17*'4.юрид-бардыгы болуп'!E17)/('3.жеке-бардыгы болуп'!D17+'4.юрид-бардыгы болуп'!D17) -> 13.32431 | F17: =H17+J17+L17+N17+P17+R17 -> 49123.2 | G17: =(H17*I17+J17*K17+L17*M17+N17*O17+P17*Q17+R17*S17)/(H17+J17+L17+N17+P17+R17) -> 28.53011 | H17: ='3.жеке-бардыгы болуп'!H17+'4.юрид-бардыгы болуп'!H17 -> 1413.6 | I17: =('3.жеке-бардыгы болуп'!H17*'3.жеке-бардыгы болуп'!I17+'4.юрид-бардыгы болуп'!H17*'4.юрид-бардыгы болуп'!I17)/('3.жеке-бардыгы болуп'!H17+'4.юрид-бардыгы болуп'!H17) -> 3.7814092 | J17: ='3.жеке-бардыгы болуп'!J17+'4.юрид-бардыгы болуп'!J17 -> 23652 | K17: =('3.жеке-бардыгы болуп'!J17*'3.жеке-бардыгы болуп'!K17+'4.юрид-бардыгы болуп'!J17*'4.юрид-бардыгы болуп'!K17)/('3.жеке-бардыгы болуп'!J17+'4.юрид-бардыгы болуп'!J17) -> 24.879736 | L17: ='3.жеке-бардыгы болуп'!L17+'4.юрид-бардыгы болуп'!L17 -> 16333.4 | M17: =('3.жеке-бардыгы болуп'!L17*'3.жеке-бардыгы болуп'!M17+'4.юрид-бардыгы болуп'!L17*'4.юрид-бардыгы болуп'!M17)/('3.жеке-бардыгы болуп'!L17+'4.юрид-бардыгы болуп'!L17) -> 37.567138 | N17: ='3.жеке-бардыгы болуп'!N17+'4.юрид-бардыгы болуп'!N17 -> 7596.4 | O17: =('3.жеке-бардыгы болуп'!N17*'3.жеке-бардыгы болуп'!O17+'4.юрид-бардыгы болуп'!N17*'4.юрид-бардыгы болуп'!O17)/('3.жеке-бардыгы болуп'!N17+'4.юрид-бардыгы болуп'!N17) -> 25.062715 | P17: ='3.жеке-бардыгы болуп'!P17+'4.юрид-бардыгы болуп'!P17 -> 127.8 | Q17: =('3.жеке-бардыгы болуп'!P17*'3.жеке-бардыгы болуп'!Q17+'4.юрид-бардыгы болуп'!P17*'4.юрид-бардыгы болуп'!Q17)/('3.жеке-бардыгы болуп'!P17+'4.юрид-бардыгы болуп'!P17) -> 28.98169
A18: Тогуздун айы | B18: ='3.жеке-бардыгы болуп'!B18+'4.юрид-бардыгы болуп'!B18 -> 90226.5 | C18: =('3.жеке-бардыгы болуп'!B18*'3.жеке-бардыгы болуп'!C18+'4.юрид-бардыгы болуп'!B18*'4.юрид-бардыгы болуп'!C18)/('3.жеке-бардыгы болуп'!B18+'4.юрид-бардыгы болуп'!B18) -> 24.966312 | D18: ='3.жеке-бардыгы болуп'!D18+'4.юрид-бардыгы болуп'!D18 -> 37173.6 | E18: =('3.жеке-бардыгы болуп'!D18*'3.жеке-бардыгы болуп'!E18+'4.юрид-бардыгы болуп'!D18*'4.юрид-бардыгы болуп'!E18)/('3.жеке-бардыгы болуп'!D18+'4.юрид-бардыгы болуп'!D18) -> 9.8071629 | F18: =H18+J18+L18+N18+P18+R18 -> 53052.9 | G18: =(H18*I18+J18*K18+L18*M18+N18*O18+P18*Q18+R18*S18)/(H18+J18+L18+N18+P18+R18) -> 35.588167 | H18: ='3.жеке-бардыгы болуп'!H18+'4.юрид-бардыгы болуп'!H18 -> 2901.2 | I18: =('3.жеке-бардыгы болуп'!H18*'3.жеке-бардыгы болуп'!I18+'4.юрид-бардыгы болуп'!H18*'4.юрид-бардыгы болуп'!I18)/('3.жеке-бардыгы болуп'!H18+'4.юрид-бардыгы болуп'!H18) -> 22.826072 | J18: ='3.жеке-бардыгы болуп'!J18+'4.юрид-бардыгы болуп'!J18 -> 17291.1 | K18: =('3.жеке-бардыгы болуп'!J18*'3.жеке-бардыгы болуп'!K18+'4.юрид-бардыгы болуп'!J18*'4.юрид-бардыгы болуп'!K18)/('3.жеке-бардыгы болуп'!J18+'4.юрид-бардыгы болуп'!J18) -> 28.075066 | L18: ='3.жеке-бардыгы болуп'!L18+'4.юрид-бардыгы болуп'!L18 -> 29475.8 | M18: =('3.жеке-бардыгы болуп'!L18*'3.жеке-бардыгы болуп'!M18+'4.юрид-бардыгы болуп'!L18*'4.юрид-бардыгы болуп'!M18)/('3.жеке-бардыгы болуп'!L18+'4.юрид-бардыгы болуп'!L18) -> 43.243029 | N18: ='3.жеке-бардыгы болуп'!N18+'4.юрид-бардыгы болуп'!N18 -> 3135.4 | O18: =('3.жеке-бардыгы болуп'!N18*'3.жеке-бардыгы болуп'!O18+'4.юрид-бардыгы болуп'!N18*'4.юрид-бардыгы болуп'!O18)/('3.жеке-бардыгы болуп'!N18+'4.юрид-бардыгы болуп'!N18) -> 18.623047 | P18: ='3.жеке-бардыгы болуп'!P18+'4.юрид-бардыгы болуп'!P18 -> 249.4 | Q18: =('3.жеке-бардыгы болуп'!P18*'3.жеке-бардыгы болуп'!Q18+'4.юрид-бардыгы болуп'!P18*'4.юрид-бардыгы болуп'!Q18)/('3.жеке-бардыгы болуп'!P18+'4.юрид-бардыгы болуп'!P18) -> 13.512751
A19: Жетинин айы | B19: ='3.жеке-бардыгы болуп'!B19+'4.юрид-бардыгы болуп'!B19 -> 77709.3 | C19: =('3.жеке-бардыгы болуп'!B19*'3.жеке-бардыгы болуп'!C19+'4.юрид-бардыгы болуп'!B19*'4.юрид-бардыгы болуп'!C19)/('3.жеке-бардыгы болуп'!B19+'4.юрид-бардыгы болуп'!B19) -> 21.521011 | D19: ='3.жеке-бардыгы болуп'!D19+'4.юрид-бардыгы болуп'!D19 -> 22973.7 | E19: =('3.жеке-бардыгы болуп'!D19*'3.жеке-бардыгы болуп'!E19+'4.юрид-бардыгы болуп'!D19*'4.юрид-бардыгы болуп'!E19)/('3.жеке-бардыгы болуп'!D19+'4.юрид-бардыгы болуп'!D19) -> 13.248201 | F19: =H19+J19+L19+N19+P19+R19 -> 54735.6 | G19: =(H19*I19+J19*K19+L19*M19+N19*O19+P19*Q19+R19*S19)/(H19+J19+L19+N19+P19+R19) -> 24.993286 | H19: ='3.жеке-бардыгы болуп'!H19+'4.юрид-бардыгы болуп'!H19 -> 10723.2 | I19: =('3.жеке-бардыгы болуп'!H19*'3.жеке-бардыгы болуп'!I19+'4.юрид-бардыгы болуп'!H19*'4.юрид-бардыгы болуп'!I19)/('3.жеке-бардыгы болуп'!H19+'4.юрид-бардыгы болуп'!H19) -> 15.977973 | J19: ='3.жеке-бардыгы болуп'!J19+'4.юрид-бардыгы болуп'!J19 -> 27986.5 | K19: =('3.жеке-бардыгы болуп'!J19*'3.жеке-бардыгы болуп'!K19+'4.юрид-бардыгы болуп'!J19*'4.юрид-бардыгы болуп'!K19)/('3.жеке-бардыгы болуп'!J19+'4.юрид-бардыгы болуп'!J19) -> 24.887472 | L19: ='3.жеке-бардыгы болуп'!L19+'4.юрид-бардыгы болуп'!L19 -> 15312.1 | M19: =('3.жеке-бардыгы болуп'!L19*'3.жеке-бардыгы болуп'!M19+'4.юрид-бардыгы болуп'!L19*'4.юрид-бардыгы болуп'!M19)/('3.жеке-бардыгы болуп'!L19+'4.юрид-бардыгы болуп'!L19) -> 31.694986 | N19: ='3.жеке-бардыгы болуп'!N19+'4.юрид-бардыгы болуп'!N19 -> 692.7 | O19: =('3.жеке-бардыгы болуп'!N19*'3.жеке-бардыгы болуп'!O19+'4.юрид-бардыгы болуп'!N19*'4.юрид-бардыгы болуп'!O19)/('3.жеке-бардыгы болуп'!N19+'4.юрид-бардыгы болуп'!N19) -> 20.168096 | P19: ='3.жеке-бардыгы болуп'!P19+'4.юрид-бардыгы болуп'!P19 -> 21.1 | Q19: =('3.жеке-бардыгы болуп'!P19*'3.жеке-бардыгы болуп'!Q19+'4.юрид-бардыгы болуп'!P19*'4.юрид-бардыгы болуп'!Q19)/('3.жеке-бардыгы болуп'!P19+'4.юрид-бардыгы болуп'!P19) -> 42.037915
A20: Бештин айы | B20: ='3.жеке-бардыгы болуп'!B20+'4.юрид-бардыгы болуп'!B20 -> 69039.9 | C20: =('3.жеке-бардыгы болуп'!B20*'3.жеке-бардыгы болуп'!C20+'4.юрид-бардыгы болуп'!B20*'4.юрид-бардыгы болуп'!C20)/('3.жеке-бардыгы болуп'!B20+'4.юрид-бардыгы болуп'!B20) -> 20.399741 | D20: ='3.жеке-бардыгы болуп'!D20+'4.юрид-бардыгы болуп'!D20 -> 28713.1 | E20: =('3.жеке-бардыгы болуп'!D20*'3.жеке-бардыгы болуп'!E20+'4.юрид-бардыгы болуп'!D20*'4.юрид-бардыгы болуп'!E20)/('3.жеке-бардыгы болуп'!D20+'4.юрид-бардыгы болуп'!D20) -> 8.7380841 | F20: =H20+J20+L20+N20+P20+R20 -> 40326.8 | G20: =(H20*I20+J20*K20+L20*M20+N20*O20+P20*Q20+R20*S20)/(H20+J20+L20+N20+P20+R20) -> 28.702961 | H20: ='3.жеке-бардыгы болуп'!H20+'4.юрид-бардыгы болуп'!H20 -> 2858.3 | I20: =('3.жеке-бардыгы болуп'!H20*'3.жеке-бардыгы болуп'!I20+'4.юрид-бардыгы болуп'!H20*'4.юрид-бардыгы болуп'!I20)/('3.жеке-бардыгы болуп'!H20+'4.юрид-бардыгы болуп'!H20) -> 18.706749 | J20: ='3.жеке-бардыгы болуп'!J20+'4.юрид-бардыгы болуп'!J20 -> 16350.8 | K20: =('3.жеке-бардыгы болуп'!J20*'3.жеке-бардыгы болуп'!K20+'4.юрид-бардыгы болуп'!J20*'4.юрид-бардыгы болуп'!K20)/('3.жеке-бардыгы болуп'!J20+'4.юрид-бардыгы болуп'!J20) -> 30.043679 | L20: ='3.жеке-бардыгы болуп'!L20+'4.юрид-бардыгы болуп'!L20 -> 16919.7 | M20: =('3.жеке-бардыгы болуп'!L20*'3.жеке-бардыгы болуп'!M20+'4.юрид-бардыгы болуп'!L20*'4.юрид-бардыгы болуп'!M20)/('3.жеке-бардыгы болуп'!L20+'4.юрид-бардыгы болуп'!L20) -> 27.948651 | N20: ='3.жеке-бардыгы болуп'!N20+'4.юрид-бардыгы болуп'!N20 -> 4170.9 | O20: =('3.жеке-бардыгы болуп'!N20*'3.жеке-бардыгы болуп'!O20+'4.юрид-бардыгы болуп'!N20*'4.юрид-бардыгы болуп'!O20)/('3.жеке-бардыгы болуп'!N20+'4.юрид-бардыгы болуп'!N20) -> 33.256528 | P20: ='3.жеке-бардыгы болуп'!P20+'4.юрид-бардыгы болуп'!P20 -> 27.1 | Q20: =('3.жеке-бардыгы болуп'!P20*'3.жеке-бардыгы болуп'!Q20+'4.юрид-бардыгы болуп'!P20*'4.юрид-бардыгы болуп'!Q20)/('3.жеке-бардыгы болуп'!P20+'4.юрид-бардыгы болуп'!P20) -> 44.223616
... A110: Кулжа | B110: ='3.жеке-бардыгы болуп'!B110+'4.юрид-бардыгы болуп'!B110 -> 7186362.3 | C110: =('3.жеке-бардыгы болуп'!B110*'3.жеке-бардыгы болуп'!C110+'4.юрид-бардыгы болуп'!B110*'4.юрид-бардыгы болуп'!C110)/('3.жеке-бардыгы болуп'!B110+'4.юрид-бардыгы болуп'!B110) -> 0.44774262 | D110: ='3.жеке-бардыгы болуп'!D110+'4.юрид-бардыгы болуп'!D110 -> 6808872.9 | E110: =('3.жеке-бардыгы болуп'!D110*'3.жеке-бардыгы болуп'!E110+'4.юрид-бардыгы болуп'!D110*'4.юрид-бардыгы болуп'!E110)/('3.жеке-бардыгы болуп'!D110+'4.юрид-бардыгы болуп'!D110) -> 0.11246479 | F110: =H110+J110+L110+N110+P110+R110 -> 377489.4 | G110: =(H110*I110+J110*K110+L110*M110+N110*O110+P110*Q110+R110*S110)/(H110+J110+L110+N110+P110+R110) -> 6.4952346 | H110: ='3.жеке-бардыгы болуп'!H110+'4.юрид-бардыгы болуп'!H110 -> 14992.8 | I110: =('3.жеке-бардыгы болуп'!H110*'3.жеке-бардыгы болуп'!I110+'4.юрид-бардыгы болуп'!H110*'4.юрид-бардыгы болуп'!I110)/('3.жеке-бардыгы болуп'!H110+'4.юрид-бардыгы болуп'!H110) -> 0.98127301 | J110: ='3.жеке-бардыгы болуп'!J110+'4.юрид-бардыгы болуп'!J110 -> 50101.1 | K110: =('3.жеке-бардыгы болуп'!J110*'3.жеке-бардыгы болуп'!K110+'4.юрид-бардыгы болуп'!J110*'4.юрид-бардыгы болуп'!K110)/('3.жеке-бардыгы болуп'!J110+'4.юрид-бардыгы болуп'!J110) -> 4.342131 | L110: ='3.жеке-бардыгы болуп'!L110+'4.юрид-бардыгы болуп'!L110 -> 42255.1 | M110: =('3.жеке-бардыгы болуп'!L110*'3.жеке-бардыгы болуп'!M110+'4.юрид-бардыгы болуп'!L110*'4.юрид-бардыгы болуп'!M110)/('3.жеке-бардыгы болуп'!L110+'4.юрид-бардыгы болуп'!L110) -> 7.0670127 | N110: ='3.жеке-бардыгы болуп'!N110+'4.юрид-бардыгы болуп'!N110 -> 30045.8 | O110: =('3.жеке-бардыгы болуп'!N110*'3.жеке-бардыгы болуп'!O110+'4.юрид-бардыгы болуп'!N110*'4.юрид-бардыгы болуп'!O110)/('3.жеке-бардыгы болуп'!N110+'4.юрид-бардыгы болуп'!N110) -> 9.5463517 | P110: ='3.жеке-бардыгы болуп'!P110+'4.юрид-бардыгы болуп'!P110 -> 240094.6 | Q110: =('3.жеке-бардыгы болуп'!P110*'3.жеке-бардыгы болуп'!Q110+'4.юрид-бардыгы болуп'!P110*'4.юрид-бардыгы болуп'!Q110)/('3.жеке-бардыгы болуп'!P110+'4.юрид-бардыгы болуп'!P110) -> 6.8063985
A111: Теке | B111: ='3.жеке-бардыгы болуп'!B111+'4.юрид-бардыгы болуп'!B111 -> 10822018 | C111: =('3.жеке-бардыгы болуп'!B111*'3.жеке-бардыгы болуп'!C111+'4.юрид-бардыгы болуп'!B111*'4.юрид-бардыгы болуп'!C111)/('3.жеке-бардыгы болуп'!B111+'4.юрид-бардыгы болуп'!B111) -> 0.30889517 | D111: ='3.жеке-бардыгы болуп'!D111+'4.юрид-бардыгы болуп'!D111 -> 10526255 | E111: =('3.жеке-бардыгы болуп'!D111*'3.жеке-бардыгы болуп'!E111+'4.юрид-бардыгы болуп'!D111*'4.юрид-бардыгы болуп'!E111)/('3.жеке-бардыгы болуп'!D111+'4.юрид-бардыгы болуп'!D111) -> 0.10330682 | F111: =H111+J111+L111+N111+P111+R111 -> 295762.8 | G111: =(H111*I111+J111*K111+L111*M111+N111*O111+P111*Q111+R111*S111)/(H111+J111+L111+N111+P111+R111) -> 7.6258242 | H111: ='3.жеке-бардыгы болуп'!H111+'4.юрид-бардыгы болуп'!H111 -> 13375.4 | I111: =('3.жеке-бардыгы болуп'!H111*'3.жеке-бардыгы болуп'!I111+'4.юрид-бардыгы болуп'!H111*'4.юрид-бардыгы болуп'!I111)/('3.жеке-бардыгы болуп'!H111+'4.юрид-бардыгы болуп'!H111) -> 4.6248727 | J111: ='3.жеке-бардыгы болуп'!J111+'4.юрид-бардыгы болуп'!J111 -> 79334.4 | K111: =('3.жеке-бардыгы болуп'!J111*'3.жеке-бардыгы болуп'!K111+'4.юрид-бардыгы болуп'!J111*'4.юрид-бардыгы болуп'!K111)/('3.жеке-бардыгы болуп'!J111+'4.юрид-бардыгы болуп'!J111) -> 3.9179416 | L111: ='3.жеке-бардыгы болуп'!L111+'4.юрид-бардыгы болуп'!L111 -> 45797.9 | M111: =('3.жеке-бардыгы болуп'!L111*'3.жеке-бардыгы болуп'!M111+'4.юрид-бардыгы болуп'!L111*'4.юрид-бардыгы болуп'!M111)/('3.жеке-бардыгы болуп'!L111+'4.юрид-бардыгы болуп'!L111) -> 6.0345491 | N111: ='3.жеке-бардыгы болуп'!N111+'4.юрид-бардыгы болуп'!N111 -> 71258 | O111: =('3.жеке-бардыгы болуп'!N111*'3.жеке-бардыгы болуп'!O111+'4.юрид-бардыгы болуп'!N111*'4.юрид-бардыгы болуп'!O111)/('3.жеке-бардыгы болуп'!N111+'4.юрид-бардыгы болуп'!N111) -> 9.3701001 | P111: ='3.жеке-бардыгы болуп'!P111+'4.юрид-бардыгы болуп'!P111 -> 85996.3 | Q111: =('3.жеке-бардыгы болуп'!P111*'3.жеке-бардыгы болуп'!Q111+'4.юрид-бардыгы болуп'!P111*'4.юрид-бардыгы болуп'!Q111)/('3.жеке-бардыгы болуп'!P111+'4.юрид-бардыгы болуп'!P111) -> 10.915286 | R111: ='3.жеке-бардыгы болуп'!R111+'4.юрид-бардыгы болуп'!R111 -> 0.8 | S111: =('3.жеке-бардыгы болуп'!R111*'3.жеке-бардыгы болуп'!S111+'4.юрид-бардыгы болуп'!R111*'4.юрид-бардыгы болуп'!S111)/('3.жеке-бардыгы болуп'!R111+'4.юрид-бардыгы болуп'!R111) -> 12
A112: Баш оона | B112: ='3.жеке-бардыгы болуп'!B112+'4.юрид-бардыгы болуп'!B112 -> 12010770 | C112: =('3.жеке-бардыгы болуп'!B112*'3.жеке-бардыгы болуп'!C112+'4.юрид-бардыгы болуп'!B112*'4.юрид-бардыгы болуп'!C112)/('3.жеке-бардыгы болуп'!B112+'4.юрид-бардыгы болуп'!B112) -> 0.2336798 | D112: ='3.жеке-бардыгы болуп'!D112+'4.юрид-бардыгы болуп'!D112 -> 11687927 | E112: =('3.жеке-бардыгы болуп'!D112*'3.жеке-бардыгы болуп'!E112+'4.юрид-бардыгы болуп'!D112*'4.юрид-бардыгы болуп'!E112)/('3.жеке-бардыгы болуп'!D112+'4.юрид-бардыгы болуп'!D112) -> 0.055744169 | F112: =H112+J112+L112+N112+P112+R112 -> 322843.6 | G112: =(H112*I112+J112*K112+L112*M112+N112*O112+P112*Q112+R112*S112)/(H112+J112+L112+N112+P112+R112) -> 6.6754945 | H112: ='3.жеке-бардыгы болуп'!H112+'4.юрид-бардыгы болуп'!H112 -> 12599.4 | I112: =('3.жеке-бардыгы болуп'!H112*'3.жеке-бардыгы болуп'!I112+'4.юрид-бардыгы болуп'!H112*'4.юрид-бардыгы болуп'!I112)/('3.жеке-бардыгы болуп'!H112+'4.юрид-бардыгы болуп'!H112) -> 4.6357622 | J112: ='3.жеке-бардыгы болуп'!J112+'4.юрид-бардыгы болуп'!J112 -> 78786 | K112: =('3.жеке-бардыгы болуп'!J112*'3.жеке-бардыгы болуп'!K112+'4.юрид-бардыгы болуп'!J112*'4.юрид-бардыгы болуп'!K112)/('3.жеке-бардыгы болуп'!J112+'4.юрид-бардыгы болуп'!J112) -> 4.9885981 | L112: ='3.жеке-бардыгы болуп'!L112+'4.юрид-бардыгы болуп'!L112 -> 46124.5 | M112: =('3.жеке-бардыгы болуп'!L112*'3.жеке-бардыгы болуп'!M112+'4.юрид-бардыгы болуп'!L112*'4.юрид-бардыгы болуп'!M112)/('3.жеке-бардыгы болуп'!L112+'4.юрид-бардыгы болуп'!L112) -> 5.9439689 | N112: ='3.жеке-бардыгы болуп'!N112+'4.юрид-бардыгы болуп'!N112 -> 44731.9 | O112: =('3.жеке-бардыгы болуп'!N112*'3.жеке-бардыгы болуп'!O112+'4.юрид-бардыгы болуп'!N112*'4.юрид-бардыгы болуп'!O112)/('3.жеке-бардыгы болуп'!N112+'4.юрид-бардыгы болуп'!N112) -> 9.9050951 | P112: ='3.жеке-бардыгы болуп'!P112+'4.юрид-бардыгы болуп'!P112 -> 140601.8 | Q112: =('3.жеке-бардыгы болуп'!P112*'3.жеке-бардыгы болуп'!Q112+'4.юрид-бардыгы болуп'!P112*'4.юрид-бардыгы болуп'!Q112)/('3.жеке-бардыгы болуп'!P112+'4.юрид-бардыгы болуп'!P112) -> 7.0160186
A113: Аяк оона | B113: ='3.жеке-бардыгы болуп'!B113+'4.юрид-бардыгы болуп'!B113 -> 11792089 | C113: =('3.жеке-бардыгы болуп'!B113*'3.жеке-бардыгы болуп'!C113+'4.юрид-бардыгы болуп'!B113*'4.юрид-бардыгы болуп'!C113)/('3.жеке-бардыгы болуп'!B113+'4.юрид-бардыгы болуп'!B113) -> 0.32325857 | D113: ='3.жеке-бардыгы болуп'!D113+'4.юрид-бардыгы болуп'!D113 -> 11298965 | E113: =('3.жеке-бардыгы болуп'!D113*'3.жеке-бардыгы болуп'!E113+'4.юрид-бардыгы болуп'!D113*'4.юрид-бардыгы болуп'!E113)/('3.жеке-бардыгы болуп'!D113+'4.юрид-бардыгы болуп'!D113) -> 0.082070654 | F113: =H113+J113+L113+N113+P113+R113 -> 493124.5 | G113: =(H113*I113+J113*K113+L113*M113+N113*O113+P113*Q113+R113*S113)/(H113+J113+L113+N113+P113+R113) -> 5.8495987 | H113: ='3.жеке-бардыгы болуп'!H113+'4.юрид-бардыгы болуп'!H113 -> 109492.5 | I113: =('3.жеке-бардыгы болуп'!H113*'3.жеке-бардыгы болуп'!I113+'4.юрид-бардыгы болуп'!H113*'4.юрид-бардыгы болуп'!I113)/('3.жеке-бардыгы болуп'!H113+'4.юрид-бардыгы болуп'!H113) -> 2.6485366 | J113: ='3.жеке-бардыгы болуп'!J113+'4.юрид-бардыгы болуп'!J113 -> 72538.7 | K113: =('3.жеке-бардыгы болуп'!J113*'3.жеке-бардыгы болуп'!K113+'4.юрид-бардыгы болуп'!J113*'4.юрид-бардыгы болуп'!K113)/('3.жеке-бардыгы болуп'!J113+'4.юрид-бардыгы болуп'!J113) -> 3.8736384 | L113: ='3.жеке-бардыгы болуп'!L113+'4.юрид-бардыгы болуп'!L113 -> 47898.2 | M113: =('3.жеке-бардыгы болуп'!L113*'3.жеке-бардыгы болуп'!M113+'4.юрид-бардыгы болуп'!L113*'4.юрид-бардыгы болуп'!M113)/('3.жеке-бардыгы болуп'!L113+'4.юрид-бардыгы болуп'!L113) -> 8.6470853 | N113: ='3.жеке-бардыгы болуп'!N113+'4.юрид-бардыгы болуп'!N113 -> 59130.2 | O113: =('3.жеке-бардыгы болуп'!N113*'3.жеке-бардыгы болуп'!O113+'4.юрид-бардыгы болуп'!N113*'4.юрид-бардыгы болуп'!O113)/('3.жеке-бардыгы болуп'!N113+'4.юрид-бардыгы болуп'!N113) -> 7.8887279 | P113: ='3.жеке-бардыгы болуп'!P113+'4.юрид-бардыгы болуп'!P113 -> 140941.6 | Q113: =('3.жеке-бардыгы болуп'!P113*'3.жеке-бардыгы болуп'!Q113+'4.юрид-бардыгы болуп'!P113*'4.юрид-бардыгы болуп'!Q113)/('3.жеке-бардыгы болуп'!P113+'4.юрид-бардыгы болуп'!P113) -> 10.166987 | R113: ='3.жеке-бардыгы болуп'!R113+'4.юрид-бардыгы болуп'!R113 -> 63123.3 | S113: =('3.жеке-бардыгы болуп'!R113*'3.жеке-бардыгы болуп'!S113+'4.юрид-бардыгы болуп'!R113*'4.юрид-бардыгы болуп'!S113)/('3.жеке-бардыгы болуп'!R113+'4.юрид-бардыгы болуп'!R113) -> 5.7031239e-05
A114: Тогуздун айы | B114: ='3.жеке-бардыгы болуп'!B114+'4.юрид-бардыгы болуп'!B114 -> 12491343 | C114: =('3.жеке-бардыгы болуп'!B114*'3.жеке-бардыгы болуп'!C114+'4.юрид-бардыгы болуп'!B114*'4.юрид-бардыгы болуп'!C114)/('3.жеке-бардыгы болуп'!B114+'4.юрид-бардыгы болуп'!B114) -> 0.44789463 | D114: ='3.жеке-бардыгы болуп'!D114+'4.юрид-бардыгы болуп'!D114 -> 11645180 | E114: =('3.жеке-бардыгы болуп'!D114*'3.жеке-бардыгы болуп'!E114+'4.юрид-бардыгы болуп'!D114*'4.юрид-бардыгы болуп'!E114)/('3.жеке-бардыгы болуп'!D114+'4.юрид-бардыгы болуп'!D114) -> 0.10094098 | F114: =H114+J114+L114+N114+P114+R114 -> 846163.2 | G114: =(H114*I114+J114*K114+L114*M114+N114*O114+P114*Q114+R114*S114)/(H114+J114+L114+N114+P114+R114) -> 5.2227864 | H114: ='3.жеке-бардыгы болуп'!H114+'4.юрид-бардыгы болуп'!H114 -> 167684.8 | I114: =('3.жеке-бардыгы болуп'!H114*'3.жеке-бардыгы болуп'!I114+'4.юрид-бардыгы болуп'!H114*'4.юрид-бардыгы болуп'!I114)/('3.жеке-бардыгы болуп'!H114+'4.юрид-бардыгы болуп'!H114) -> 1.6953882 | J114: ='3.жеке-бардыгы болуп'!J114+'4.юрид-бардыгы болуп'!J114 -> 170073.4 | K114: =('3.жеке-бардыгы болуп'!J114*'3.жеке-бардыгы болуп'!K114+'4.юрид-бардыгы болуп'!J114*'4.юрид-бардыгы болуп'!K114)/('3.жеке-бардыгы болуп'!J114+'4.юрид-бардыгы болуп'!J114) -> 3.2894521 | L114: ='3.жеке-бардыгы болуп'!L114+'4.юрид-бардыгы болуп'!L114 -> 166610.6 | M114: =('3.жеке-бардыгы болуп'!L114*'3.жеке-бардыгы болуп'!M114+'4.юрид-бардыгы болуп'!L114*'4.юрид-бардыгы болуп'!M114)/('3.жеке-бардыгы болуп'!L114+'4.юрид-бардыгы болуп'!L114) -> 5.9496984 | N114: ='3.жеке-бардыгы болуп'!N114+'4.юрид-бардыгы болуп'!N114 -> 106012.2 | O114: =('3.жеке-бардыгы болуп'!N114*'3.жеке-бардыгы болуп'!O114+'4.юрид-бардыгы болуп'!N114*'4.юрид-бардыгы болуп'!O114)/('3.жеке-бардыгы болуп'!N114+'4.юрид-бардыгы болуп'!N114) -> 7.388982 | P114: ='3.жеке-бардыгы болуп'!P114+'4.юрид-бардыгы болуп'!P114 -> 235781.7 | Q114: =('3.жеке-бардыгы болуп'!P114*'3.жеке-бардыгы болуп'!Q114+'4.юрид-бардыгы болуп'!P114*'4.юрид-бардыгы болуп'!Q114)/('3.жеке-бардыгы болуп'!P114+'4.юрид-бардыгы болуп'!P114) -> 7.6383343 | R114: ='3.жеке-бардыгы болуп'!R114+'4.юрид-бардыгы болуп'!R114 -> 0.5 | S114: =('3.жеке-бардыгы болуп'!R114*'3.жеке-бардыгы болуп'!S114+'4.юрид-бардыгы болуп'!R114*'4.юрид-бардыгы болуп'!S114)/('3.жеке-бардыгы болуп'!R114+'4.юрид-бардыгы болуп'!R114) -> 12
A115: Жетинин айы | B115: ='3.жеке-бардыгы болуп'!B115+'4.юрид-бардыгы болуп'!B115 -> 13252588 | C115: =('3.жеке-бардыгы болуп'!B115*'3.жеке-бардыгы болуп'!C115+'4.юрид-бардыгы болуп'!B115*'4.юрид-бардыгы болуп'!C115)/('3.жеке-бардыгы болуп'!B115+'4.юрид-бардыгы болуп'!B115) -> 0.17619582 | D115: ='3.жеке-бардыгы болуп'!D115+'4.юрид-бардыгы болуп'!D115 -> 12848765 | E115: =('3.жеке-бардыгы болуп'!D115*'3.жеке-бардыгы болуп'!E115+'4.юрид-бардыгы болуп'!D115*'4.юрид-бардыгы болуп'!E115)/('3.жеке-бардыгы болуп'!D115+'4.юрид-бардыгы болуп'!D115) -> 0.01375013 | F115: =H115+J115+L115+N115+P115+R115 -> 403822.6 | G115: =(H115*I115+J115*K115+L115*M115+N115*O115+P115*Q115+R115*S115)/(H115+J115+L115+N115+P115+R115) -> 5.3448677 | H115: ='3.жеке-бардыгы болуп'!H115+'4.юрид-бардыгы болуп'!H115 -> 125485.1 | I115: =('3.жеке-бардыгы болуп'!H115*'3.жеке-бардыгы болуп'!I115+'4.юрид-бардыгы болуп'!H115*'4.юрид-бардыгы болуп'!I115)/('3.жеке-бардыгы болуп'!H115+'4.юрид-бардыгы болуп'!H115) -> 2.7670497 | J115: ='3.жеке-бардыгы болуп'!J115+'4.юрид-бардыгы болуп'!J115 -> 74452.1 | K115: =('3.жеке-бардыгы болуп'!J115*'3.жеке-бардыгы болуп'!K115+'4.юрид-бардыгы болуп'!J115*'4.юрид-бардыгы болуп'!K115)/('3.жеке-бардыгы болуп'!J115+'4.юрид-бардыгы болуп'!J115) -> 3.965842 | L115: ='3.жеке-бардыгы болуп'!L115+'4.юрид-бардыгы болуп'!L115 -> 58535 | M115: =('3.жеке-бардыгы болуп'!L115*'3.жеке-бардыгы болуп'!M115+'4.юрид-бардыгы болуп'!L115*'4.юрид-бардыгы болуп'!M115)/('3.жеке-бардыгы болуп'!L115+'4.юрид-бардыгы болуп'!L115) -> 6.0870633 | N115: ='3.жеке-бардыгы болуп'!N115+'4.юрид-бардыгы болуп'!N115 -> 44649.3 | O115: =('3.жеке-бардыгы болуп'!N115*'3.жеке-бардыгы болуп'!O115+'4.юрид-бардыгы болуп'!N115*'4.юрид-бардыгы болуп'!O115)/('3.жеке-бардыгы болуп'!N115+'4.юрид-бардыгы болуп'!N115) -> 9.5076702 | P115: ='3.жеке-бардыгы болуп'!P115+'4.юрид-бардыгы болуп'!P115 -> 100700.8 | Q115: =('3.жеке-бардыгы болуп'!P115*'3.жеке-бардыгы болуп'!Q115+'4.юрид-бардыгы болуп'!P115*'4.юрид-бардыгы болуп'!Q115)/('3.жеке-бардыгы болуп'!P115+'4.юрид-бардыгы болуп'!P115) -> 7.2995341 | R115: ='3.жеке-бардыгы болуп'!R115+'4.юрид-бардыгы болуп'!R115 -> 0.3 | S115: =('3.жеке-бардыгы болуп'!R115*'3.жеке-бардыгы болуп'!S115+'4.юрид-бардыгы болуп'!R115*'4.юрид-бардыгы болуп'!S115)/('3.жеке-бардыгы болуп'!R115+'4.юрид-бардыгы болуп'!R115) -> 12
A116: Бештин айы | B116: ='3.жеке-бардыгы болуп'!B116+'4.юрид-бардыгы болуп'!B116 -> 14854000 | C116: =('3.жеке-бардыгы болуп'!B116*'3.жеке-бардыгы болуп'!C116+'4.юрид-бардыгы болуп'!B116*'4.юрид-бардыгы болуп'!C116)/('3.жеке-бардыгы болуп'!B116+'4.юрид-бардыгы болуп'!B116) -> 0.24472759 | D116: ='3.жеке-бардыгы болуп'!D116+'4.юрид-бардыгы болуп'!D116 -> 14154988 | E116: =('3.жеке-бардыгы болуп'!D116*'3.жеке-бардыгы болуп'!E116+'4.юрид-бардыгы болуп'!D116*'4.юрид-бардыгы болуп'!E116)/('3.жеке-бардыгы болуп'!D116+'4.юрид-бардыгы болуп'!D116) -> 0.017533398 | F116: =H116+J116+L116+N116+P116+R116 -> 699012 | G116: =(H116*I116+J116*K116+L116*M116+N116*O116+P116*Q116+R116*S116)/(H116+J116+L116+N116+P116+R116) -> 4.8454082 | H116: ='3.жеке-бардыгы болуп'!H116+'4.юрид-бардыгы болуп'!H116 -> 158887.9 | I116: =('3.жеке-бардыгы болуп'!H116*'3.жеке-бардыгы болуп'!I116+'4.юрид-бардыгы болуп'!H116*'4.юрид-бардыгы болуп'!I116)/('3.жеке-бардыгы болуп'!H116+'4.юрид-бардыгы болуп'!H116) -> 2.46083 | J116: ='3.жеке-бардыгы болуп'!J116+'4.юрид-бардыгы болуп'!J116 -> 126142.6 | K116: =('3.жеке-бардыгы болуп'!J116*'3.жеке-бардыгы болуп'!K116+'4.юрид-бардыгы болуп'!J116*'4.юрид-бардыгы болуп'!K116)/('3.жеке-бардыгы болуп'!J116+'4.юрид-бардыгы болуп'!J116) -> 3.8065781 | L116: ='3.жеке-бардыгы болуп'!L116+'4.юрид-бардыгы болуп'!L116 -> 66566.5 | M116: =('3.жеке-бардыгы болуп'!L116*'3.жеке-бардыгы болуп'!M116+'4.юрид-бардыгы болуп'!L116*'4.юрид-бардыгы болуп'!M116)/('3.жеке-бардыгы болуп'!L116+'4.юрид-бардыгы болуп'!L116) -> 7.5456316 | N116: ='3.жеке-бардыгы болуп'!N116+'4.юрид-бардыгы болуп'!N116 -> 58228.8 | O116: =('3.жеке-бардыгы болуп'!N116*'3.жеке-бардыгы болуп'!O116+'4.юрид-бардыгы болуп'!N116*'4.юрид-бардыгы болуп'!O116)/('3.жеке-бардыгы болуп'!N116+'4.юрид-бардыгы болуп'!N116) -> 8.9746048 | P116: ='3.жеке-бардыгы болуп'!P116+'4.юрид-бардыгы болуп'!P116 -> 227720.7 | Q116: =('3.жеке-бардыгы болуп'!P116*'3.жеке-бардыгы болуп'!Q116+'4.юрид-бардыгы болуп'!P116*'4.юрид-бардыгы болуп'!Q116)/('3.жеке-бардыгы болуп'!P116+'4.юрид-бардыгы болуп'!P116) -> 6.5471357 | R116: ='3.жеке-бардыгы болуп'!R116+'4.юрид-бардыгы болуп'!R116 -> 61465.5 | S116: =('3.жеке-бардыгы болуп'!R116*'3.жеке-бардыгы болуп'!S116+'4.юрид-бардыгы болуп'!R116*'4.юрид-бардыгы болуп'!S116)/('3.жеке-бардыгы болуп'!R116+'4.юрид-бардыгы болуп'!R116) -> 0.00074187959
A117: Үчтүн айы 2005 ж. | B117: ='3.жеке-бардыгы болуп'!B117+'4.юрид-бардыгы болуп'!B117 -> 8854900.8 | C117: =('3.жеке-бардыгы болуп'!B117*'3.жеке-бардыгы болуп'!C117+'4.юрид-бардыгы болуп'!B117*'4.юрид-бардыгы болуп'!C117)/('3.жеке-бардыгы болуп'!B117+'4.юрид-бардыгы болуп'!B117) -> 0.49379472 | D117: ='3.жеке-бардыгы болуп'!D117+'4.юрид-бардыгы болуп'!D117 -> 7919923.9 | E117: =('3.жеке-бардыгы болуп'!D117*'3.жеке-бардыгы болуп'!E117+'4.юрид-бардыгы болуп'!D117*'4.юрид-бардыгы болуп'!E117)/('3.жеке-бардыгы болуп'!D117+'4.юрид-бардыгы болуп'!D117) -> 0.0111707 | F117: =H117+J117+L117+N117+P117+R117 -> 934976.9 | G117: =(H117*I117+J117*K117+L117*M117+N117*O117+P117*Q117+R117*S117)/(H117+J117+L117+N117+P117+R117) -> 4.5819658 | H117: ='3.жеке-бардыгы болуп'!H117+'4.юрид-бардыгы болуп'!H117 -> 126965.3 | I117: =('3.жеке-бардыгы болуп'!H117*'3.жеке-бардыгы болуп'!I117+'4.юрид-бардыгы болуп'!H117*'4.юрид-бардыгы болуп'!I117)/('3.жеке-бардыгы болуп'!H117+'4.юрид-бардыгы болуп'!H117) -> 3.6816516 | J117: ='3.жеке-бардыгы болуп'!J117+'4.юрид-бардыгы болуп'!J117 -> 72767.1 | K117: =('3.жеке-бардыгы болуп'!J117*'3.жеке-бардыгы болуп'!K117+'4.юрид-бардыгы болуп'!J117*'4.юрид-бардыгы болуп'!K117)/('3.жеке-бардыгы болуп'!J117+'4.юрид-бардыгы болуп'!J117) -> 4.0885152 | L117: ='3.жеке-бардыгы болуп'!L117+'4.юрид-бардыгы болуп'!L117 -> 111258.9 | M117: =('3.жеке-бардыгы болуп'!L117*'3.жеке-бардыгы болуп'!M117+'4.юрид-бардыгы болуп'!L117*'4.юрид-бардыгы болуп'!M117)/('3.жеке-бардыгы болуп'!L117+'4.юрид-бардыгы болуп'!L117) -> 9.3513869 | N117: ='3.жеке-бардыгы болуп'!N117+'4.юрид-бардыгы болуп'!N117 -> 50974.9 | O117: =('3.жеке-бардыгы болуп'!N117*'3.жеке-бардыгы болуп'!O117+'4.юрид-бардыгы болуп'!N117*'4.юрид-бардыгы болуп'!O117)/('3.жеке-бардыгы болуп'!N117+'4.юрид-бардыгы болуп'!N117) -> 9.2653579 | P117: ='3.жеке-бардыгы болуп'!P117+'4.юрид-бардыгы болуп'!P117 -> 573010.4 | Q117: =('3.жеке-бардыгы болуп'!P117*'3.жеке-бардыгы болуп'!Q117+'4.юрид-бардыгы болуп'!P117*'4.юрид-бардыгы болуп'!Q117)/('3.жеке-бардыгы болуп'!P117+'4.юрид-бардыгы болуп'!P117) -> 3.5014224 | R117: ='3.жеке-бардыгы болуп'!R117+'4.юрид-бардыгы болуп'!R117 -> 0.3 | S117: =('3.жеке-бардыгы болуп'!R117*'3.жеке-бардыгы болуп'!S117+'4.юрид-бардыгы болуп'!R117*'4.юрид-бардыгы болуп'!S117)/('3.жеке-бардыгы болуп'!R117+'4.юрид-бардыгы болуп'!R117) -> 12
A118: Бирдин айы | B118: ='3.жеке-бардыгы болуп'!B118+'4.юрид-бардыгы болуп'!B118 -> 10691606 | C118: =('3.жеке-бардыгы болуп'!B118*'3.жеке-бардыгы болуп'!C118+'4.юрид-бардыгы болуп'!B118*'4.юрид-бардыгы болуп'!C118)/('3.жеке-бардыгы болуп'!B118+'4.юрид-бардыгы болуп'!B118) -> 0.25187512 | D118: ='3.жеке-бардыгы болуп'!D118+'4.юрид-бардыгы болуп'!D118 -> 10345418 | E118: =('3.жеке-бардыгы болуп'!D118*'3.жеке-бардыгы болуп'!E118+'4.юрид-бардыгы болуп'!D118*'4.юрид-бардыгы болуп'!E118)/('3.жеке-бардыгы болуп'!D118+'4.юрид-бардыгы болуп'!D118) -> 0.0105407 | F118: =H118+J118+L118+N118+P118+R118 -> 346187.9 | G118: =(H118*I118+J118*K118+L118*M118+N118*O118+P118*Q118+R118*S118)/(H118+J118+L118+N118+P118+R118) -> 7.46387 | H118: ='3.жеке-бардыгы болуп'!H118+'4.юрид-бардыгы болуп'!H118 -> 11301.5 | I118: =('3.жеке-бардыгы болуп'!H118*'3.жеке-бардыгы болуп'!I118+'4.юрид-бардыгы болуп'!H118*'4.юрид-бардыгы болуп'!I118)/('3.жеке-бардыгы болуп'!H118+'4.юрид-бардыгы болуп'!H118) -> 1.4539355 | J118: ='3.жеке-бардыгы болуп'!J118+'4.юрид-бардыгы болуп'!J118 -> 77613.6 | K118: =('3.жеке-бардыгы болуп'!J118*'3.жеке-бардыгы болуп'!K118+'4.юрид-бардыгы болуп'!J118*'4.юрид-бардыгы болуп'!K118)/('3.жеке-бардыгы болуп'!J118+'4.юрид-бардыгы болуп'!J118) -> 3.4383263 | L118: ='3.жеке-бардыгы болуп'!L118+'4.юрид-бардыгы болуп'!L118 -> 79383.6 | M118: =('3.жеке-бардыгы болуп'!L118*'3.жеке-бардыгы болуп'!M118+'4.юрид-бардыгы болуп'!L118*'4.юрид-бардыгы болуп'!M118)/('3.жеке-бардыгы болуп'!L118+'4.юрид-бардыгы болуп'!L118) -> 6.2830775 | N118: ='3.жеке-бардыгы болуп'!N118+'4.юрид-бардыгы болуп'!N118 -> 66937.7 | O118: =('3.жеке-бардыгы болуп'!N118*'3.жеке-бардыгы болуп'!O118+'4.юрид-бардыгы болуп'!N118*'4.юрид-бардыгы болуп'!O118)/('3.жеке-бардыгы болуп'!N118+'4.юрид-бардыгы болуп'!N118) -> 8.7691556 | P118: ='3.жеке-бардыгы болуп'!P118+'4.юрид-бардыгы болуп'!P118 -> 110951.2 | Q118: =('3.жеке-бардыгы болуп'!P118*'3.жеке-бардыгы болуп'!Q118+'4.юрид-бардыгы болуп'!P118*'4.юрид-бардыгы болуп'!Q118)/('3.жеке-бардыгы болуп'!P118+'4.юрид-бардыгы болуп'!P118) -> 10.949363 | R118: ='3.жеке-бардыгы болуп'!R118+'4.юрид-бардыгы болуп'!R118 -> 0.3 | S118: =('3.жеке-бардыгы болуп'!R118*'3.жеке-бардыгы болуп'!S118+'4.юрид-бардыгы болуп'!R118*'4.юрид-бардыгы болуп'!S118)/('3.жеке-бардыгы болуп'!R118+'4.юрид-бардыгы болуп'!R118) -> 12
A119: Жалган куран | B119: ='3.жеке-бардыгы болуп'!B119+'4.юрид-бардыгы болуп'!B119 -> 12266439 | C119: =('3.жеке-бардыгы болуп'!B119*'3.жеке-бардыгы болуп'!C119+'4.юрид-бардыгы болуп'!B119*'4.юрид-бардыгы болуп'!C119)/('3.жеке-бардыгы болуп'!B119+'4.юрид-бардыгы болуп'!B119) -> 0.24162238 | D119: ='3.жеке-бардыгы болуп'!D119+'4.юрид-бардыгы болуп'!D119 -> 11398437 | E119: =('3.жеке-бардыгы болуп'!D119*'3.жеке-бардыгы болуп'!E119+'4.юрид-бардыгы болуп'!D119*'4.юрид-бардыгы болуп'!E119)/('3.жеке-бардыгы болуп'!D119+'4.юрид-бардыгы болуп'!D119) -> 0.012365061 | F119: =H119+J119+L119+N119+P119+R119 -> 868002.3 | G119: =(H119*I119+J119*K119+L119*M119+N119*O119+P119*Q119+R119*S119)/(H119+J119+L119+N119+P119+R119) -> 3.2521847 | H119: ='3.жеке-бардыгы болуп'!H119+'4.юрид-бардыгы болуп'!H119 -> 45700.2 | I119: =('3.жеке-бардыгы болуп'!H119*'3.жеке-бардыгы болуп'!I119+'4.юрид-бардыгы болуп'!H119*'4.юрид-бардыгы болуп'!I119)/('3.жеке-бардыгы болуп'!H119+'4.юрид-бардыгы болуп'!H119) -> 1.8096179 | J119: ='3.жеке-бардыгы болуп'!J119+'4.юрид-бардыгы болуп'!J119 -> 61349.7 | K119: =('3.жеке-бардыгы болуп'!J119*'3.жеке-бардыгы болуп'!K119+'4.юрид-бардыгы болуп'!J119*'4.юрид-бардыгы болуп'!K119)/('3.жеке-бардыгы болуп'!J119+'4.юрид-бардыгы болуп'!J119) -> 3.6129583 | L119: ='3.жеке-бардыгы болуп'!L119+'4.юрид-бардыгы болуп'!L119 -> 46623.7 | M119: =('3.жеке-бардыгы болуп'!L119*'3.жеке-бардыгы болуп'!M119+'4.юрид-бардыгы болуп'!L119*'4.юрид-бардыгы болуп'!M119)/('3.жеке-бардыгы болуп'!L119+'4.юрид-бардыгы болуп'!L119) -> 8.9453941 | N119: ='3.жеке-бардыгы болуп'!N119+'4.юрид-бардыгы болуп'!N119 -> 52957.4 | O119: =('3.жеке-бардыгы болуп'!N119*'3.жеке-бардыгы болуп'!O119+'4.юрид-бардыгы болуп'!N119*'4.юрид-бардыгы болуп'!O119)/('3.жеке-бардыгы болуп'!N119+'4.юрид-бардыгы болуп'!N119) -> 8.2707278 | P119: ='3.жеке-бардыгы болуп'!P119+'4.юрид-бардыгы болуп'!P119 -> 600759.9 | Q119: =('3.жеке-бардыгы болуп'!P119*'3.жеке-бардыгы болуп'!Q119+'4.юрид-бардыгы болуп'!P119*'4.юрид-бардыгы болуп'!Q119)/('3.жеке-бардыгы болуп'!P119+'4.юрид-бардыгы болуп'!P119) -> 2.7689624 | R119: ='3.жеке-бардыгы болуп'!R119+'4.юрид-бардыгы болуп'!R119 -> 60611.4 | S119: =('3.жеке-бардыгы болуп'!R119*'3.жеке-бардыгы болуп'!S119+'4.юрид-бардыгы болуп'!R119*'4.юрид-бардыгы болуп'!S119)/('3.жеке-бардыгы болуп'!R119+'4.юрид-бардыгы болуп'!R119) -> 7.9193023e-05
A120: Чын куран | B120: ='3.жеке-бардыгы болуп'!B120+'4.юрид-бардыгы болуп'!B120 -> 14580227 | C120: =('3.жеке-бардыгы болуп'!B120*'3.жеке-бардыгы болуп'!C120+'4.юрид-бардыгы болуп'!B120*'4.юрид-бардыгы болуп'!C120)/('3.жеке-бардыгы болуп'!B120+'4.юрид-бардыгы болуп'!B120) -> 0.24237296 | D120: ='3.жеке-бардыгы болуп'!D120+'4.юрид-бардыгы болуп'!D120 -> 14064667 | E120: =('3.жеке-бардыгы болуп'!D120*'3.жеке-бардыгы болуп'!E120+'4.юрид-бардыгы болуп'!D120*'4.юрид-бардыгы болуп'!E120)/('3.жеке-бардыгы болуп'!D120+'4.юрид-бардыгы болуп'!D120) -> 0.011872425 | F120: =H120+J120+L120+N120+P120+R120 -> 515559.9 | G120: =(H120*I120+J120*K120+L120*M120+N120*O120+P120*Q120+R120*S120)/(H120+J120+L120+N120+P120+R120) -> 6.5305139 | H120: ='3.жеке-бардыгы болуп'!H120+'4.юрид-бардыгы болуп'!H120 -> 20816.6 | I120: =('3.жеке-бардыгы болуп'!H120*'3.жеке-бардыгы болуп'!I120+'4.юрид-бардыгы болуп'!H120*'4.юрид-бардыгы болуп'!I120)/('3.жеке-бардыгы болуп'!H120+'4.юрид-бардыгы болуп'!H120) -> 2.2293516 | J120: ='3.жеке-бардыгы болуп'!J120+'4.юрид-бардыгы болуп'!J120 -> 161651 | K120: =('3.жеке-бардыгы болуп'!J120*'3.жеке-бардыгы болуп'!K120+'4.юрид-бардыгы болуп'!J120*'4.юрид-бардыгы болуп'!K120)/('3.жеке-бардыгы болуп'!J120+'4.юрид-бардыгы болуп'!J120) -> 3.8577046 | L120: ='3.жеке-бардыгы болуп'!L120+'4.юрид-бардыгы болуп'!L120 -> 60442.6 | M120: =('3.жеке-бардыгы болуп'!L120*'3.жеке-бардыгы болуп'!M120+'4.юрид-бардыгы болуп'!L120*'4.юрид-бардыгы болуп'!M120)/('3.жеке-бардыгы болуп'!L120+'4.юрид-бардыгы болуп'!L120) -> 6.9732468 | N120: ='3.жеке-бардыгы болуп'!N120+'4.юрид-бардыгы болуп'!N120 -> 65064.7 | O120: =('3.жеке-бардыгы болуп'!N120*'3.жеке-бардыгы болуп'!O120+'4.юрид-бардыгы болуп'!N120*'4.юрид-бардыгы болуп'!O120)/('3.жеке-бардыгы болуп'!N120+'4.юрид-бардыгы болуп'!N120) -> 10.160284 | P120: ='3.жеке-бардыгы болуп'!P120+'4.юрид-бардыгы болуп'!P120 -> 207584.7 | Q120: =('3.жеке-бардыгы болуп'!P120*'3.жеке-бардыгы болуп'!Q120+'4.юрид-бардыгы болуп'!P120*'4.юрид-бардыгы болуп'!Q120)/('3.жеке-бардыгы болуп'!P120+'4.юрид-бардыгы болуп'!P120) -> 7.7765902 | R120: ='3.жеке-бардыгы болуп'!R120+'4.юрид-бардыгы болуп'!R120 -> 0.3 | S120: =('3.жеке-бардыгы болуп'!R120*'3.жеке-бардыгы болуп'!S120+'4.юрид-бардыгы болуп'!R120*'4.юрид-бардыгы болуп'!S120)/('3.жеке-бардыгы болуп'!R120+'4.юрид-бардыгы болуп'!R120) -> 12
A121: Бугу | B121: ='3.жеке-бардыгы болуп'!B121+'4.юрид-бардыгы болуп'!B121 -> 9694579.6 | C121: =('3.жеке-бардыгы болуп'!B121*'3.жеке-бардыгы болуп'!C121+'4.юрид-бардыгы болуп'!B121*'4.юрид-бардыгы болуп'!C121)/('3.жеке-бардыгы болуп'!B121+'4.юрид-бардыгы болуп'!B121) -> 0.21343434 | D121: ='3.жеке-бардыгы болуп'!D121+'4.юрид-бардыгы болуп'!D121 -> 9402590.5 | E121: =('3.жеке-бардыгы болуп'!D121*'3.жеке-бардыгы болуп'!E121+'4.юрид-бардыгы болуп'!D121*'4.юрид-бардыгы болуп'!E121)/('3.жеке-бардыгы болуп'!D121+'4.юрид-бардыгы болуп'!D121) -> 0.021996625 | F121: =H121+J121+L121+N121+P121+R121 -> 291989.1 | G121: =(H121*I121+J121*K121+L121*M121+N121*O121+P121*Q121+R121*S121)/(H121+J121+L121+N121+P121+R121) -> 6.3780839 | H121: ='3.жеке-бардыгы болуп'!H121+'4.юрид-бардыгы болуп'!H121 -> 8355.5 | I121: =('3.жеке-бардыгы болуп'!H121*'3.жеке-бардыгы болуп'!I121+'4.юрид-бардыгы болуп'!H121*'4.юрид-бардыгы болуп'!I121)/('3.жеке-бардыгы болуп'!H121+'4.юрид-бардыгы болуп'!H121) -> 2.0156049 | J121: ='3.жеке-бардыгы болуп'!J121+'4.юрид-бардыгы болуп'!J121 -> 156424.3 | K121: =('3.жеке-бардыгы болуп'!J121*'3.жеке-бардыгы болуп'!K121+'4.юрид-бардыгы болуп'!J121*'4.юрид-бардыгы болуп'!K121)/('3.жеке-бардыгы болуп'!J121+'4.юрид-бардыгы болуп'!J121) -> 4.0853234 | L121: ='3.жеке-бардыгы болуп'!L121+'4.юрид-бардыгы болуп'!L121 -> 47757.5 | M121: =('3.жеке-бардыгы болуп'!L121*'3.жеке-бардыгы болуп'!M121+'4.юрид-бардыгы болуп'!L121*'4.юрид-бардыгы болуп'!M121)/('3.жеке-бардыгы болуп'!L121+'4.юрид-бардыгы болуп'!L121) -> 7.3367781 | N121: ='3.жеке-бардыгы болуп'!N121+'4.юрид-бардыгы болуп'!N121 -> 41156.1 | O121: =('3.жеке-бардыгы болуп'!N121*'3.жеке-бардыгы болуп'!O121+'4.юрид-бардыгы болуп'!N121*'4.юрид-бардыгы болуп'!O121)/('3.жеке-бардыгы болуп'!N121+'4.юрид-бардыгы болуп'!N121) -> 9.8158445 | P121: ='3.жеке-бардыгы болуп'!P121+'4.юрид-бардыгы болуп'!P121 -> 38169 | Q121: =('3.жеке-бардыгы болуп'!P121*'3.жеке-бардыгы болуп'!Q121+'4.юрид-бардыгы болуп'!P121*'4.юрид-бардыгы болуп'!Q121)/('3.жеке-бардыгы болуп'!P121+'4.юрид-бардыгы болуп'!P121) -> 11.810911 | R121: ='3.жеке-бардыгы болуп'!R121+'4.юрид-бардыгы болуп'!R121 -> 126.7 | S121: =('3.жеке-бардыгы болуп'!R121*'3.жеке-бардыгы болуп'!S121+'4.юрид-бардыгы болуп'!R121*'4.юрид-бардыгы болуп'!S121)/('3.жеке-бардыгы болуп'!R121+'4.юрид-бардыгы болуп'!R121) -> 10
A122: Кулжа | B122: ='3.жеке-бардыгы болуп'!B122+'4.юрид-бардыгы болуп'!B122 -> 7806894.1 | C122: =('3.жеке-бардыгы болуп'!B122*'3.жеке-бардыгы болуп'!C122+'4.юрид-бардыгы болуп'!B122*'4.юрид-бардыгы болуп'!C122)/('3.жеке-бардыгы болуп'!B122+'4.юрид-бардыгы болуп'!B122) -> 0.27343483 | D122: ='3.жеке-бардыгы болуп'!D122+'4.юрид-бардыгы болуп'!D122 -> 7354716.5 | E122: =('3.жеке-бардыгы болуп'!D122*'3.жеке-бардыгы болуп'!E122+'4.юрид-бардыгы болуп'!D122*'4.юрид-бардыгы болуп'!E122)/('3.жеке-бардыгы болуп'!D122+'4.юрид-бардыгы болуп'!D122) -> 0.025249469 | F122: =H122+J122+L122+N122+P122+R122 -> 452177.6 | G122: =(H122*I122+J122*K122+L122*M122+N122*O122+P122*Q122+R122*S122)/(H122+J122+L122+N122+P122+R122) -> 4.310196 | H122: ='3.жеке-бардыгы болуп'!H122+'4.юрид-бардыгы болуп'!H122 -> 27077.8 | I122: =('3.жеке-бардыгы болуп'!H122*'3.жеке-бардыгы болуп'!I122+'4.юрид-бардыгы болуп'!H122*'4.юрид-бардыгы болуп'!I122)/('3.жеке-бардыгы болуп'!H122+'4.юрид-бардыгы болуп'!H122) -> 1.3579043 | J122: ='3.жеке-бардыгы болуп'!J122+'4.юрид-бардыгы болуп'!J122 -> 195918.2 | K122: =('3.жеке-бардыгы болуп'!J122*'3.жеке-бардыгы болуп'!K122+'4.юрид-бардыгы болуп'!J122*'4.юрид-бардыгы болуп'!K122)/('3.жеке-бардыгы болуп'!J122+'4.юрид-бардыгы болуп'!J122) -> 2.4382082 | L122: ='3.жеке-бардыгы болуп'!L122+'4.юрид-бардыгы болуп'!L122 -> 84742.9 | M122: =('3.жеке-бардыгы болуп'!L122*'3.жеке-бардыгы болуп'!M122+'4.юрид-бардыгы болуп'!L122*'4.юрид-бардыгы болуп'!M122)/('3.жеке-бардыгы болуп'!L122+'4.юрид-бардыгы болуп'!L122) -> 7.4365878 | N122: ='3.жеке-бардыгы болуп'!N122+'4.юрид-бардыгы болуп'!N122 -> 40310.5 | O122: =('3.жеке-бардыгы болуп'!N122*'3.жеке-бардыгы болуп'!O122+'4.юрид-бардыгы болуп'!N122*'4.юрид-бардыгы болуп'!O122)/('3.жеке-бардыгы болуп'!N122+'4.юрид-бардыгы болуп'!N122) -> 8.6228722 | P122: ='3.жеке-бардыгы болуп'!P122+'4.юрид-бардыгы болуп'!P122 -> 44364.9 | Q122: =('3.жеке-бардыгы болуп'!P122*'3.жеке-бардыгы болуп'!Q122+'4.юрид-бардыгы болуп'!P122*'4.юрид-бардыгы болуп'!Q122)/('3.жеке-бардыгы болуп'!P122+'4.юрид-бардыгы болуп'!P122) -> 10.294677 | R122: ='3.жеке-бардыгы болуп'!R122+'4.юрид-бардыгы болуп'!R122 -> 59763.3 | S122: =('3.жеке-бардыгы болуп'!R122*'3.жеке-бардыгы болуп'!S122+'4.юрид-бардыгы болуп'!R122*'4.юрид-бардыгы болуп'!S122)/('3.жеке-бардыгы болуп'!R122+'4.юрид-бардыгы болуп'!R122) -> 5.0198031e-05
A123: Теке | B123: ='3.жеке-бардыгы болуп'!B123+'4.юрид-бардыгы болуп'!B123 -> 5145279.4 | C123: =('3.жеке-бардыгы болуп'!B123*'3.жеке-бардыгы болуп'!C123+'4.юрид-бардыгы болуп'!B123*'4.юрид-бардыгы болуп'!C123)/('3.жеке-бардыгы болуп'!B123+'4.юрид-бардыгы болуп'!B123) -> 0.57822794 | D123: ='3.жеке-бардыгы болуп'!D123+'4.юрид-бардыгы болуп'!D123 -> 4725280 | E123: =('3.жеке-бардыгы болуп'!D123*'3.жеке-бардыгы болуп'!E123+'4.юрид-бардыгы болуп'!D123*'4.юрид-бардыгы болуп'!E123)/('3.жеке-бардыгы болуп'!D123+'4.юрид-бардыгы болуп'!D123) -> 0.059260407 | F123: =H123+J123+L123+N123+P123+R123 -> 419999.4 | G123: =(H123*I123+J123*K123+L123*M123+N123*O123+P123*Q123+R123*S123)/(H123+J123+L123+N123+P123+R123) -> 6.4169669 | H123: ='3.жеке-бардыгы болуп'!H123+'4.юрид-бардыгы болуп'!H123 -> 20338.5 | I123: =('3.жеке-бардыгы болуп'!H123*'3.жеке-бардыгы болуп'!I123+'4.юрид-бардыгы болуп'!H123*'4.юрид-бардыгы болуп'!I123)/('3.жеке-бардыгы болуп'!H123+'4.юрид-бардыгы болуп'!H123) -> 0.5135187 | J123: ='3.жеке-бардыгы болуп'!J123+'4.юрид-бардыгы болуп'!J123 -> 198282 | K123: =('3.жеке-бардыгы болуп'!J123*'3.жеке-бардыгы болуп'!K123+'4.юрид-бардыгы болуп'!J123*'4.юрид-бардыгы болуп'!K123)/('3.жеке-бардыгы болуп'!J123+'4.юрид-бардыгы болуп'!J123) -> 5.6539142 | L123: ='3.жеке-бардыгы болуп'!L123+'4.юрид-бардыгы болуп'!L123 -> 55209.7 | M123: =('3.жеке-бардыгы болуп'!L123*'3.жеке-бардыгы болуп'!M123+'4.юрид-бардыгы болуп'!L123*'4.юрид-бардыгы болуп'!M123)/('3.жеке-бардыгы болуп'!L123+'4.юрид-бардыгы болуп'!L123) -> 6.0490585 | N123: ='3.жеке-бардыгы болуп'!N123+'4.юрид-бардыгы болуп'!N123 -> 62962.4 | O123: =('3.жеке-бардыгы болуп'!N123*'3.жеке-бардыгы болуп'!O123+'4.юрид-бардыгы болуп'!N123*'4.юрид-бардыгы болуп'!O123)/('3.жеке-бардыгы болуп'!N123+'4.юрид-бардыгы болуп'!N123) -> 7.9053506 | P123: ='3.жеке-бардыгы болуп'!P123+'4.юрид-бардыгы болуп'!P123 -> 82141.8 | Q123: =('3.жеке-бардыгы болуп'!P123*'3.жеке-бардыгы болуп'!Q123+'4.юрид-бардыгы болуп'!P123*'4.юрид-бардыгы болуп'!Q123)/('3.жеке-бардыгы болуп'!P123+'4.юрид-бардыгы болуп'!P123) -> 8.8972289 | R123: ='3.жеке-бардыгы болуп'!R123+'4.юрид-бардыгы болуп'!R123 -> 1065 | S123: =('3.жеке-бардыгы болуп'!R123*'3.жеке-бардыгы болуп'!S123+'4.юрид-бардыгы болуп'!R123*'4.юрид-бардыгы болуп'!S123)/('3.жеке-бардыгы болуп'!R123+'4.юрид-бардыгы болуп'!R123) -> 1.0025352
A124: Баш оона | B124: ='3.жеке-бардыгы болуп'!B124+'4.юрид-бардыгы болуп'!B124 -> 3821973.4 | C124: =('3.жеке-бардыгы болуп'!B124*'3.жеке-бардыгы болуп'!C124+'4.юрид-бардыгы болуп'!B124*'4.юрид-бардыгы болуп'!C124)/('3.жеке-бардыгы болуп'!B124+'4.юрид-бардыгы болуп'!B124) -> 0.73371658 | D124: ='3.жеке-бардыгы болуп'!D124+'4.юрид-бардыгы болуп'!D124 -> 3413237.3 | E124: =('3.жеке-бардыгы болуп'!D124*'3.жеке-бардыгы болуп'!E124+'4.юрид-бардыгы болуп'!D124*'4.юрид-бардыгы болуп'!E124)/('3.жеке-бардыгы болуп'!D124+'4.юрид-бардыгы болуп'!D124) -> 0.072071912 | F124: =H124+J124+L124+N124+P124+R124 -> 408736.1 | G124: =(H124*I124+J124*K124+L124*M124+N124*O124+P124*Q124+R124*S124)/(H124+J124+L124+N124+P124+R124) -> 6.2589204 | H124: ='3.жеке-бардыгы болуп'!H124+'4.юрид-бардыгы болуп'!H124 -> 38770 | I124: =('3.жеке-бардыгы болуп'!H124*'3.жеке-бардыгы болуп'!I124+'4.юрид-бардыгы болуп'!H124*'4.юрид-бардыгы болуп'!I124)/('3.жеке-бардыгы болуп'!H124+'4.юрид-бардыгы болуп'!H124) -> 3.2414873 | J124: ='3.жеке-бардыгы болуп'!J124+'4.юрид-бардыгы болуп'!J124 -> 66804.7 | K124: =('3.жеке-бардыгы болуп'!J124*'3.жеке-бардыгы болуп'!K124+'4.юрид-бардыгы болуп'!J124*'4.юрид-бардыгы болуп'!K124)/('3.жеке-бардыгы болуп'!J124+'4.юрид-бардыгы болуп'!J124) -> 4.6788593 | L124: ='3.жеке-бардыгы болуп'!L124+'4.юрид-бардыгы болуп'!L124 -> 125908.8 | M124: =('3.жеке-бардыгы болуп'!L124*'3.жеке-бардыгы болуп'!M124+'4.юрид-бардыгы болуп'!L124*'4.юрид-бардыгы болуп'!M124)/('3.жеке-бардыгы болуп'!L124+'4.юрид-бардыгы болуп'!L124) -> 5.1164641 | N124: ='3.жеке-бардыгы болуп'!N124+'4.юрид-бардыгы болуп'!N124 -> 66454.8 | O124: =('3.жеке-бардыгы болуп'!N124*'3.жеке-бардыгы болуп'!O124+'4.юрид-бардыгы болуп'!N124*'4.юрид-бардыгы болуп'!O124)/('3.жеке-бардыгы болуп'!N124+'4.юрид-бардыгы болуп'!N124) -> 9.6988938 | P124: ='3.жеке-бардыгы болуп'!P124+'4.юрид-бардыгы болуп'!P124 -> 110789.3 | Q124: =('3.жеке-бардыгы болуп'!P124*'3.жеке-бардыгы болуп'!Q124+'4.юрид-бардыгы болуп'!P124*'4.юрид-бардыгы болуп'!Q124)/('3.жеке-бардыгы болуп'!P124+'4.юрид-бардыгы болуп'!P124) -> 7.502291 | R124: ='3.жеке-бардыгы болуп'!R124+'4.юрид-бардыгы болуп'!R124 -> 8.5 | S124: =('3.жеке-бардыгы болуп'!R124*'3.жеке-бардыгы болуп'!S124+'4.юрид-бардыгы болуп'!R124*'4.юрид-бардыгы болуп'!S124)/('3.жеке-бардыгы болуп'!R124+'4.юрид-бардыгы болуп'!R124) -> 10
... A176: Бештин айы | B176: ='3.жеке-бардыгы болуп'!B176+'4.юрид-бардыгы болуп'!B176 -> 8890531 | C176: =('3.жеке-бардыгы болуп'!B176*'3.жеке-бардыгы болуп'!C176+'4.юрид-бардыгы болуп'!B176*'4.юрид-бардыгы болуп'!C176)/('3.жеке-бардыгы болуп'!B176+'4.юрид-бардыгы болуп'!B176) -> 2.3396294 | D176: ='3.жеке-бардыгы болуп'!D176+'4.юрид-бардыгы болуп'!D176 -> 6320772.6 | E176: =('3.жеке-бардыгы болуп'!D176*'3.жеке-бардыгы болуп'!E176+'4.юрид-бардыгы болуп'!D176*'4.юрид-бардыгы болуп'!E176)/('3.жеке-бардыгы болуп'!D176+'4.юрид-бардыгы болуп'!D176) -> 0.27429923 | F176: =H176+J176+L176+N176+P176+R176 -> 2569758.4 | G176: =(H176*I176+J176*K176+L176*M176+N176*O176+P176*Q176+R176*S176)/(H176+J176+L176+N176+P176+R176) -> 7.4196721 | H176: ='3.жеке-бардыгы болуп'!H176+'4.юрид-бардыгы болуп'!H176 -> 82742.4 | I176: =('3.жеке-бардыгы болуп'!H176*'3.жеке-бардыгы болуп'!I176+'4.юрид-бардыгы болуп'!H176*'4.юрид-бардыгы болуп'!I176)/('3.жеке-бардыгы болуп'!H176+'4.юрид-бардыгы болуп'!H176) -> 2.3030222 | J176: ='3.жеке-бардыгы болуп'!J176+'4.юрид-бардыгы болуп'!J176 -> 892003.6 | K176: =('3.жеке-бардыгы болуп'!J176*'3.жеке-бардыгы болуп'!K176+'4.юрид-бардыгы болуп'!J176*'4.юрид-бардыгы болуп'!K176)/('3.жеке-бардыгы болуп'!J176+'4.юрид-бардыгы болуп'!J176) -> 4.0029561 | L176: ='3.жеке-бардыгы болуп'!L176+'4.юрид-бардыгы болуп'!L176 -> 285457 | M176: =('3.жеке-бардыгы болуп'!L176*'3.жеке-бардыгы болуп'!M176+'4.юрид-бардыгы болуп'!L176*'4.юрид-бардыгы болуп'!M176)/('3.жеке-бардыгы болуп'!L176+'4.юрид-бардыгы болуп'!L176) -> 7.7357653 | N176: ='3.жеке-бардыгы болуп'!N176+'4.юрид-бардыгы болуп'!N176 -> 986723.4 | O176: =('3.жеке-бардыгы болуп'!N176*'3.жеке-бардыгы болуп'!O176+'4.юрид-бардыгы болуп'!N176*'4.юрид-бардыгы болуп'!O176)/('3.жеке-бардыгы болуп'!N176+'4.юрид-бардыгы болуп'!N176) -> 9.0184253 | P176: ='3.жеке-бардыгы болуп'!P176+'4.юрид-бардыгы болуп'!P176 -> 321362.4 | Q176: =('3.жеке-бардыгы болуп'!P176*'3.жеке-бардыгы болуп'!Q176+'4.юрид-бардыгы болуп'!P176*'4.юрид-бардыгы болуп'!Q176)/('3.жеке-бардыгы болуп'!P176+'4.юрид-бардыгы болуп'!P176) -> 13.055207 | R176: ='3.жеке-бардыгы болуп'!R176+'4.юрид-бардыгы болуп'!R176 -> 1469.6 | S176: =('3.жеке-бардыгы болуп'!R176*'3.жеке-бардыгы болуп'!S176+'4.юрид-бардыгы болуп'!R176*'4.юрид-бардыгы болуп'!S176)/('3.жеке-бардыгы болуп'!R176+'4.юрид-бардыгы болуп'!R176) -> 2.1664126
A177: Үчтүн айы 2010 ж. | B177: ='3.жеке-бардыгы болуп'!B177+'4.юрид-бардыгы болуп'!B177+'5.рез.эмес.-бардыгы болуп'!B9 -> 7364367.1 | C177: =('3.жеке-бардыгы болуп'!B177*'3.жеке-бардыгы болуп'!C177+'4.юрид-бардыгы болуп'!B177*'4.юрид-бардыгы болуп'!C177+'5.рез.эмес.-бардыгы болуп'!B9*'5.рез.эмес.-бардыгы болуп'!C9)/('3.жеке-бардыгы болуп'!B177+'4.юрид-бардыгы болуп'!B177+'5.рез.эмес.-бардыгы болуп'!B9) -> 2.1847937 | D177: ='3.жеке-бардыгы болуп'!D177+'4.юрид-бардыгы болуп'!D177+'5.рез.эмес.-бардыгы болуп'!D9 -> 5781609.7 | E177: =('3.жеке-бардыгы болуп'!D177*'3.жеке-бардыгы болуп'!E177+'4.юрид-бардыгы болуп'!D177*'4.юрид-бардыгы болуп'!E177+'5.рез.эмес.-бардыгы болуп'!D9*'5.рез.эмес.-бардыгы болуп'!E9)/('3.жеке-бардыгы болуп'!D177+'4.юрид-бардыгы болуп'!D177+'5.рез.эмес.-бардыгы болуп'!D9) -> 0.16483901 | F177: =H177+J177+L177+N177+P177+R177 -> 1582757.4 | G177: =(H177*I177+J177*K177+L177*M177+N177*O177+P177*Q177+R177*S177)/(H177+J177+L177+N177+P177+R177) -> 9.5634291 | H177: ='3.жеке-бардыгы болуп'!H177+'4.юрид-бардыгы болуп'!H177+'5.рез.эмес.-бардыгы болуп'!H9 -> 40289.6 | I177: =('3.жеке-бардыгы болуп'!H177*'3.жеке-бардыгы болуп'!I177+'4.юрид-бардыгы болуп'!H177*'4.юрид-бардыгы болуп'!I177+'5.рез.эмес.-бардыгы болуп'!H9*'5.рез.эмес.-бардыгы болуп'!I9)/('3.жеке-бардыгы болуп'!H177+'4.юрид-бардыгы болуп'!H177+'5.рез.эмес.-бардыгы болуп'!H9) -> 3.086776 | J177: ='3.жеке-бардыгы болуп'!J177+'4.юрид-бардыгы болуп'!J177+'5.рез.эмес.-бардыгы болуп'!J9 -> 246659.6 | K177: =('3.жеке-бардыгы болуп'!J177*'3.жеке-бардыгы болуп'!K177+'4.юрид-бардыгы болуп'!J177*'4.юрид-бардыгы болуп'!K177+'5.рез.эмес.-бардыгы болуп'!J9*'5.рез.эмес.-бардыгы болуп'!K9)/('3.жеке-бардыгы болуп'!J177+'4.юрид-бардыгы болуп'!J177+'5.рез.эмес.-бардыгы болуп'!J9) -> 5.7144794 | L177: ='3.жеке-бардыгы болуп'!L177+'4.юрид-бардыгы болуп'!L177+'5.рез.эмес.-бардыгы болуп'!L9 -> 228294.3 | M177: =('3.жеке-бардыгы болуп'!L177*'3.жеке-бардыгы болуп'!M177+'4.юрид-бардыгы болуп'!L177*'4.юрид-бардыгы болуп'!M177+'5.рез.эмес.-бардыгы болуп'!L9*'5.рез.эмес.-бардыгы болуп'!M9)/('3.жеке-бардыгы болуп'!L177+'4.юрид-бардыгы болуп'!L177+'5.рез.эмес.-бардыгы болуп'!L9) -> 8.6031548 | N177: ='3.жеке-бардыгы болуп'!N177+'4.юрид-бардыгы болуп'!N177+'5.рез.эмес.-бардыгы болуп'!N9 -> 583655.8 | O177: =('3.жеке-бардыгы болуп'!N177*'3.жеке-бардыгы болуп'!O177+'4.юрид-бардыгы болуп'!N177*'4.юрид-бардыгы болуп'!O177+'5.рез.эмес.-бардыгы болуп'!N9*'5.рез.эмес.-бардыгы болуп'!O9)/('3.жеке-бардыгы болуп'!N177+'4.юрид-бардыгы болуп'!N177+'5.рез.эмес.-бардыгы болуп'!N9) -> 9.3314251 | P177: ='3.жеке-бардыгы болуп'!P177+'4.юрид-бардыгы болуп'!P177+'5.рез.эмес.-бардыгы болуп'!P9 -> 444083.7 | Q177: =('3.жеке-бардыгы болуп'!P177*'3.жеке-бардыгы болуп'!Q177+'4.юрид-бардыгы болуп'!P177*'4.юрид-бардыгы болуп'!Q177+'5.рез.эмес.-бардыгы болуп'!P9*'5.рез.эмес.-бардыгы болуп'!Q9)/('3.жеке-бардыгы болуп'!P177+'4.юрид-бардыгы болуп'!P177+'5.рез.эмес.-бардыгы болуп'!P9) -> 12.949609 | R177: ='3.жеке-бардыгы болуп'!R177+'4.юрид-бардыгы болуп'!R177+'5.рез.эмес.-бардыгы болуп'!R9 -> 39774.4 | S177: =('3.жеке-бардыгы болуп'!R177*'3.жеке-бардыгы болуп'!S177+'4.юрид-бардыгы болуп'!R177*'4.юрид-бардыгы болуп'!S177+'5.рез.эмес.-бардыгы болуп'!R9*'5.рез.эмес.-бардыгы болуп'!S9)/('3.жеке-бардыгы болуп'!R177+'4.юрид-бардыгы болуп'!R177+'5.рез.эмес.-бардыгы болуп'!R9) -> 11.102364
A178: Бирдин айы | B178: ='3.жеке-бардыгы болуп'!B178+'4.юрид-бардыгы болуп'!B178+'5.рез.эмес.-бардыгы болуп'!B10 -> 7717825.3 | C178: =('3.жеке-бардыгы болуп'!B178*'3.жеке-бардыгы болуп'!C178+'4.юрид-бардыгы болуп'!B178*'4.юрид-бардыгы болуп'!C178+'5.рез.эмес.-бардыгы болуп'!B10*'5.рез.эмес.-бардыгы болуп'!C10)/('3.жеке-бардыгы болуп'!B178+'4.юрид-бардыгы болуп'!B178+'5.рез.эмес.-бардыгы болуп'!B10) -> 1.9394408 | D178: ='3.жеке-бардыгы болуп'!D178+'4.юрид-бардыгы болуп'!D178+'5.рез.эмес.-бардыгы болуп'!D10 -> 6159045 | E178: =('3.жеке-бардыгы болуп'!D178*'3.жеке-бардыгы болуп'!E178+'4.юрид-бардыгы болуп'!D178*'4.юрид-бардыгы болуп'!E178+'5.рез.эмес.-бардыгы болуп'!D10*'5.рез.эмес.-бардыгы болуп'!E10)/('3.жеке-бардыгы болуп'!D178+'4.юрид-бардыгы болуп'!D178+'5.рез.эмес.-бардыгы болуп'!D10) -> 0.22661627 | F178: =H178+J178+L178+N178+P178+R178 -> 1558780.3 | G178: =(H178*I178+J178*K178+L178*M178+N178*O178+P178*Q178+R178*S178)/(H178+J178+L178+N178+P178+R178) -> 8.7071444 | H178: ='3.жеке-бардыгы болуп'!H178+'4.юрид-бардыгы болуп'!H178+'5.рез.эмес.-бардыгы болуп'!H10 -> 31372.1 | I178: =('3.жеке-бардыгы болуп'!H178*'3.жеке-бардыгы болуп'!I178+'4.юрид-бардыгы болуп'!H178*'4.юрид-бардыгы болуп'!I178+'5.рез.эмес.-бардыгы болуп'!H10*'5.рез.эмес.-бардыгы болуп'!I10)/('3.жеке-бардыгы болуп'!H178+'4.юрид-бардыгы болуп'!H178+'5.рез.эмес.-бардыгы болуп'!H10) -> 3.4619749 | J178: ='3.жеке-бардыгы болуп'!J178+'4.юрид-бардыгы болуп'!J178+'5.рез.эмес.-бардыгы болуп'!J10 -> 163803.3 | K178: =('3.жеке-бардыгы болуп'!J178*'3.жеке-бардыгы болуп'!K178+'4.юрид-бардыгы болуп'!J178*'4.юрид-бардыгы болуп'!K178+'5.рез.эмес.-бардыгы болуп'!J10*'5.рез.эмес.-бардыгы болуп'!K10)/('3.жеке-бардыгы болуп'!J178+'4.юрид-бардыгы болуп'!J178+'5.рез.эмес.-бардыгы болуп'!J10) -> 5.1077559 | L178: ='3.жеке-бардыгы болуп'!L178+'4.юрид-бардыгы болуп'!L178+'5.рез.эмес.-бардыгы болуп'!L10 -> 296378.8 | M178: =('3.жеке-бардыгы болуп'!L178*'3.жеке-бардыгы болуп'!M178+'4.юрид-бардыгы болуп'!L178*'4.юрид-бардыгы болуп'!M178+'5.рез.эмес.-бардыгы болуп'!L10*'5.рез.эмес.-бардыгы болуп'!M10)/('3.жеке-бардыгы болуп'!L178+'4.юрид-бардыгы болуп'!L178+'5.рез.эмес.-бардыгы болуп'!L10) -> 6.1253651 | N178: ='3.жеке-бардыгы болуп'!N178+'4.юрид-бардыгы болуп'!N178+'5.рез.эмес.-бардыгы болуп'!N10 -> 755394 | O178: =('3.жеке-бардыгы болуп'!N178*'3.жеке-бардыгы болуп'!O178+'4.юрид-бардыгы болуп'!N178*'4.юрид-бардыгы болуп'!O178+'5.рез.эмес.-бардыгы болуп'!N10*'5.рез.эмес.-бардыгы болуп'!O10)/('3.жеке-бардыгы болуп'!N178+'4.юрид-бардыгы болуп'!N178+'5.рез.эмес.-бардыгы болуп'!N10) -> 9.3337675 | P178: ='3.жеке-бардыгы болуп'!P178+'4.юрид-бардыгы болуп'!P178+'5.рез.эмес.-бардыгы болуп'!P10 -> 311741 | Q178: =('3.жеке-бардыгы болуп'!P178*'3.жеке-бардыгы болуп'!Q178+'4.юрид-бардыгы болуп'!P178*'4.юрид-бардыгы болуп'!Q178+'5.рез.эмес.-бардыгы болуп'!P10*'5.рез.эмес.-бардыгы болуп'!Q10)/('3.жеке-бардыгы болуп'!P178+'4.юрид-бардыгы болуп'!P178+'5.рез.эмес.-бардыгы болуп'!P10) -> 12.061111 | R178: ='3.жеке-бардыгы болуп'!R178+'4.юрид-бардыгы болуп'!R178+'5.рез.эмес.-бардыгы болуп'!R10 -> 91.1 | S178: =('3.жеке-бардыгы болуп'!R178*'3.жеке-бардыгы болуп'!S178+'4.юрид-бардыгы болуп'!R178*'4.юрид-бардыгы болуп'!S178+'5.рез.эмес.-бардыгы болуп'!R10*'5.рез.эмес.-бардыгы болуп'!S10)/('3.жеке-бардыгы болуп'!R178+'4.юрид-бардыгы болуп'!R178+'5.рез.эмес.-бардыгы болуп'!R10) -> 13.228869
A179: Жалган куран | B179: ='3.жеке-бардыгы болуп'!B179+'4.юрид-бардыгы болуп'!B179+'5.рез.эмес.-бардыгы болуп'!B11 -> 11797167 | C179: =('3.жеке-бардыгы болуп'!B179*'3.жеке-бардыгы болуп'!C179+'4.юрид-бардыгы болуп'!B179*'4.юрид-бардыгы болуп'!C179+'5.рез.эмес.-бардыгы болуп'!B11*'5.рез.эмес.-бардыгы болуп'!C11)/('3.жеке-бардыгы болуп'!B179+'4.юрид-бардыгы болуп'!B179+'5.рез.эмес.-бардыгы болуп'!B11) -> 1.7361647 | D179: ='3.жеке-бардыгы болуп'!D179+'4.юрид-бардыгы болуп'!D179+'5.рез.эмес.-бардыгы болуп'!D11 -> 9242942.6 | E179: =('3.жеке-бардыгы болуп'!D179*'3.жеке-бардыгы болуп'!E179+'4.юрид-бардыгы болуп'!D179*'4.юрид-бардыгы болуп'!E179+'5.рез.эмес.-бардыгы болуп'!D11*'5.рез.эмес.-бардыгы болуп'!E11)/('3.жеке-бардыгы болуп'!D179+'4.юрид-бардыгы болуп'!D179+'5.рез.эмес.-бардыгы болуп'!D11) -> 0.23153756 | F179: =H179+J179+L179+N179+P179+R179 -> 2554224.1 | G179: =(H179*I179+J179*K179+L179*M179+N179*O179+P179*Q179+R179*S179)/(H179+J179+L179+N179+P179+R179) -> 7.1809422 | H179: ='3.жеке-бардыгы болуп'!H179+'4.юрид-бардыгы болуп'!H179+'5.рез.эмес.-бардыгы болуп'!H11 -> 76051.9 | I179: =('3.жеке-бардыгы болуп'!H179*'3.жеке-бардыгы болуп'!I179+'4.юрид-бардыгы болуп'!H179*'4.юрид-бардыгы болуп'!I179+'5.рез.эмес.-бардыгы болуп'!H11*'5.рез.эмес.-бардыгы болуп'!I11)/('3.жеке-бардыгы болуп'!H179+'4.юрид-бардыгы болуп'!H179+'5.рез.эмес.-бардыгы болуп'!H11) -> 3.9150284 | J179: ='3.жеке-бардыгы болуп'!J179+'4.юрид-бардыгы болуп'!J179+'5.рез.эмес.-бардыгы болуп'!J11 -> 232418.1 | K179: =('3.жеке-бардыгы болуп'!J179*'3.жеке-бардыгы болуп'!K179+'4.юрид-бардыгы болуп'!J179*'4.юрид-бардыгы болуп'!K179+'5.рез.эмес.-бардыгы болуп'!J11*'5.рез.эмес.-бардыгы болуп'!K11)/('3.жеке-бардыгы болуп'!J179+'4.юрид-бардыгы болуп'!J179+'5.рез.эмес.-бардыгы болуп'!J11) -> 4.5240161 | L179: ='3.жеке-бардыгы болуп'!L179+'4.юрид-бардыгы болуп'!L179+'5.рез.эмес.-бардыгы болуп'!L11 -> 220322.8 | M179: =('3.жеке-бардыгы болуп'!L179*'3.жеке-бардыгы болуп'!M179+'4.юрид-бардыгы болуп'!L179*'4.юрид-бардыгы болуп'!M179+'5.рез.эмес.-бардыгы болуп'!L11*'5.рез.эмес.-бардыгы болуп'!M11)/('3.жеке-бардыгы болуп'!L179+'4.юрид-бардыгы болуп'!L179+'5.рез.эмес.-бардыгы болуп'!L11) -> 8.1423693 | N179: ='3.жеке-бардыгы болуп'!N179+'4.юрид-бардыгы болуп'!N179+'5.рез.эмес.-бардыгы болуп'!N11 -> 695510.8 | O179: =('3.жеке-бардыгы болуп'!N179*'3.жеке-бардыгы болуп'!O179+'4.юрид-бардыгы болуп'!N179*'4.юрид-бардыгы болуп'!O179+'5.рез.эмес.-бардыгы болуп'!N11*'5.рез.эмес.-бардыгы болуп'!O11)/('3.жеке-бардыгы болуп'!N179+'4.юрид-бардыгы болуп'!N179+'5.рез.эмес.-бардыгы болуп'!N11) -> 8.1080801 | P179: ='3.жеке-бардыгы болуп'!P179+'4.юрид-бардыгы болуп'!P179+'5.рез.эмес.-бардыгы болуп'!P11 -> 611981.8 | Q179: =('3.жеке-бардыгы болуп'!P179*'3.жеке-бардыгы болуп'!Q179+'4.юрид-бардыгы болуп'!P179*'4.юрид-бардыгы болуп'!Q179+'5.рез.эмес.-бардыгы болуп'!P11*'5.рез.эмес.-бардыгы болуп'!Q11)/('3.жеке-бардыгы болуп'!P179+'4.юрид-бардыгы болуп'!P179+'5.рез.эмес.-бардыгы болуп'!P11) -> 8.588955 | R179: ='3.жеке-бардыгы болуп'!R179+'4.юрид-бардыгы болуп'!R179+'5.рез.эмес.-бардыгы болуп'!R11 -> 717938.7 | S179: =('3.жеке-бардыгы болуп'!R179*'3.жеке-бардыгы болуп'!S179+'4.юрид-бардыгы болуп'!R179*'4.юрид-бардыгы болуп'!S179+'5.рез.эмес.-бардыгы болуп'!R11*'5.рез.эмес.-бардыгы болуп'!S11)/('3.жеке-бардыгы болуп'!R179+'4.юрид-бардыгы болуп'!R179+'5.рез.эмес.-бардыгы болуп'!R11) -> 5.993598
A180: Чын куран | B180: ='3.жеке-бардыгы болуп'!B180+'4.юрид-бардыгы болуп'!B180+'5.рез.эмес.-бардыгы болуп'!B12 -> 8952498.8 | C180: =('3.жеке-бардыгы болуп'!B180*'3.жеке-бардыгы болуп'!C180+'4.юрид-бардыгы болуп'!B180*'4.юрид-бардыгы болуп'!C180+'5.рез.эмес.-бардыгы болуп'!B12*'5.рез.эмес.-бардыгы болуп'!C12)/('3.жеке-бардыгы болуп'!B180+'4.юрид-бардыгы болуп'!B180+'5.рез.эмес.-бардыгы болуп'!B12) -> 1.650194 | D180: ='3.жеке-бардыгы болуп'!D180+'4.юрид-бардыгы болуп'!D180+'5.рез.эмес.-бардыгы болуп'!D12 -> 7330990.7 | E180: =('3.жеке-бардыгы болуп'!D180*'3.жеке-бардыгы болуп'!E180+'4.юрид-бардыгы болуп'!D180*'4.юрид-бардыгы болуп'!E180+'5.рез.эмес.-бардыгы болуп'!D12*'5.рез.эмес.-бардыгы болуп'!E12)/('3.жеке-бардыгы болуп'!D180+'4.юрид-бардыгы болуп'!D180+'5.рез.эмес.-бардыгы болуп'!D12) -> 0.35260828 | F180: =H180+J180+L180+N180+P180+R180 -> 1621508.1 | G180: =(H180*I180+J180*K180+L180*M180+N180*O180+P180*Q180+R180*S180)/(H180+J180+L180+N180+P180+R180) -> 7.5167009 | H180: ='3.жеке-бардыгы болуп'!H180+'4.юрид-бардыгы болуп'!H180+'5.рез.эмес.-бардыгы болуп'!H12 -> 52607.5 | I180: =('3.жеке-бардыгы болуп'!H180*'3.жеке-бардыгы болуп'!I180+'4.юрид-бардыгы болуп'!H180*'4.юрид-бардыгы болуп'!I180+'5.рез.эмес.-бардыгы болуп'!H12*'5.рез.эмес.-бардыгы болуп'!I12)/('3.жеке-бардыгы болуп'!H180+'4.юрид-бардыгы болуп'!H180+'5.рез.эмес.-бардыгы болуп'!H12) -> 1.6917151 | J180: ='3.жеке-бардыгы болуп'!J180+'4.юрид-бардыгы болуп'!J180+'5.рез.эмес.-бардыгы болуп'!J12 -> 163491.1 | K180: =('3.жеке-бардыгы болуп'!J180*'3.жеке-бардыгы болуп'!K180+'4.юрид-бардыгы болуп'!J180*'4.юрид-бардыгы болуп'!K180+'5.рез.эмес.-бардыгы болуп'!J12*'5.рез.эмес.-бардыгы болуп'!K12)/('3.жеке-бардыгы болуп'!J180+'4.юрид-бардыгы болуп'!J180+'5.рез.эмес.-бардыгы болуп'!J12) -> 4.0628003 | L180: ='3.жеке-бардыгы болуп'!L180+'4.юрид-бардыгы болуп'!L180+'5.рез.эмес.-бардыгы болуп'!L12 -> 194769.3 | M180: =('3.жеке-бардыгы болуп'!L180*'3.жеке-бардыгы болуп'!M180+'4.юрид-бардыгы болуп'!L180*'4.юрид-бардыгы болуп'!M180+'5.рез.эмес.-бардыгы болуп'!L12*'5.рез.эмес.-бардыгы болуп'!M12)/('3.жеке-бардыгы болуп'!L180+'4.юрид-бардыгы болуп'!L180+'5.рез.эмес.-бардыгы болуп'!L12) -> 8.4188722 | N180: ='3.жеке-бардыгы болуп'!N180+'4.юрид-бардыгы болуп'!N180+'5.рез.эмес.-бардыгы болуп'!N12 -> 855687.6 | O180: =('3.жеке-бардыгы болуп'!N180*'3.жеке-бардыгы болуп'!O180+'4.юрид-бардыгы болуп'!N180*'4.юрид-бардыгы болуп'!O180+'5.рез.эмес.-бардыгы болуп'!N12*'5.рез.эмес.-бардыгы болуп'!O12)/('3.жеке-бардыгы болуп'!N180+'4.юрид-бардыгы болуп'!N180+'5.рез.эмес.-бардыгы болуп'!N12) -> 6.5938184 | P180: ='3.жеке-бардыгы болуп'!P180+'4.юрид-бардыгы болуп'!P180+'5.рез.эмес.-бардыгы болуп'!P12 -> 354791.9 | Q180: =('3.жеке-бардыгы болуп'!P180*'3.жеке-бардыгы болуп'!Q180+'4.юрид-бардыгы болуп'!P180*'4.юрид-бардыгы болуп'!Q180+'5.рез.эмес.-бардыгы болуп'!P12*'5.рез.эмес.-бардыгы болуп'!Q12)/('3.жеке-бардыгы болуп'!P180+'4.юрид-бардыгы болуп'!P180+'5.рез.эмес.-бардыгы болуп'!P12) -> 11.699303 | R180: ='3.жеке-бардыгы болуп'!R180+'4.юрид-бардыгы болуп'!R180+'5.рез.эмес.-бардыгы болуп'!R12 -> 160.7 | S180: =('3.жеке-бардыгы болуп'!R180*'3.жеке-бардыгы болуп'!S180+'4.юрид-бардыгы болуп'!R180*'4.юрид-бардыгы болуп'!S180+'5.рез.эмес.-бардыгы болуп'!R12*'5.рез.эмес.-бардыгы болуп'!S12)/('3.жеке-бардыгы болуп'!R180+'4.юрид-бардыгы болуп'!R180+'5.рез.эмес.-бардыгы болуп'!R12) -> 14.675289
A181: Бугу | B181: ='3.жеке-бардыгы болуп'!B181+'4.юрид-бардыгы болуп'!B181+'5.рез.эмес.-бардыгы болуп'!B13 -> 8387738.4 | C181: =('3.жеке-бардыгы болуп'!B181*'3.жеке-бардыгы болуп'!C181+'4.юрид-бардыгы болуп'!B181*'4.юрид-бардыгы болуп'!C181+'5.рез.эмес.-бардыгы болуп'!B13*'5.рез.эмес.-бардыгы болуп'!C13)/('3.жеке-бардыгы болуп'!B181+'4.юрид-бардыгы болуп'!B181+'5.рез.эмес.-бардыгы болуп'!B13) -> 1.2809414 | D181: ='3.жеке-бардыгы болуп'!D181+'4.юрид-бардыгы болуп'!D181+'5.рез.эмес.-бардыгы болуп'!D13 -> 7433911.4 | E181: =('3.жеке-бардыгы болуп'!D181*'3.жеке-бардыгы болуп'!E181+'4.юрид-бардыгы болуп'!D181*'4.юрид-бардыгы болуп'!E181+'5.рез.эмес.-бардыгы болуп'!D13*'5.рез.эмес.-бардыгы болуп'!E13)/('3.жеке-бардыгы болуп'!D181+'4.юрид-бардыгы болуп'!D181+'5.рез.эмес.-бардыгы болуп'!D13) -> 0.42905898 | F181: =H181+J181+L181+N181+P181+R181 -> 953827 | G181: =(H181*I181+J181*K181+L181*M181+N181*O181+P181*Q181+R181*S181)/(H181+J181+L181+N181+P181+R181) -> 7.92032 | H181: ='3.жеке-бардыгы болуп'!H181+'4.юрид-бардыгы болуп'!H181+'5.рез.эмес.-бардыгы болуп'!H13 -> 90329.5 | I181: =('3.жеке-бардыгы болуп'!H181*'3.жеке-бардыгы болуп'!I181+'4.юрид-бардыгы болуп'!H181*'4.юрид-бардыгы болуп'!I181+'5.рез.эмес.-бардыгы болуп'!H13*'5.рез.эмес.-бардыгы болуп'!I13)/('3.жеке-бардыгы болуп'!H181+'4.юрид-бардыгы болуп'!H181+'5.рез.эмес.-бардыгы болуп'!H13) -> 2.5332286 | J181: ='3.жеке-бардыгы болуп'!J181+'4.юрид-бардыгы болуп'!J181+'5.рез.эмес.-бардыгы болуп'!J13 -> 184100.2 | K181: =('3.жеке-бардыгы болуп'!J181*'3.жеке-бардыгы болуп'!K181+'4.юрид-бардыгы болуп'!J181*'4.юрид-бардыгы болуп'!K181+'5.рез.эмес.-бардыгы болуп'!J13*'5.рез.эмес.-бардыгы болуп'!K13)/('3.жеке-бардыгы болуп'!J181+'4.юрид-бардыгы болуп'!J181+'5.рез.эмес.-бардыгы болуп'!J13) -> 4.3810544 | L181: ='3.жеке-бардыгы болуп'!L181+'4.юрид-бардыгы болуп'!L181+'5.рез.эмес.-бардыгы болуп'!L13 -> 162879.5 | M181: =('3.жеке-бардыгы болуп'!L181*'3.жеке-бардыгы болуп'!M181+'4.юрид-бардыгы болуп'!L181*'4.юрид-бардыгы болуп'!M181+'5.рез.эмес.-бардыгы болуп'!L13*'5.рез.эмес.-бардыгы болуп'!M13)/('3.жеке-бардыгы болуп'!L181+'4.юрид-бардыгы болуп'!L181+'5.рез.эмес.-бардыгы болуп'!L13) -> 7.7491565 | N181: ='3.жеке-бардыгы болуп'!N181+'4.юрид-бардыгы болуп'!N181+'5.рез.эмес.-бардыгы болуп'!N13 -> 225565.9 | O181: =('3.жеке-бардыгы болуп'!N181*'3.жеке-бардыгы болуп'!O181+'4.юрид-бардыгы болуп'!N181*'4.юрид-бардыгы болуп'!O181+'5.рез.эмес.-бардыгы болуп'!N13*'5.рез.эмес.-бардыгы болуп'!O13)/('3.жеке-бардыгы болуп'!N181+'4.юрид-бардыгы болуп'!N181+'5.рез.эмес.-бардыгы болуп'!N13) -> 7.4956072 | P181: ='3.жеке-бардыгы болуп'!P181+'4.юрид-бардыгы болуп'!P181+'5.рез.эмес.-бардыгы болуп'!P13 -> 290725.8 | Q181: =('3.жеке-бардыгы болуп'!P181*'3.жеке-бардыгы болуп'!Q181+'4.юрид-бардыгы болуп'!P181*'4.юрид-бардыгы болуп'!Q181+'5.рез.эмес.-бардыгы болуп'!P13*'5.рез.эмес.-бардыгы болуп'!Q13)/('3.жеке-бардыгы болуп'!P181+'4.юрид-бардыгы болуп'!P181+'5.рез.эмес.-бардыгы болуп'!P13) -> 12.257608 | R181: ='3.жеке-бардыгы болуп'!R181+'4.юрид-бардыгы болуп'!R181+'5.рез.эмес.-бардыгы болуп'!R13 -> 226.1 | S181: =('3.жеке-бардыгы болуп'!R181*'3.жеке-бардыгы болуп'!S181+'4.юрид-бардыгы болуп'!R181*'4.юрид-бардыгы болуп'!S181+'5.рез.эмес.-бардыгы болуп'!R13*'5.рез.эмес.-бардыгы болуп'!S13)/('3.жеке-бардыгы болуп'!R181+'4.юрид-бардыгы болуп'!R181+'5.рез.эмес.-бардыгы болуп'!R13) -> 11.950022
A182: Кулжа | B182: ='3.жеке-бардыгы болуп'!B182+'4.юрид-бардыгы болуп'!B182+'5.рез.эмес.-бардыгы болуп'!B14 -> 9101929.9 | C182: =('3.жеке-бардыгы болуп'!B182*'3.жеке-бардыгы болуп'!C182+'4.юрид-бардыгы болуп'!B182*'4.юрид-бардыгы болуп'!C182+'5.рез.эмес.-бардыгы болуп'!B14*'5.рез.эмес.-бардыгы болуп'!C14)/('3.жеке-бардыгы болуп'!B182+'4.юрид-бардыгы болуп'!B182+'5.рез.эмес.-бардыгы болуп'!B14) -> 1.3896475 | D182: ='3.жеке-бардыгы болуп'!D182+'4.юрид-бардыгы болуп'!D182+'5.рез.эмес.-бардыгы болуп'!D14 -> 8035302.4 | E182: =('3.жеке-бардыгы болуп'!D182*'3.жеке-бардыгы болуп'!E182+'4.юрид-бардыгы болуп'!D182*'4.юрид-бардыгы болуп'!E182+'5.рез.эмес.-бардыгы болуп'!D14*'5.рез.эмес.-бардыгы болуп'!E14)/('3.жеке-бардыгы болуп'!D182+'4.юрид-бардыгы болуп'!D182+'5.рез.эмес.-бардыгы болуп'!D14) -> 0.41316134 | F182: =H182+J182+L182+N182+P182+R182 -> 1066627.5 | G182: =(H182*I182+J182*K182+L182*M182+N182*O182+P182*Q182+R182*S182)/(H182+J182+L182+N182+P182+R182) -> 8.7458811 | H182: ='3.жеке-бардыгы болуп'!H182+'4.юрид-бардыгы болуп'!H182+'5.рез.эмес.-бардыгы болуп'!H14 -> 85491.7 | I182: =('3.жеке-бардыгы болуп'!H182*'3.жеке-бардыгы болуп'!I182+'4.юрид-бардыгы болуп'!H182*'4.юрид-бардыгы болуп'!I182+'5.рез.эмес.-бардыгы болуп'!H14*'5.рез.эмес.-бардыгы болуп'!I14)/('3.жеке-бардыгы болуп'!H182+'4.юрид-бардыгы болуп'!H182+'5.рез.эмес.-бардыгы болуп'!H14) -> 1.8113274 | J182: ='3.жеке-бардыгы болуп'!J182+'4.юрид-бардыгы болуп'!J182+'5.рез.эмес.-бардыгы болуп'!J14 -> 128502.2 | K182: =('3.жеке-бардыгы болуп'!J182*'3.жеке-бардыгы болуп'!K182+'4.юрид-бардыгы болуп'!J182*'4.юрид-бардыгы болуп'!K182+'5.рез.эмес.-бардыгы болуп'!J14*'5.рез.эмес.-бардыгы болуп'!K14)/('3.жеке-бардыгы болуп'!J182+'4.юрид-бардыгы болуп'!J182+'5.рез.эмес.-бардыгы болуп'!J14) -> 4.3320526 | L182: ='3.жеке-бардыгы болуп'!L182+'4.юрид-бардыгы болуп'!L182+'5.рез.эмес.-бардыгы болуп'!L14 -> 184513.2 | M182: =('3.жеке-бардыгы болуп'!L182*'3.жеке-бардыгы болуп'!M182+'4.юрид-бардыгы болуп'!L182*'4.юрид-бардыгы болуп'!M182+'5.рез.эмес.-бардыгы болуп'!L14*'5.рез.эмес.-бардыгы болуп'!M14)/('3.жеке-бардыгы болуп'!L182+'4.юрид-бардыгы болуп'!L182+'5.рез.эмес.-бардыгы болуп'!L14) -> 7.1242884 | N182: ='3.жеке-бардыгы болуп'!N182+'4.юрид-бардыгы болуп'!N182+'5.рез.эмес.-бардыгы болуп'!N14 -> 404417.2 | O182: =('3.жеке-бардыгы болуп'!N182*'3.жеке-бардыгы болуп'!O182+'4.юрид-бардыгы болуп'!N182*'4.юрид-бардыгы болуп'!O182+'5.рез.эмес.-бардыгы болуп'!N14*'5.рез.эмес.-бардыгы болуп'!O14)/('3.жеке-бардыгы болуп'!N182+'4.юрид-бардыгы болуп'!N182+'5.рез.эмес.-бардыгы болуп'!N14) -> 9.9580234 | P182: ='3.жеке-бардыгы болуп'!P182+'4.юрид-бардыгы болуп'!P182+'5.рез.эмес.-бардыгы болуп'!P14 -> 262829.8 | Q182: =('3.жеке-бардыгы болуп'!P182*'3.жеке-бардыгы болуп'!Q182+'4.юрид-бардыгы болуп'!P182*'4.юрид-бардыгы болуп'!Q182+'5.рез.эмес.-бардыгы болуп'!P14*'5.рез.эмес.-бардыгы болуп'!Q14)/('3.жеке-бардыгы болуп'!P182+'4.юрид-бардыгы болуп'!P182+'5.рез.эмес.-бардыгы болуп'!P14) -> 12.424581 | R182: ='3.жеке-бардыгы болуп'!R182+'4.юрид-бардыгы болуп'!R182+'5.рез.эмес.-бардыгы болуп'!R14 -> 873.4 | S182: =('3.жеке-бардыгы болуп'!R182*'3.жеке-бардыгы болуп'!S182+'4.юрид-бардыгы болуп'!R182*'4.юрид-бардыгы болуп'!S182+'5.рез.эмес.-бардыгы болуп'!R14*'5.рез.эмес.-бардыгы болуп'!S14)/('3.жеке-бардыгы болуп'!R182+'4.юрид-бардыгы болуп'!R182+'5.рез.эмес.-бардыгы болуп'!R14) -> 11.214074
A183: Теке | B183: ='3.жеке-бардыгы болуп'!B183+'4.юрид-бардыгы болуп'!B183+'5.рез.эмес.-бардыгы болуп'!B15 -> 9807523.8 | C183: =('3.жеке-бардыгы болуп'!B183*'3.жеке-бардыгы болуп'!C183+'4.юрид-бардыгы болуп'!B183*'4.юрид-бардыгы болуп'!C183+'5.рез.эмес.-бардыгы болуп'!B15*'5.рез.эмес.-бардыгы болуп'!C15)/('3.жеке-бардыгы болуп'!B183+'4.юрид-бардыгы болуп'!B183+'5.рез.эмес.-бардыгы болуп'!B15) -> 1.2912657 | D183: ='3.жеке-бардыгы болуп'!D183+'4.юрид-бардыгы болуп'!D183+'5.рез.эмес.-бардыгы болуп'!D15 -> 8659325.1 | E183: =('3.жеке-бардыгы болуп'!D183*'3.жеке-бардыгы болуп'!E183+'4.юрид-бардыгы болуп'!D183*'4.юрид-бардыгы болуп'!E183+'5.рез.эмес.-бардыгы болуп'!D15*'5.рез.эмес.-бардыгы болуп'!E15)/('3.жеке-бардыгы болуп'!D183+'4.юрид-бардыгы болуп'!D183+'5.рез.эмес.-бардыгы болуп'!D15) -> 0.37870844 | F183: =H183+J183+L183+N183+P183+R183 -> 1148198.7 | G183: =(H183*I183+J183*K183+L183*M183+N183*O183+P183*Q183+R183*S183)/(H183+J183+L183+N183+P183+R183) -> 8.1734627 | H183: ='3.жеке-бардыгы болуп'!H183+'4.юрид-бардыгы болуп'!H183+'5.рез.эмес.-бардыгы болуп'!H15 -> 60464.7 | I183: =('3.жеке-бардыгы болуп'!H183*'3.жеке-бардыгы болуп'!I183+'4.юрид-бардыгы болуп'!H183*'4.юрид-бардыгы болуп'!I183+'5.рез.эмес.-бардыгы болуп'!H15*'5.рез.эмес.-бардыгы болуп'!I15)/('3.жеке-бардыгы болуп'!H183+'4.юрид-бардыгы болуп'!H183+'5.рез.эмес.-бардыгы болуп'!H15) -> 2.9840262 | J183: ='3.жеке-бардыгы болуп'!J183+'4.юрид-бардыгы болуп'!J183+'5.рез.эмес.-бардыгы болуп'!J15 -> 282082.4 | K183: =('3.жеке-бардыгы болуп'!J183*'3.жеке-бардыгы болуп'!K183+'4.юрид-бардыгы болуп'!J183*'4.юрид-бардыгы болуп'!K183+'5.рез.эмес.-бардыгы болуп'!J15*'5.рез.эмес.-бардыгы болуп'!K15)/('3.жеке-бардыгы болуп'!J183+'4.юрид-бардыгы болуп'!J183+'5.рез.эмес.-бардыгы болуп'!J15) -> 3.486426 | L183: ='3.жеке-бардыгы болуп'!L183+'4.юрид-бардыгы болуп'!L183+'5.рез.эмес.-бардыгы болуп'!L15 -> 231755.7 | M183: =('3.жеке-бардыгы болуп'!L183*'3.жеке-бардыгы болуп'!M183+'4.юрид-бардыгы болуп'!L183*'4.юрид-бардыгы болуп'!M183+'5.рез.эмес.-бардыгы болуп'!L15*'5.рез.эмес.-бардыгы болуп'!M15)/('3.жеке-бардыгы болуп'!L183+'4.юрид-бардыгы болуп'!L183+'5.рез.эмес.-бардыгы болуп'!L15) -> 6.9773297 | N183: ='3.жеке-бардыгы болуп'!N183+'4.юрид-бардыгы болуп'!N183+'5.рез.эмес.-бардыгы болуп'!N15 -> 268055.1 | O183: =('3.жеке-бардыгы болуп'!N183*'3.жеке-бардыгы болуп'!O183+'4.юрид-бардыгы болуп'!N183*'4.юрид-бардыгы болуп'!O183+'5.рез.эмес.-бардыгы болуп'!N15*'5.рез.эмес.-бардыгы болуп'!O15)/('3.жеке-бардыгы болуп'!N183+'4.юрид-бардыгы болуп'!N183+'5.рез.эмес.-бардыгы болуп'!N15) -> 10.958158 | P183: ='3.жеке-бардыгы болуп'!P183+'4.юрид-бардыгы болуп'!P183+'5.рез.эмес.-бардыгы болуп'!P15 -> 304885.3 | Q183: =('3.жеке-бардыгы болуп'!P183*'3.жеке-бардыгы болуп'!Q183+'4.юрид-бардыгы болуп'!P183*'4.юрид-бардыгы болуп'!Q183+'5.рез.эмес.-бардыгы болуп'!P15*'5.рез.эмес.-бардыгы болуп'!Q15)/('3.жеке-бардыгы болуп'!P183+'4.юрид-бардыгы болуп'!P183+'5.рез.эмес.-бардыгы болуп'!P15) -> 11.993388 | R183: ='3.жеке-бардыгы болуп'!R183+'4.юрид-бардыгы болуп'!R183+'5.рез.эмес.-бардыгы болуп'!R15 -> 955.5 | S183: =('3.жеке-бардыгы болуп'!R183*'3.жеке-бардыгы болуп'!S183+'4.юрид-бардыгы болуп'!R183*'4.юрид-бардыгы болуп'!S183+'5.рез.эмес.-бардыгы болуп'!R15*'5.рез.эмес.-бардыгы болуп'!S15)/('3.жеке-бардыгы болуп'!R183+'4.юрид-бардыгы болуп'!R183+'5.рез.эмес.-бардыгы болуп'!R15) -> 10.295856
A184: Баш оона | B184: ='3.жеке-бардыгы болуп'!B184+'4.юрид-бардыгы болуп'!B184+'5.рез.эмес.-бардыгы болуп'!B16 -> 11099103 | C184: =('3.жеке-бардыгы болуп'!B184*'3.жеке-бардыгы болуп'!C184+'4.юрид-бардыгы болуп'!B184*'4.юрид-бардыгы болуп'!C184+'5.рез.эмес.-бардыгы болуп'!B16*'5.рез.эмес.-бардыгы болуп'!C16)/('3.жеке-бардыгы болуп'!B184+'4.юрид-бардыгы болуп'!B184+'5.рез.эмес.-бардыгы болуп'!B16) -> 1.2807038 | D184: ='3.жеке-бардыгы болуп'!D184+'4.юрид-бардыгы болуп'!D184+'5.рез.эмес.-бардыгы болуп'!D16 -> 10163384 | E184: =('3.жеке-бардыгы болуп'!D184*'3.жеке-бардыгы болуп'!E184+'4.юрид-бардыгы болуп'!D184*'4.юрид-бардыгы болуп'!E184+'5.рез.эмес.-бардыгы болуп'!D16*'5.рез.эмес.-бардыгы болуп'!E16)/('3.жеке-бардыгы болуп'!D184+'4.юрид-бардыгы болуп'!D184+'5.рез.эмес.-бардыгы болуп'!D16) -> 0.59078512 | F184: =H184+J184+L184+N184+P184+R184 -> 935718.7 | G184: =(H184*I184+J184*K184+L184*M184+N184*O184+P184*Q184+R184*S184)/(H184+J184+L184+N184+P184+R184) -> 8.7743112 | H184: ='3.жеке-бардыгы болуп'!H184+'4.юрид-бардыгы болуп'!H184+'5.рез.эмес.-бардыгы болуп'!H16 -> 46904.9 | I184: =('3.жеке-бардыгы болуп'!H184*'3.жеке-бардыгы болуп'!I184+'4.юрид-бардыгы болуп'!H184*'4.юрид-бардыгы болуп'!I184+'5.рез.эмес.-бардыгы болуп'!H16*'5.рез.эмес.-бардыгы болуп'!I16)/('3.жеке-бардыгы болуп'!H184+'4.юрид-бардыгы болуп'!H184+'5.рез.эмес.-бардыгы болуп'!H16) -> 2.3385222 | J184: ='3.жеке-бардыгы болуп'!J184+'4.юрид-бардыгы болуп'!J184+'5.рез.эмес.-бардыгы болуп'!J16 -> 158763.4 | K184: =('3.жеке-бардыгы болуп'!J184*'3.жеке-бардыгы болуп'!K184+'4.юрид-бардыгы болуп'!J184*'4.юрид-бардыгы болуп'!K184+'5.рез.эмес.-бардыгы болуп'!J16*'5.рез.эмес.-бардыгы болуп'!K16)/('3.жеке-бардыгы болуп'!J184+'4.юрид-бардыгы болуп'!J184+'5.рез.эмес.-бардыгы болуп'!J16) -> 4.055395 | L184: ='3.жеке-бардыгы болуп'!L184+'4.юрид-бардыгы болуп'!L184+'5.рез.эмес.-бардыгы болуп'!L16 -> 176373 | M184: =('3.жеке-бардыгы болуп'!L184*'3.жеке-бардыгы болуп'!M184+'4.юрид-бардыгы болуп'!L184*'4.юрид-бардыгы болуп'!M184+'5.рез.эмес.-бардыгы болуп'!L16*'5.рез.эмес.-бардыгы болуп'!M16)/('3.жеке-бардыгы болуп'!L184+'4.юрид-бардыгы болуп'!L184+'5.рез.эмес.-бардыгы болуп'!L16) -> 6.8926881 | N184: ='3.жеке-бардыгы болуп'!N184+'4.юрид-бардыгы болуп'!N184+'5.рез.эмес.-бардыгы болуп'!N16 -> 244493.7 | O184: =('3.жеке-бардыгы болуп'!N184*'3.жеке-бардыгы болуп'!O184+'4.юрид-бардыгы болуп'!N184*'4.юрид-бардыгы болуп'!O184+'5.рез.эмес.-бардыгы болуп'!N16*'5.рез.эмес.-бардыгы болуп'!O16)/('3.жеке-бардыгы болуп'!N184+'4.юрид-бардыгы болуп'!N184+'5.рез.эмес.-бардыгы болуп'!N16) -> 10.852618 | P184: ='3.жеке-бардыгы болуп'!P184+'4.юрид-бардыгы болуп'!P184+'5.рез.эмес.-бардыгы болуп'!P16 -> 308833.6 | Q184: =('3.жеке-бардыгы болуп'!P184*'3.жеке-бардыгы болуп'!Q184+'4.юрид-бардыгы болуп'!P184*'4.юрид-бардыгы болуп'!Q184+'5.рез.эмес.-бардыгы болуп'!P16*'5.рез.эмес.-бардыгы болуп'!Q16)/('3.жеке-бардыгы болуп'!P184+'4.юрид-бардыгы болуп'!P184+'5.рез.эмес.-бардыгы болуп'!P16) -> 11.612238 | R184: ='3.жеке-бардыгы болуп'!R184+'4.юрид-бардыгы болуп'!R184+'5.рез.эмес.-бардыгы болуп'!R16 -> 350.1 | S184: =('3.жеке-бардыгы болуп'!R184*'3.жеке-бардыгы болуп'!S184+'4.юрид-бардыгы болуп'!R184*'4.юрид-бардыгы болуп'!S184+'5.рез.эмес.-бардыгы болуп'!R16*'5.рез.эмес.-бардыгы болуп'!S16)/('3.жеке-бардыгы болуп'!R184+'4.юрид-бардыгы болуп'!R184+'5.рез.эмес.-бардыгы болуп'!R16) -> 4.0577349
A185: Аяк оона | B185: ='3.жеке-бардыгы болуп'!B185+'4.юрид-бардыгы болуп'!B185+'5.рез.эмес.-бардыгы болуп'!B17 -> 13071525 | C185: =('3.жеке-бардыгы болуп'!B185*'3.жеке-бардыгы болуп'!C185+'4.юрид-бардыгы болуп'!B185*'4.юрид-бардыгы болуп'!C185+'5.рез.эмес.-бардыгы болуп'!B17*'5.рез.эмес.-бардыгы болуп'!C17)/('3.жеке-бардыгы болуп'!B185+'4.юрид-бардыгы болуп'!B185+'5.рез.эмес.-бардыгы болуп'!B17) -> 1.175037 | D185: ='3.жеке-бардыгы болуп'!D185+'4.юрид-бардыгы болуп'!D185+'5.рез.эмес.-бардыгы болуп'!D17 -> 11968130 | E185: =('3.жеке-бардыгы болуп'!D185*'3.жеке-бардыгы болуп'!E185+'4.юрид-бардыгы болуп'!D185*'4.юрид-бардыгы болуп'!E185+'5.рез.эмес.-бардыгы болуп'!D17*'5.рез.эмес.-бардыгы болуп'!E17)/('3.жеке-бардыгы болуп'!D185+'4.юрид-бардыгы болуп'!D185+'5.рез.эмес.-бардыгы болуп'!D17) -> 0.5403565 | F185: =H185+J185+L185+N185+P185+R185 -> 1103395 | G185: =(H185*I185+J185*K185+L185*M185+N185*O185+P185*Q185+R185*S185)/(H185+J185+L185+N185+P185+R185) -> 8.0591886 | H185: ='3.жеке-бардыгы болуп'!H185+'4.юрид-бардыгы болуп'!H185+'5.рез.эмес.-бардыгы болуп'!H17 -> 130584.4 | I185: =('3.жеке-бардыгы болуп'!H185*'3.жеке-бардыгы болуп'!I185+'4.юрид-бардыгы болуп'!H185*'4.юрид-бардыгы болуп'!I185+'5.рез.эмес.-бардыгы болуп'!H17*'5.рез.эмес.-бардыгы болуп'!I17)/('3.жеке-бардыгы болуп'!H185+'4.юрид-бардыгы болуп'!H185+'5.рез.эмес.-бардыгы болуп'!H17) -> 1.864552 | J185: ='3.жеке-бардыгы болуп'!J185+'4.юрид-бардыгы болуп'!J185+'5.рез.эмес.-бардыгы болуп'!J17 -> 164879 | K185: =('3.жеке-бардыгы болуп'!J185*'3.жеке-бардыгы болуп'!K185+'4.юрид-бардыгы болуп'!J185*'4.юрид-бардыгы болуп'!K185+'5.рез.эмес.-бардыгы болуп'!J17*'5.рез.эмес.-бардыгы болуп'!K17)/('3.жеке-бардыгы болуп'!J185+'4.юрид-бардыгы болуп'!J185+'5.рез.эмес.-бардыгы болуп'!J17) -> 4.4434933 | L185: ='3.жеке-бардыгы болуп'!L185+'4.юрид-бардыгы болуп'!L185+'5.рез.эмес.-бардыгы болуп'!L17 -> 279050.9 | M185: =('3.жеке-бардыгы болуп'!L185*'3.жеке-бардыгы болуп'!M185+'4.юрид-бардыгы болуп'!L185*'4.юрид-бардыгы болуп'!M185+'5.рез.эмес.-бардыгы болуп'!L17*'5.рез.эмес.-бардыгы болуп'!M17)/('3.жеке-бардыгы болуп'!L185+'4.юрид-бардыгы болуп'!L185+'5.рез.эмес.-бардыгы болуп'!L17) -> 6.2585037 | N185: ='3.жеке-бардыгы болуп'!N185+'4.юрид-бардыгы болуп'!N185+'5.рез.эмес.-бардыгы болуп'!N17 -> 236151.1 | O185: =('3.жеке-бардыгы болуп'!N185*'3.жеке-бардыгы болуп'!O185+'4.юрид-бардыгы болуп'!N185*'4.юрид-бардыгы болуп'!O185+'5.рез.эмес.-бардыгы болуп'!N17*'5.рез.эмес.-бардыгы болуп'!O17)/('3.жеке-бардыгы болуп'!N185+'4.юрид-бардыгы болуп'!N185+'5.рез.эмес.-бардыгы болуп'!N17) -> 10.965733 | P185: ='3.жеке-бардыгы болуп'!P185+'4.юрид-бардыгы болуп'!P185+'5.рез.эмес.-бардыгы болуп'!P17 -> 292652 | Q185: =('3.жеке-бардыгы болуп'!P185*'3.жеке-бардыгы болуп'!Q185+'4.юрид-бардыгы болуп'!P185*'4.юрид-бардыгы болуп'!Q185+'5.рез.эмес.-бардыгы болуп'!P17*'5.рез.эмес.-бардыгы болуп'!Q17)/('3.жеке-бардыгы болуп'!P185+'4.юрид-бардыгы болуп'!P185+'5.рез.эмес.-бардыгы болуп'!P17) -> 12.231518 | R185: ='3.жеке-бардыгы болуп'!R185+'4.юрид-бардыгы болуп'!R185+'5.рез.эмес.-бардыгы болуп'!R17 -> 77.6 | S185: =('3.жеке-бардыгы болуп'!R185*'3.жеке-бардыгы болуп'!S185+'4.юрид-бардыгы болуп'!R185*'4.юрид-бардыгы болуп'!S185+'5.рез.эмес.-бардыгы болуп'!R17*'5.рез.эмес.-бардыгы болуп'!S17)/('3.жеке-бардыгы болуп'!R185+'4.юрид-бардыгы болуп'!R185+'5.рез.эмес.-бардыгы болуп'!R17) -> 9.7790593
A186: Тогуздун айы | B186: ='3.жеке-бардыгы болуп'!B186+'4.юрид-бардыгы болуп'!B186+'5.рез.эмес.-бардыгы болуп'!B18 -> 12712804 | C186: =('3.жеке-бардыгы болуп'!B186*'3.жеке-бардыгы болуп'!C186+'4.юрид-бардыгы болуп'!B186*'4.юрид-бардыгы болуп'!C186+'5.рез.эмес.-бардыгы болуп'!B18*'5.рез.эмес.-бардыгы болуп'!C18)/('3.жеке-бардыгы болуп'!B186+'4.юрид-бардыгы болуп'!B186+'5.рез.эмес.-бардыгы болуп'!B18) -> 1.24901 | D186: ='3.жеке-бардыгы болуп'!D186+'4.юрид-бардыгы болуп'!D186+'5.рез.эмес.-бардыгы болуп'!D18 -> 11497055 | E186: =('3.жеке-бардыгы болуп'!D186*'3.жеке-бардыгы болуп'!E186+'4.юрид-бардыгы болуп'!D186*'4.юрид-бардыгы болуп'!E186+'5.рез.эмес.-бардыгы болуп'!D18*'5.рез.эмес.-бардыгы болуп'!E18)/('3.жеке-бардыгы болуп'!D186+'4.юрид-бардыгы болуп'!D186+'5.рез.эмес.-бардыгы болуп'!D18) -> 0.51391426 | F186: =H186+J186+L186+N186+P186+R186 -> 1215749.1 | G186: =(H186*I186+J186*K186+L186*M186+N186*O186+P186*Q186+R186*S186)/(H186+J186+L186+N186+P186+R186) -> 8.2006384 | H186: ='3.жеке-бардыгы болуп'!H186+'4.юрид-бардыгы болуп'!H186+'5.рез.эмес.-бардыгы болуп'!H18 -> 87231.1 | I186: =('3.жеке-бардыгы болуп'!H186*'3.жеке-бардыгы болуп'!I186+'4.юрид-бардыгы болуп'!H186*'4.юрид-бардыгы болуп'!I186+'5.рез.эмес.-бардыгы болуп'!H18*'5.рез.эмес.-бардыгы болуп'!I18)/('3.жеке-бардыгы болуп'!H186+'4.юрид-бардыгы болуп'!H186+'5.рез.эмес.-бардыгы болуп'!H18) -> 2.6038086 | J186: ='3.жеке-бардыгы болуп'!J186+'4.юрид-бардыгы болуп'!J186+'5.рез.эмес.-бардыгы болуп'!J18 -> 226393.4 | K186: =('3.жеке-бардыгы болуп'!J186*'3.жеке-бардыгы болуп'!K186+'4.юрид-бардыгы болуп'!J186*'4.юрид-бардыгы болуп'!K186+'5.рез.эмес.-бардыгы болуп'!J18*'5.рез.эмес.-бардыгы болуп'!K18)/('3.жеке-бардыгы болуп'!J186+'4.юрид-бардыгы болуп'!J186+'5.рез.эмес.-бардыгы болуп'!J18) -> 4.5941973 | L186: ='3.жеке-бардыгы болуп'!L186+'4.юрид-бардыгы болуп'!L186+'5.рез.эмес.-бардыгы болуп'!L18 -> 216993.5 | M186: =('3.жеке-бардыгы болуп'!L186*'3.жеке-бардыгы болуп'!M186+'4.юрид-бардыгы болуп'!L186*'4.юрид-бардыгы болуп'!M186+'5.рез.эмес.-бардыгы болуп'!L18*'5.рез.эмес.-бардыгы болуп'!M18)/('3.жеке-бардыгы болуп'!L186+'4.юрид-бардыгы болуп'!L186+'5.рез.эмес.-бардыгы болуп'!L18) -> 7.4682433 | N186: ='3.жеке-бардыгы болуп'!N186+'4.юрид-бардыгы болуп'!N186+'5.рез.эмес.-бардыгы болуп'!N18 -> 263375.9 | O186: =('3.жеке-бардыгы болуп'!N186*'3.жеке-бардыгы болуп'!O186+'4.юрид-бардыгы болуп'!N186*'4.юрид-бардыгы болуп'!O186+'5.рез.эмес.-бардыгы болуп'!N18*'5.рез.эмес.-бардыгы болуп'!O18)/('3.жеке-бардыгы болуп'!N186+'4.юрид-бардыгы болуп'!N186+'5.рез.эмес.-бардыгы болуп'!N18) -> 10.639064 | P186: ='3.жеке-бардыгы болуп'!P186+'4.юрид-бардыгы болуп'!P186+'5.рез.эмес.-бардыгы болуп'!P18 -> 421634 | Q186: =('3.жеке-бардыгы болуп'!P186*'3.жеке-бардыгы болуп'!Q186+'4.юрид-бардыгы болуп'!P186*'4.юрид-бардыгы болуп'!Q186+'5.рез.эмес.-бардыгы болуп'!P18*'5.рез.эмес.-бардыгы болуп'!Q18)/('3.жеке-бардыгы болуп'!P186+'4.юрид-бардыгы болуп'!P186+'5.рез.эмес.-бардыгы болуп'!P18) -> 10.147673 | R186: ='3.жеке-бардыгы болуп'!R186+'4.юрид-бардыгы болуп'!R186+'5.рез.эмес.-бардыгы болуп'!R18 -> 121.2 | S186: =('3.жеке-бардыгы болуп'!R186*'3.жеке-бардыгы болуп'!S186+'4.юрид-бардыгы болуп'!R186*'4.юрид-бардыгы болуп'!S186+'5.рез.эмес.-бардыгы болуп'!R18*'5.рез.эмес.-бардыгы болуп'!S18)/('3.жеке-бардыгы болуп'!R186+'4.юрид-бардыгы болуп'!R186+'5.рез.эмес.-бардыгы болуп'!R18) -> 11.985215
A187: Жетинин айы | B187: ='3.жеке-бардыгы болуп'!B187+'4.юрид-бардыгы болуп'!B187+'5.рез.эмес.-бардыгы болуп'!B19 -> 13619370 | C187: =('3.жеке-бардыгы болуп'!B187*'3.жеке-бардыгы болуп'!C187+'4.юрид-бардыгы болуп'!B187*'4.юрид-бардыгы болуп'!C187+'5.рез.эмес.-бардыгы болуп'!B19*'5.рез.эмес.-бардыгы болуп'!C19)/('3.жеке-бардыгы болуп'!B187+'4.юрид-бардыгы болуп'!B187+'5.рез.эмес.-бардыгы болуп'!B19) -> 1.2305324 | D187: ='3.жеке-бардыгы болуп'!D187+'4.юрид-бардыгы болуп'!D187+'5.рез.эмес.-бардыгы болуп'!D19 -> 12415784 | E187: =('3.жеке-бардыгы болуп'!D187*'3.жеке-бардыгы болуп'!E187+'4.юрид-бардыгы болуп'!D187*'4.юрид-бардыгы болуп'!E187+'5.рез.эмес.-бардыгы болуп'!D19*'5.рез.эмес.-бардыгы болуп'!E19)/('3.жеке-бардыгы болуп'!D187+'4.юрид-бардыгы болуп'!D187+'5.рез.эмес.-бардыгы болуп'!D19) -> 0.48442023 | F187: =H187+J187+L187+N187+P187+R187 -> 1203586.5 | G187: =(H187*I187+J187*K187+L187*M187+N187*O187+P187*Q187+R187*S187)/(H187+J187+L187+N187+P187+R187) -> 8.9271685 | H187: ='3.жеке-бардыгы болуп'!H187+'4.юрид-бардыгы болуп'!H187+'5.рез.эмес.-бардыгы болуп'!H19 -> 58948.8 | I187: =('3.жеке-бардыгы болуп'!H187*'3.жеке-бардыгы болуп'!I187+'4.юрид-бардыгы болуп'!H187*'4.юрид-бардыгы болуп'!I187+'5.рез.эмес.-бардыгы болуп'!H19*'5.рез.эмес.-бардыгы болуп'!I19)/('3.жеке-бардыгы болуп'!H187+'4.юрид-бардыгы болуп'!H187+'5.рез.эмес.-бардыгы болуп'!H19) -> 3.7381921 | J187: ='3.жеке-бардыгы болуп'!J187+'4.юрид-бардыгы болуп'!J187+'5.рез.эмес.-бардыгы болуп'!J19 -> 160622.7 | K187: =('3.жеке-бардыгы болуп'!J187*'3.жеке-бардыгы болуп'!K187+'4.юрид-бардыгы болуп'!J187*'4.юрид-бардыгы болуп'!K187+'5.рез.эмес.-бардыгы болуп'!J19*'5.рез.эмес.-бардыгы болуп'!K19)/('3.жеке-бардыгы болуп'!J187+'4.юрид-бардыгы болуп'!J187+'5.рез.эмес.-бардыгы болуп'!J19) -> 4.5217327 | L187: ='3.жеке-бардыгы болуп'!L187+'4.юрид-бардыгы болуп'!L187+'5.рез.эмес.-бардыгы болуп'!L19 -> 284324.4 | M187: =('3.жеке-бардыгы болуп'!L187*'3.жеке-бардыгы болуп'!M187+'4.юрид-бардыгы болуп'!L187*'4.юрид-бардыгы болуп'!M187+'5.рез.эмес.-бардыгы болуп'!L19*'5.рез.эмес.-бардыгы болуп'!M19)/('3.жеке-бардыгы болуп'!L187+'4.юрид-бардыгы болуп'!L187+'5.рез.эмес.-бардыгы болуп'!L19) -> 6.8154428 | N187: ='3.жеке-бардыгы болуп'!N187+'4.юрид-бардыгы болуп'!N187+'5.рез.эмес.-бардыгы болуп'!N19 -> 340296.4 | O187: =('3.жеке-бардыгы болуп'!N187*'3.жеке-бардыгы болуп'!O187+'4.юрид-бардыгы болуп'!N187*'4.юрид-бардыгы болуп'!O187+'5.рез.эмес.-бардыгы болуп'!N19*'5.рез.эмес.-бардыгы болуп'!O19)/('3.жеке-бардыгы болуп'!N187+'4.юрид-бардыгы болуп'!N187+'5.рез.эмес.-бардыгы болуп'!N19) -> 10.155344 | P187: ='3.жеке-бардыгы болуп'!P187+'4.юрид-бардыгы болуп'!P187+'5.рез.эмес.-бардыгы болуп'!P19 -> 358993.2 | Q187: =('3.жеке-бардыгы болуп'!P187*'3.жеке-бардыгы болуп'!Q187+'4.юрид-бардыгы болуп'!P187*'4.юрид-бардыгы болуп'!Q187+'5.рез.эмес.-бардыгы болуп'!P19*'5.рез.эмес.-бардыгы болуп'!Q19)/('3.жеке-бардыгы болуп'!P187+'4.юрид-бардыгы болуп'!P187+'5.рез.эмес.-бардыгы болуп'!P19) -> 12.254218 | R187: ='3.жеке-бардыгы болуп'!R187+'4.юрид-бардыгы болуп'!R187+'5.рез.эмес.-бардыгы болуп'!R19 -> 401 | S187: =('3.жеке-бардыгы болуп'!R187*'3.жеке-бардыгы болуп'!S187+'4.юрид-бардыгы болуп'!R187*'4.юрид-бардыгы болуп'!S187+'5.рез.эмес.-бардыгы болуп'!R19*'5.рез.эмес.-бардыгы болуп'!S19)/('3.жеке-бардыгы болуп'!R187+'4.юрид-бардыгы болуп'!R187+'5.рез.эмес.-бардыгы болуп'!R19) -> 12.868653
A188: Бештин айы | B188: ='3.жеке-бардыгы болуп'!B188+'4.юрид-бардыгы болуп'!B188+'5.рез.эмес.-бардыгы болуп'!B20 -> 15831388 | C188: =('3.жеке-бардыгы болуп'!B188*'3.жеке-бардыгы болуп'!C188+'4.юрид-бардыгы болуп'!B188*'4.юрид-бардыгы болуп'!C188+'5.рез.эмес.-бардыгы болуп'!B20*'5.рез.эмес.-бардыгы болуп'!C20)/('3.жеке-бардыгы болуп'!B188+'4.юрид-бардыгы болуп'!B188+'5.рез.эмес.-бардыгы болуп'!B20) -> 1.4657827 | D188: ='3.жеке-бардыгы болуп'!D188+'4.юрид-бардыгы болуп'!D188+'5.рез.эмес.-бардыгы болуп'!D20 -> 14166495 | E188: =('3.жеке-бардыгы болуп'!D188*'3.жеке-бардыгы болуп'!E188+'4.юрид-бардыгы болуп'!D188*'4.юрид-бардыгы болуп'!E188+'5.рез.эмес.-бардыгы болуп'!D20*'5.рез.эмес.-бардыгы болуп'!E20)/('3.жеке-бардыгы болуп'!D188+'4.юрид-бардыгы болуп'!D188+'5.рез.эмес.-бардыгы болуп'!D20) -> 0.67144979 | F188: =H188+J188+L188+N188+P188+R188 -> 1664893 | G188: =(H188*I188+J188*K188+L188*M188+N188*O188+P188*Q188+R188*S188)/(H188+J188+L188+N188+P188+R188) -> 8.2247236 | H188: ='3.жеке-бардыгы болуп'!H188+'4.юрид-бардыгы болуп'!H188+'5.рез.эмес.-бардыгы болуп'!H20 -> 139571.6 | I188: =('3.жеке-бардыгы болуп'!H188*'3.жеке-бардыгы болуп'!I188+'4.юрид-бардыгы болуп'!H188*'4.юрид-бардыгы болуп'!I188+'5.рез.эмес.-бардыгы болуп'!H20*'5.рез.эмес.-бардыгы болуп'!I20)/('3.жеке-бардыгы болуп'!H188+'4.юрид-бардыгы болуп'!H188+'5.рез.эмес.-бардыгы болуп'!H20) -> 3.8910004 | J188: ='3.жеке-бардыгы болуп'!J188+'4.юрид-бардыгы болуп'!J188+'5.рез.эмес.-бардыгы болуп'!J20 -> 346629.7 | K188: =('3.жеке-бардыгы болуп'!J188*'3.жеке-бардыгы болуп'!K188+'4.юрид-бардыгы болуп'!J188*'4.юрид-бардыгы болуп'!K188+'5.рез.эмес.-бардыгы болуп'!J20*'5.рез.эмес.-бардыгы болуп'!K20)/('3.жеке-бардыгы болуп'!J188+'4.юрид-бардыгы болуп'!J188+'5.рез.эмес.-бардыгы болуп'!J20) -> 3.9519317 | L188: ='3.жеке-бардыгы болуп'!L188+'4.юрид-бардыгы болуп'!L188+'5.рез.эмес.-бардыгы болуп'!L20 -> 274207.6 | M188: =('3.жеке-бардыгы болуп'!L188*'3.жеке-бардыгы болуп'!M188+'4.юрид-бардыгы болуп'!L188*'4.юрид-бардыгы болуп'!M188+'5.рез.эмес.-бардыгы болуп'!L20*'5.рез.эмес.-бардыгы болуп'!M20)/('3.жеке-бардыгы болуп'!L188+'4.юрид-бардыгы болуп'!L188+'5.рез.эмес.-бардыгы болуп'!L20) -> 7.7442339 | N188: ='3.жеке-бардыгы болуп'!N188+'4.юрид-бардыгы болуп'!N188+'5.рез.эмес.-бардыгы болуп'!N20 -> 407833.6 | O188: =('3.жеке-бардыгы болуп'!N188*'3.жеке-бардыгы болуп'!O188+'4.юрид-бардыгы болуп'!N188*'4.юрид-бардыгы болуп'!O188+'5.рез.эмес.-бардыгы болуп'!N20*'5.рез.эмес.-бардыгы болуп'!O20)/('3.жеке-бардыгы болуп'!N188+'4.юрид-бардыгы болуп'!N188+'5.рез.эмес.-бардыгы болуп'!N20) -> 9.6663297 | P188: ='3.жеке-бардыгы болуп'!P188+'4.юрид-бардыгы болуп'!P188+'5.рез.эмес.-бардыгы болуп'!P20 -> 495675.2 | Q188: =('3.жеке-бардыгы болуп'!P188*'3.жеке-бардыгы болуп'!Q188+'4.юрид-бардыгы болуп'!P188*'4.юрид-бардыгы болуп'!Q188+'5.рез.эмес.-бардыгы болуп'!P20*'5.рез.эмес.-бардыгы болуп'!Q20)/('3.жеке-бардыгы болуп'!P188+'4.юрид-бардыгы болуп'!P188+'5.рез.эмес.-бардыгы болуп'!P20) -> 11.517431 | R188: ='3.жеке-бардыгы болуп'!R188+'4.юрид-бардыгы болуп'!R188+'5.рез.эмес.-бардыгы болуп'!R20 -> 975.3 | S188: =('3.жеке-бардыгы болуп'!R188*'3.жеке-бардыгы болуп'!S188+'4.юрид-бардыгы болуп'!R188*'4.юрид-бардыгы болуп'!S188+'5.рез.эмес.-бардыгы болуп'!R20*'5.рез.эмес.-бардыгы болуп'!S20)/('3.жеке-бардыгы болуп'!R188+'4.юрид-бардыгы болуп'!R188+'5.рез.эмес.-бардыгы болуп'!R20) -> 5.8114108
... A380: Бештин айы | B380: ='3.жеке-бардыгы болуп'!B380+'4.юрид-бардыгы болуп'!B380+'5.рез.эмес.-бардыгы болуп'!B212 -> 0 | C380: =('3.жеке-бардыгы болуп'!B380*'3.жеке-бардыгы болуп'!C380+'4.юрид-бардыгы болуп'!B380*'4.юрид-бардыгы болуп'!C380+'5.рез.эмес.-бардыгы болуп'!B212*'5.рез.эмес.-бардыгы болуп'!C212)/('3.жеке-бардыгы болуп'!B380+'4.юрид-бардыгы болуп'!B380+'5.рез.эмес.-бардыгы болуп'!B212) -> #DIV/0! | D380: ='3.жеке-бардыгы болуп'!D380+'4.юрид-бардыгы болуп'!D380+'5.рез.эмес.-бардыгы болуп'!D212 -> 0 | E380: =('3.жеке-бардыгы болуп'!D380*'3.жеке-бардыгы болуп'!E380+'4.юрид-бардыгы болуп'!D380*'4.юрид-бардыгы болуп'!E380+'5.рез.эмес.-бардыгы болуп'!D212*'5.рез.эмес.-бардыгы болуп'!E212)/('3.жеке-бардыгы болуп'!D380+'4.юрид-бардыгы болуп'!D380+'5.рез.эмес.-бардыгы болуп'!D212) -> #DIV/0! | F380: =H380+J380+L380+N380+P380+R380 -> 0 | G380: =(H380*I380+J380*K380+L380*M380+N380*O380+P380*Q380+R380*S380)/(H380+J380+L380+N380+P380+R380) -> #DIV/0! | H380: ='3.жеке-бардыгы болуп'!H380+'4.юрид-бардыгы болуп'!H380+'5.рез.эмес.-бардыгы болуп'!H212 -> 0 | I380: =('3.жеке-бардыгы болуп'!H380*'3.жеке-бардыгы болуп'!I380+'4.юрид-бардыгы болуп'!H380*'4.юрид-бардыгы болуп'!I380+'5.рез.эмес.-бардыгы болуп'!H212*'5.рез.эмес.-бардыгы болуп'!I212)/('3.жеке-бардыгы болуп'!H380+'4.юрид-бардыгы болуп'!H380+'5.рез.эмес.-бардыгы болуп'!H212) -> #DIV/0! | J380: ='3.жеке-бардыгы болуп'!J380+'4.юрид-бардыгы болуп'!J380+'5.рез.эмес.-бардыгы болуп'!J212 -> 0 | K380: =('3.жеке-бардыгы болуп'!J380*'3.жеке-бардыгы болуп'!K380+'4.юрид-бардыгы болуп'!J380*'4.юрид-бардыгы болуп'!K380+'5.рез.эмес.-бардыгы болуп'!J212*'5.рез.эмес.-бардыгы болуп'!K212)/('3.жеке-бардыгы болуп'!J380+'4.юрид-бардыгы болуп'!J380+'5.рез.эмес.-бардыгы болуп'!J212) -> #DIV/0! | L380: ='3.жеке-бардыгы болуп'!L380+'4.юрид-бардыгы болуп'!L380+'5.рез.эмес.-бардыгы болуп'!L212 -> 0 | M380: =('3.жеке-бардыгы болуп'!L380*'3.жеке-бардыгы болуп'!M380+'4.юрид-бардыгы болуп'!L380*'4.юрид-бардыгы болуп'!M380+'5.рез.эмес.-бардыгы болуп'!L212*'5.рез.эмес.-бардыгы болуп'!M212)/('3.жеке-бардыгы болуп'!L380+'4.юрид-бардыгы болуп'!L380+'5.рез.эмес.-бардыгы болуп'!L212) -> #DIV/0! | N380: ='3.жеке-бардыгы болуп'!N380+'4.юрид-бардыгы болуп'!N380+'5.рез.эмес.-бардыгы болуп'!N212 -> 0 | O380: =('3.жеке-бардыгы болуп'!N380*'3.жеке-бардыгы болуп'!O380+'4.юрид-бардыгы болуп'!N380*'4.юрид-бардыгы болуп'!O380+'5.рез.эмес.-бардыгы болуп'!N212*'5.рез.эмес.-бардыгы болуп'!O212)/('3.жеке-бардыгы болуп'!N380+'4.юрид-бардыгы болуп'!N380+'5.рез.эмес.-бардыгы болуп'!N212) -> #DIV/0! | P380: ='3.жеке-бардыгы болуп'!P380+'4.юрид-бардыгы болуп'!P380+'5.рез.эмес.-бардыгы болуп'!P212 -> 0 | Q380: =('3.жеке-бардыгы болуп'!P380*'3.жеке-бардыгы болуп'!Q380+'4.юрид-бардыгы болуп'!P380*'4.юрид-бардыгы болуп'!Q380+'5.рез.эмес.-бардыгы болуп'!P212*'5.рез.эмес.-бардыгы болуп'!Q212)/('3.жеке-бардыгы болуп'!P380+'4.юрид-бардыгы болуп'!P380+'5.рез.эмес.-бардыгы болуп'!P212) -> #DIV/0! | R380: ='3.жеке-бардыгы болуп'!R380+'4.юрид-бардыгы болуп'!R380+'5.рез.эмес.-бардыгы болуп'!R212 -> 0 | S380: =('3.жеке-бардыгы болуп'!R380*'3.жеке-бардыгы болуп'!S380+'4.юрид-бардыгы болуп'!R380*'4.юрид-бардыгы болуп'!S380+'5.рез.эмес.-бардыгы болуп'!R212*'5.рез.эмес.-бардыгы болуп'!S212)/('3.жеке-бардыгы болуп'!R380+'4.юрид-бардыгы болуп'!R380+'5.рез.эмес.-бардыгы болуп'!R212) -> #DIV/0!
A382: * 2010-жылдын 1-январына чейин жаныдан кабыл алынган депозиттердин көлөмү юридикалык жактардын талап боюнча төлөнүүчү депозиттерине кошулган эмес
A383: **- алдын ала алынган маалыматтар

Sheet 3.жеке-бардыгы болуп
A1: Статистика / "Банк статистикасы" / "Коммерциялык банктар тарабынан жаңыдан кабыл алынган депозиттер, бир мезгил ичинде"
A3: 3-таблица. Жеке адамдардын жаңыдан кабыл алынган депозиттеринин жалпы көлөмү жана орточо салмактанып алынган пайыздык чендери
A5: (миң сом / пайыздар)
A6: Мезгил аралыгы | B6: Жалпы көлөм | C6: Орточо салмактанып алынган чендер | D6: Талап боюнча төлөнүүчү | F6: Мөөнөттүү депозиттер | H6: анын ичинде, мөөнөттөрү боюнча:
H7: 0 - 1 айга | J7: 1 - 3 айга | L7: 3 - 6 айга | N7: 6 - 12 айга | P7: 1 - 3 жыл | R7: 3 жылдан ашкан мөөнөткө
D8: көлөм | E8: орточо салмактанып алынган чендер | F8: көлөм | G8: орточо салмактанып алынган чендер | H8: көлөм | I8: орточо салмактанып алынган чендер | J8: көлөм | K8: орточо салмактанып алынган чендер | L8: көлөм | M8: орточо салмактанып алынган чендер | N8: көлөм | O8: орточо салмактанып алынган чендер | P8: көлөм | Q8: орточо салмактанып алынган чендер | R8: көлөм | S8: орточо салмактанып алынган чендер
A9: Үчтүн айы 1996 ж. | B9: ='7.жеке-улут.вал.'!B9+'11.жеке-чет өл.вал.'!B9 -> 35018.1 | C9: =('7.жеке-улут.вал.'!B9*'7.жеке-улут.вал.'!C9+'11.жеке-чет өл.вал.'!B9*'11.жеке-чет өл.вал.'!C9)/('7.жеке-улут.вал.'!B9+'11.жеке-чет өл.вал.'!B9) -> 30.940475 | D9: ='7.жеке-улут.вал.'!D9+'11.жеке-чет өл.вал.'!D9 -> 9281 | E9: =('7.жеке-улут.вал.'!D9*'7.жеке-улут.вал.'!E9+'11.жеке-чет өл.вал.'!D9*'11.жеке-чет өл.вал.'!E9)/('7.жеке-улут.вал.'!D9+'11.жеке-чет өл.вал.'!D9) -> 27.565855 | F9: =H9+J9+L9+N9+P9+R9 -> 25737.1 | G9: =(H9*I9+J9*K9+L9*M9+N9*O9+P9*Q9+R9*S9)/(H9+J9+L9+N9+P9+R9) -> 32.15739 | H9: ='7.жеке-улут.вал.'!H9+'11.жеке-чет өл.вал.'!H9 -> 559 | I9: =('7.жеке-улут.вал.'!H9*'7.жеке-улут.вал.'!I9+'11.жеке-чет өл.вал.'!H9*'11.жеке-чет өл.вал.'!I9)/('7.жеке-улут.вал.'!H9+'11.жеке-чет өл.вал.'!H9) -> 13.68873 | J9: ='7.жеке-улут.вал.'!J9+'11.жеке-чет өл.вал.'!J9 -> 7588.6 | K9: =('7.жеке-улут.вал.'!J9*'7.жеке-улут.вал.'!K9+'11.жеке-чет өл.вал.'!J9*'11.жеке-чет өл.вал.'!K9)/('7.жеке-улут.вал.'!J9+'11.жеке-чет өл.вал.'!J9) -> 26.654851 | L9: ='7.жеке-улут.вал.'!L9+'11.жеке-чет өл.вал.'!L9 -> 13897.3 | M9: =('7.жеке-улут.вал.'!L9*'7.жеке-улут.вал.'!M9+'11.жеке-чет өл.вал.'!L9*'11.жеке-чет өл.вал.'!M9)/('7.жеке-улут.вал.'!L9+'11.жеке-чет өл.вал.'!L9) -> 35.158822 | N9: ='7.жеке-улут.вал.'!N9+'11.жеке-чет өл.вал.'!N9 -> 3295 | O9: =('7.жеке-улут.вал.'!N9*'7.жеке-улут.вал.'!O9+'11.жеке-чет өл.вал.'!N9*'11.жеке-чет өл.вал.'!O9)/('7.жеке-улут.вал.'!N9+'11.жеке-чет өл.вал.'!N9) -> 34.348862 | P9: ='7.жеке-улут.вал.'!P9+'11.жеке-чет өл.вал.'!P9 -> 397.2 | Q9: =('7.жеке-улут.вал.'!P9*'7.жеке-улут.вал.'!Q9+'11.жеке-чет өл.вал.'!P9*'11.жеке-чет өл.вал.'!Q9)/('7.жеке-улут.вал.'!P9+'11.жеке-чет өл.вал.'!P9) -> 40.082477
A10: Бирдин айы | B10: ='7.жеке-улут.вал.'!B10+'11.жеке-чет өл.вал.'!B10 -> 37271.6 | C10: =('7.жеке-улут.вал.'!B10*'7.жеке-улут.вал.'!C10+'11.жеке-чет өл.вал.'!B10*'11.жеке-чет өл.вал.'!C10)/('7.жеке-улут.вал.'!B10+'11.жеке-чет өл.вал.'!B10) -> 29.564628 | D10: ='7.жеке-улут.вал.'!D10+'11.жеке-чет өл.вал.'!D10 -> 10774.3 | E10: =('7.жеке-улут.вал.'!D10*'7.жеке-улут.вал.'!E10+'11.жеке-чет өл.вал.'!D10*'11.жеке-чет өл.вал.'!E10)/('7.жеке-улут.вал.'!D10+'11.жеке-чет өл.вал.'!D10) -> 21.689084 | F10: =H10+J10+L10+N10+P10+R10 -> 26497.3 | G10: =(H10*I10+J10*K10+L10*M10+N10*O10+P10*Q10+R10*S10)/(H10+J10+L10+N10+P10+R10) -> 32.766972 | H10: ='7.жеке-улут.вал.'!H10+'11.жеке-чет өл.вал.'!H10 -> 361.5 | I10: =('7.жеке-улут.вал.'!H10*'7.жеке-улут.вал.'!I10+'11.жеке-чет өл.вал.'!H10*'11.жеке-чет өл.вал.'!I10)/('7.жеке-улут.вал.'!H10+'11.жеке-чет өл.вал.'!H10) -> 14.322545 | J10: ='7.жеке-улут.вал.'!J10+'11.жеке-чет өл.вал.'!J10 -> 8921.2 | K10: =('7.жеке-улут.вал.'!J10*'7.жеке-улут.вал.'!K10+'11.жеке-чет өл.вал.'!J10*'11.жеке-чет өл.вал.'!K10)/('7.жеке-улут.вал.'!J10+'11.жеке-чет өл.вал.'!J10) -> 27.224531 | L10: ='7.жеке-улут.вал.'!L10+'11.жеке-чет өл.вал.'!L10 -> 13534.6 | M10: =('7.жеке-улут.вал.'!L10*'7.жеке-улут.вал.'!M10+'11.жеке-чет өл.вал.'!L10*'11.жеке-чет өл.вал.'!M10)/('7.жеке-улут.вал.'!L10+'11.жеке-чет өл.вал.'!L10) -> 35.952014 | N10: ='7.жеке-улут.вал.'!N10+'11.жеке-чет өл.вал.'!N10 -> 3303 | O10: =('7.жеке-улут.вал.'!N10*'7.жеке-улут.вал.'!O10+'11.жеке-чет өл.вал.'!N10*'11.жеке-чет өл.вал.'!O10)/('7.жеке-улут.вал.'!N10+'11.жеке-чет өл.вал.'!N10) -> 36.057796 | P10: ='7.жеке-улут.вал.'!P10+'11.жеке-чет өл.вал.'!P10 -> 377 | Q10: =('7.жеке-улут.вал.'!P10*'7.жеке-улут.вал.'!Q10+'11.жеке-чет өл.вал.'!P10*'11.жеке-чет өл.вал.'!Q10)/('7.жеке-улут.вал.'!P10+'11.жеке-чет өл.вал.'!P10) -> 38.430133
A11: Жалган куран | B11: ='7.жеке-улут.вал.'!B11+'11.жеке-чет өл.вал.'!B11 -> 36100.1 | C11: =('7.жеке-улут.вал.'!B11*'7.жеке-улут.вал.'!C11+'11.жеке-чет өл.вал.'!B11*'11.жеке-чет өл.вал.'!C11)/('7.жеке-улут.вал.'!B11+'11.жеке-чет өл.вал.'!B11) -> 26.414701 | D11: ='7.жеке-улут.вал.'!D11+'11.жеке-чет өл.вал.'!D11 -> 12078.4 | E11: =('7.жеке-улут.вал.'!D11*'7.жеке-улут.вал.'!E11+'11.жеке-чет өл.вал.'!D11*'11.жеке-чет өл.вал.'!E11)/('7.жеке-улут.вал.'!D11+'11.жеке-чет өл.вал.'!D11) -> 19.656685 | F11: =H11+J11+L11+N11+P11+R11 -> 24021.7 | G11: =(H11*I11+J11*K11+L11*M11+N11*O11+P11*Q11+R11*S11)/(H11+J11+L11+N11+P11+R11) -> 29.812713 | H11: ='7.жеке-улут.вал.'!H11+'11.жеке-чет өл.вал.'!H11 -> 223.7 | I11: =('7.жеке-улут.вал.'!H11*'7.жеке-улут.вал.'!I11+'11.жеке-чет өл.вал.'!H11*'11.жеке-чет өл.вал.'!I11)/('7.жеке-улут.вал.'!H11+'11.жеке-чет өл.вал.'!H11) -> 7.6016987 | J11: ='7.жеке-улут.вал.'!J11+'11.жеке-чет өл.вал.'!J11 -> 8546 | K11: =('7.жеке-улут.вал.'!J11*'7.жеке-улут.вал.'!K11+'11.жеке-чет өл.вал.'!J11*'11.жеке-чет өл.вал.'!K11)/('7.жеке-улут.вал.'!J11+'11.жеке-чет өл.вал.'!J11) -> 28.267169 | L11: ='7.жеке-улут.вал.'!L11+'11.жеке-чет өл.вал.'!L11 -> 10899.1 | M11: =('7.жеке-улут.вал.'!L11*'7.жеке-улут.вал.'!M11+'11.жеке-чет өл.вал.'!L11*'11.жеке-чет өл.вал.'!M11)/('7.жеке-улут.вал.'!L11+'11.жеке-чет өл.вал.'!L11) -> 31.244628 | N11: ='7.жеке-улут.вал.'!N11+'11.жеке-чет өл.вал.'!N11 -> 4126.3 | O11: =('7.жеке-улут.вал.'!N11*'7.жеке-улут.вал.'!O11+'11.жеке-чет өл.вал.'!N11*'11.жеке-чет өл.вал.'!O11)/('7.жеке-улут.вал.'!N11+'11.жеке-чет өл.вал.'!N11) -> 30.666069 | P11: ='7.жеке-улут.вал.'!P11+'11.жеке-чет өл.вал.'!P11 -> 226.6 | Q11: =('7.жеке-улут.вал.'!P11*'7.жеке-улут.вал.'!Q11+'11.жеке-чет өл.вал.'!P11*'11.жеке-чет өл.вал.'!Q11)/('7.жеке-улут.вал.'!P11+'11.жеке-чет өл.вал.'!P11) -> 25.616064
A12: Чын куран | B12: ='7.жеке-улут.вал.'!B12+'11.жеке-чет өл.вал.'!B12 -> 39522.4 | C12: =('7.жеке-улут.вал.'!B12*'7.жеке-улут.вал.'!C12+'11.жеке-чет өл.вал.'!B12*'11.жеке-чет өл.вал.'!C12)/('7.жеке-улут.вал.'!B12+'11.жеке-чет өл.вал.'!B12) -> 26.368958 | D12: ='7.жеке-улут.вал.'!D12+'11.жеке-чет өл.вал.'!D12 -> 12672.3 | E12: =('7.жеке-улут.вал.'!D12*'7.жеке-улут.вал.'!E12+'11.жеке-чет өл.вал.'!D12*'11.жеке-чет өл.вал.'!E12)/('7.жеке-улут.вал.'!D12+'11.жеке-чет өл.вал.'!D12) -> 22.143074 | F12: =H12+J12+L12+N12+P12+R12 -> 26850.1 | G12: =(H12*I12+J12*K12+L12*M12+N12*O12+P12*Q12+R12*S12)/(H12+J12+L12+N12+P12+R12) -> 28.363426 | H12: ='7.жеке-улут.вал.'!H12+'11.жеке-чет өл.вал.'!H12 -> 1474.2 | I12: =('7.жеке-улут.вал.'!H12*'7.жеке-улут.вал.'!I12+'11.жеке-чет өл.вал.'!H12*'11.жеке-чет өл.вал.'!I12)/('7.жеке-улут.вал.'!H12+'11.жеке-чет өл.вал.'!H12) -> 10.34264 | J12: ='7.жеке-улут.вал.'!J12+'11.жеке-чет өл.вал.'!J12 -> 8590 | K12: =('7.жеке-улут.вал.'!J12*'7.жеке-улут.вал.'!K12+'11.жеке-чет өл.вал.'!J12*'11.жеке-чет өл.вал.'!K12)/('7.жеке-улут.вал.'!J12+'11.жеке-чет өл.вал.'!J12) -> 29.343227 | L12: ='7.жеке-улут.вал.'!L12+'11.жеке-чет өл.вал.'!L12 -> 10654.6 | M12: =('7.жеке-улут.вал.'!L12*'7.жеке-улут.вал.'!M12+'11.жеке-чет өл.вал.'!L12*'11.жеке-чет өл.вал.'!M12)/('7.жеке-улут.вал.'!L12+'11.жеке-чет өл.вал.'!L12) -> 30.847578 | N12: ='7.жеке-улут.вал.'!N12+'11.жеке-чет өл.вал.'!N12 -> 5940.3 | O12: =('7.жеке-улут.вал.'!N12*'7.жеке-улут.вал.'!O12+'11.жеке-чет өл.вал.'!N12*'11.жеке-чет өл.вал.'!O12)/('7.жеке-улут.вал.'!N12+'11.жеке-чет өл.вал.'!N12) -> 26.656918 | P12: ='7.жеке-улут.вал.'!P12+'11.жеке-чет өл.вал.'!P12 -> 191 | Q12: =('7.жеке-улут.вал.'!P12*'7.жеке-улут.вал.'!Q12+'11.жеке-чет өл.вал.'!P12*'11.жеке-чет өл.вал.'!Q12)/('7.жеке-улут.вал.'!P12+'11.жеке-чет өл.вал.'!P12) -> 37.888377
A13: Бугу | B13: ='7.жеке-улут.вал.'!B13+'11.жеке-чет өл.вал.'!B13 -> 52828.2 | C13: =('7.жеке-улут.вал.'!B13*'7.жеке-улут.вал.'!C13+'11.жеке-чет өл.вал.'!B13*'11.жеке-чет өл.вал.'!C13)/('7.жеке-улут.вал.'!B13+'11.жеке-чет өл.вал.'!B13) -> 28.520391 | D13: ='7.жеке-улут.вал.'!D13+'11.жеке-чет өл.вал.'!D13 -> 12246.6 | E13: =('7.жеке-улут.вал.'!D13*'7.жеке-улут.вал.'!E13+'11.жеке-чет өл.вал.'!D13*'11.жеке-чет өл.вал.'!E13)/('7.жеке-улут.вал.'!D13+'11.жеке-чет өл.вал.'!D13) -> 23.410391 | F13: =H13+J13+L13+N13+P13+R13 -> 40581.6 | G13: =(H13*I13+J13*K13+L13*M13+N13*O13+P13*Q13+R13*S13)/(H13+J13+L13+N13+P13+R13) -> 30.062472 | H13: ='7.жеке-улут.вал.'!H13+'11.жеке-чет өл.вал.'!H13 -> 380.6 | I13: =('7.жеке-улут.вал.'!H13*'7.жеке-улут.вал.'!I13+'11.жеке-чет өл.вал.'!H13*'11.жеке-чет өл.вал.'!I13)/('7.жеке-улут.вал.'!H13+'11.жеке-чет өл.вал.'!H13) -> 9.6649658 | J13: ='7.жеке-улут.вал.'!J13+'11.жеке-чет өл.вал.'!J13 -> 8852.5 | K13: =('7.жеке-улут.вал.'!J13*'7.жеке-улут.вал.'!K13+'11.жеке-чет өл.вал.'!J13*'11.жеке-чет өл.вал.'!K13)/('7.жеке-улут.вал.'!J13+'11.жеке-чет өл.вал.'!J13) -> 29.093416 | L13: ='7.жеке-улут.вал.'!L13+'11.жеке-чет өл.вал.'!L13 -> 13952.7 | M13: =('7.жеке-улут.вал.'!L13*'7.жеке-улут.вал.'!M13+'11.жеке-чет өл.вал.'!L13*'11.жеке-чет өл.вал.'!M13)/('7.жеке-улут.вал.'!L13+'11.жеке-чет өл.вал.'!L13) -> 30.968806 | N13: ='7.жеке-улут.вал.'!N13+'11.жеке-чет өл.вал.'!N13 -> 17195 | O13: =('7.жеке-улут.вал.'!N13*'7.жеке-улут.вал.'!O13+'11.жеке-чет өл.вал.'!N13*'11.жеке-чет өл.вал.'!O13)/('7.жеке-улут.вал.'!N13+'11.жеке-чет өл.вал.'!N13) -> 30.193951 | P13: ='7.жеке-улут.вал.'!P13+'11.жеке-чет өл.вал.'!P13 -> 200.8 | Q13: =('7.жеке-улут.вал.'!P13*'7.жеке-улут.вал.'!Q13+'11.жеке-чет өл.вал.'!P13*'11.жеке-чет өл.вал.'!Q13)/('7.жеке-улут.вал.'!P13+'11.жеке-чет өл.вал.'!P13) -> 37.210359
A14: Кулжа | B14: ='7.жеке-улут.вал.'!B14+'11.жеке-чет өл.вал.'!B14 -> 38442.2 | C14: =('7.жеке-улут.вал.'!B14*'7.жеке-улут.вал.'!C14+'11.жеке-чет өл.вал.'!B14*'11.жеке-чет өл.вал.'!C14)/('7.жеке-улут.вал.'!B14+'11.жеке-чет өл.вал.'!B14) -> 25.135683 | D14: ='7.жеке-улут.вал.'!D14+'11.жеке-чет өл.вал.'!D14 -> 11851.4 | E14: =('7.жеке-улут.вал.'!D14*'7.жеке-улут.вал.'!E14+'11.жеке-чет өл.вал.'!D14*'11.жеке-чет өл.вал.'!E14)/('7.жеке-улут.вал.'!D14+'11.жеке-чет өл.вал.'!D14) -> 17.045625 | F14: =H14+J14+L14+N14+P14+R14 -> 26590.8 | G14: =(H14*I14+J14*K14+L14*M14+N14*O14+P14*Q14+R14*S14)/(H14+J14+L14+N14+P14+R14) -> 28.741386 | H14: ='7.жеке-улут.вал.'!H14+'11.жеке-чет өл.вал.'!H14 -> 360.7 | I14: =('7.жеке-улут.вал.'!H14*'7.жеке-улут.вал.'!I14+'11.жеке-чет өл.вал.'!H14*'11.жеке-чет өл.вал.'!I14)/('7.жеке-улут.вал.'!H14+'11.жеке-чет өл.вал.'!H14) -> 17.259495 | J14: ='7.жеке-улут.вал.'!J14+'11.жеке-чет өл.вал.'!J14 -> 14149.5 | K14: =('7.жеке-улут.вал.'!J14*'7.жеке-улут.вал.'!K14+'11.жеке-чет өл.вал.'!J14*'11.жеке-чет өл.вал.'!K14)/('7.жеке-улут.вал.'!J14+'11.жеке-чет өл.вал.'!J14) -> 27.243398 | L14: ='7.жеке-улут.вал.'!L14+'11.жеке-чет өл.вал.'!L14 -> 6526.7 | M14: =('7.жеке-улут.вал.'!L14*'7.жеке-улут.вал.'!M14+'11.жеке-чет өл.вал.'!L14*'11.жеке-чет өл.вал.'!M14)/('7.жеке-улут.вал.'!L14+'11.жеке-чет өл.вал.'!L14) -> 29.135388 | N14: ='7.жеке-улут.вал.'!N14+'11.жеке-чет өл.вал.'!N14 -> 5327.7 | O14: =('7.жеке-улут.вал.'!N14*'7.жеке-улут.вал.'!O14+'11.жеке-чет өл.вал.'!N14*'11.жеке-чет өл.вал.'!O14)/('7.жеке-улут.вал.'!N14+'11.жеке-чет өл.вал.'!N14) -> 33.224891 | P14: ='7.жеке-улут.вал.'!P14+'11.жеке-чет өл.вал.'!P14 -> 226.2 | Q14: =('7.жеке-улут.вал.'!P14*'7.жеке-улут.вал.'!Q14+'11.жеке-чет өл.вал.'!P14*'11.жеке-чет өл.вал.'!Q14)/('7.жеке-улут.вал.'!P14+'11.жеке-чет өл.вал.'!P14) -> 23.785588
A15: Теке | B15: ='7.жеке-улут.вал.'!B15+'11.жеке-чет өл.вал.'!B15 -> 40911.3 | C15: =('7.жеке-улут.вал.'!B15*'7.жеке-улут.вал.'!C15+'11.жеке-чет өл.вал.'!B15*'11.жеке-чет өл.вал.'!C15)/('7.жеке-улут.вал.'!B15+'11.жеке-чет өл.вал.'!B15) -> 25.169817 | D15: ='7.жеке-улут.вал.'!D15+'11.жеке-чет өл.вал.'!D15 -> 13175.4 | E15: =('7.жеке-улут.вал.'!D15*'7.жеке-улут.вал.'!E15+'11.жеке-чет өл.вал.'!D15*'11.жеке-чет өл.вал.'!E15)/('7.жеке-улут.вал.'!D15+'11.жеке-чет өл.вал.'!D15) -> 12.477743 | F15: =H15+J15+L15+N15+P15+R15 -> 27735.9 | G15: =(H15*I15+J15*K15+L15*M15+N15*O15+P15*Q15+R15*S15)/(H15+J15+L15+N15+P15+R15) -> 31.19894 | H15: ='7.жеке-улут.вал.'!H15+'11.жеке-чет өл.вал.'!H15 -> 217.4 | I15: =('7.жеке-улут.вал.'!H15*'7.жеке-улут.вал.'!I15+'11.жеке-чет өл.вал.'!H15*'11.жеке-чет өл.вал.'!I15)/('7.жеке-улут.вал.'!H15+'11.жеке-чет өл.вал.'!H15) -> 12.0046 | J15: ='7.жеке-улут.вал.'!J15+'11.жеке-чет өл.вал.'!J15 -> 9885.2 | K15: =('7.жеке-улут.вал.'!J15*'7.жеке-улут.вал.'!K15+'11.жеке-чет өл.вал.'!J15*'11.жеке-чет өл.вал.'!K15)/('7.жеке-улут.вал.'!J15+'11.жеке-чет өл.вал.'!J15) -> 28.940194 | L15: ='7.жеке-улут.вал.'!L15+'11.жеке-чет өл.вал.'!L15 -> 11222.4 | M15: =('7.жеке-улут.вал.'!L15*'7.жеке-улут.вал.'!M15+'11.жеке-чет өл.вал.'!L15*'11.жеке-чет өл.вал.'!M15)/('7.жеке-улут.вал.'!L15+'11.жеке-чет өл.вал.'!L15) -> 31.241717 | N15: ='7.жеке-улут.вал.'!N15+'11.жеке-чет өл.вал.'!N15 -> 5945.9 | O15: =('7.жеке-улут.вал.'!N15*'7.жеке-улут.вал.'!O15+'11.жеке-чет өл.вал.'!N15*'11.жеке-чет өл.вал.'!O15)/('7.жеке-улут.вал.'!N15+'11.жеке-чет өл.вал.'!N15) -> 34.994844 | P15: ='7.жеке-улут.вал.'!P15+'11.жеке-чет өл.вал.'!P15 -> 465 | Q15: =('7.жеке-улут.вал.'!P15*'7.жеке-улут.вал.'!Q15+'11.жеке-чет өл.вал.'!P15*'11.жеке-чет өл.вал.'!Q15)/('7.жеке-улут.вал.'!P15+'11.жеке-чет өл.вал.'!P15) -> 38.620215
A16: Баш оона | B16: ='7.жеке-улут.вал.'!B16+'11.жеке-чет өл.вал.'!B16 -> 78138.4 | C16: =('7.жеке-улут.вал.'!B16*'7.жеке-улут.вал.'!C16+'11.жеке-чет өл.вал.'!B16*'11.жеке-чет өл.вал.'!C16)/('7.жеке-улут.вал.'!B16+'11.жеке-чет өл.вал.'!B16) -> 19.34533 | D16: ='7.жеке-улут.вал.'!D16+'11.жеке-чет өл.вал.'!D16 -> 43051.7 | E16: =('7.жеке-улут.вал.'!D16*'7.жеке-улут.вал.'!E16+'11.жеке-чет өл.вал.'!D16*'11.жеке-чет өл.вал.'!E16)/('7.жеке-улут.вал.'!D16+'11.жеке-чет өл.вал.'!D16) -> 8.2210795 | F16: =H16+J16+L16+N16+P16+R16 -> 35086.7 | G16: =(H16*I16+J16*K16+L16*M16+N16*O16+P16*Q16+R16*S16)/(H16+J16+L16+N16+P16+R16) -> 32.994886 | H16: ='7.жеке-улут.вал.'!H16+'11.жеке-чет өл.вал.'!H16 -> 91.4 | I16: =('7.жеке-улут.вал.'!H16*'7.жеке-улут.вал.'!I16+'11.жеке-чет өл.вал.'!H16*'11.жеке-чет өл.вал.'!I16)/('7.жеке-улут.вал.'!H16+'11.жеке-чет өл.вал.'!H16) -> 14.441138 | J16: ='7.жеке-улут.вал.'!J16+'11.жеке-чет өл.вал.'!J16 -> 10565.9 | K16: =('7.жеке-улут.вал.'!J16*'7.жеке-улут.вал.'!K16+'11.жеке-чет өл.вал.'!J16*'11.жеке-чет өл.вал.'!K16)/('7.жеке-улут.вал.'!J16+'11.жеке-чет өл.вал.'!J16) -> 29.22337 | L16: ='7.жеке-улут.вал.'!L16+'11.жеке-чет өл.вал.'!L16 -> 19753.4 | M16: =('7.жеке-улут.вал.'!L16*'7.жеке-улут.вал.'!M16+'11.жеке-чет өл.вал.'!L16*'11.жеке-чет өл.вал.'!M16)/('7.жеке-улут.вал.'!L16+'11.жеке-чет өл.вал.'!L16) -> 35.261561 | N16: ='7.жеке-улут.вал.'!N16+'11.жеке-чет өл.вал.'!N16 -> 4051.9 | O16: =('7.жеке-улут.вал.'!N16*'7.жеке-улут.вал.'!O16+'11.жеке-чет өл.вал.'!N16*'11.жеке-чет өл.вал.'!O16)/('7.жеке-улут.вал.'!N16+'11.жеке-чет өл.вал.'!N16) -> 33.60268 | P16: ='7.жеке-улут.вал.'!P16+'11.жеке-чет өл.вал.'!P16 -> 624.1 | Q16: =('7.жеке-улут.вал.'!P16*'7.жеке-улут.вал.'!Q16+'11.жеке-чет өл.вал.'!P16*'11.жеке-чет өл.вал.'!Q16)/('7.жеке-улут.вал.'!P16+'11.жеке-чет өл.вал.'!P16) -> 23.874571
A17: Аяк оона | B17: ='7.жеке-улут.вал.'!B17+'11.жеке-чет өл.вал.'!B17 -> 52293.8 | C17: =('7.жеке-улут.вал.'!B17*'7.жеке-улут.вал.'!C17+'11.жеке-чет өл.вал.'!B17*'11.жеке-чет өл.вал.'!C17)/('7.жеке-улут.вал.'!B17+'11.жеке-чет өл.вал.'!B17) -> 27.250916 | D17: ='7.жеке-улут.вал.'!D17+'11.жеке-чет өл.вал.'!D17 -> 10956.6 | E17: =('7.жеке-улут.вал.'!D17*'7.жеке-улут.вал.'!E17+'11.жеке-чет өл.вал.'!D17*'11.жеке-чет өл.вал.'!E17)/('7.жеке-улут.вал.'!D17+'11.жеке-чет өл.вал.'!D17) -> 13.32431 | F17: =H17+J17+L17+N17+P17+R17 -> 41337.2 | G17: =(H17*I17+J17*K17+L17*M17+N17*O17+P17*Q17+R17*S17)/(H17+J17+L17+N17+P17+R17) -> 30.942222 | H17: ='7.жеке-улут.вал.'!H17+'11.жеке-чет өл.вал.'!H17 -> 82.3 | I17: =('7.жеке-улут.вал.'!H17*'7.жеке-улут.вал.'!I17+'11.жеке-чет өл.вал.'!H17*'11.жеке-чет өл.вал.'!I17)/('7.жеке-улут.вал.'!H17+'11.жеке-чет өл.вал.'!H17) -> 15 | J17: ='7.жеке-улут.вал.'!J17+'11.жеке-чет өл.вал.'!J17 -> 20709 | K17: =('7.жеке-улут.вал.'!J17*'7.жеке-улут.вал.'!K17+'11.жеке-чет өл.вал.'!J17*'11.жеке-чет өл.вал.'!K17)/('7.жеке-улут.вал.'!J17+'11.жеке-чет өл.вал.'!J17) -> 25.38324 | L17: ='7.жеке-улут.вал.'!L17+'11.жеке-чет өл.вал.'!L17 -> 15308.7 | M17: =('7.жеке-улут.вал.'!L17*'7.жеке-улут.вал.'!M17+'11.жеке-чет өл.вал.'!L17*'11.жеке-чет өл.вал.'!M17)/('7.жеке-улут.вал.'!L17+'11.жеке-чет өл.вал.'!L17) -> 38.087427 | N17: ='7.жеке-улут.вал.'!N17+'11.жеке-чет өл.вал.'!N17 -> 5121.4 | O17: =('7.жеке-улут.вал.'!N17*'7.жеке-улут.вал.'!O17+'11.жеке-чет өл.вал.'!N17*'11.жеке-чет өл.вал.'!O17)/('7.жеке-улут.вал.'!N17+'11.жеке-чет өл.вал.'!N17) -> 32.400596 | P17: ='7.жеке-улут.вал.'!P17+'11.жеке-чет өл.вал.'!P17 -> 115.8 | Q17: =('7.жеке-улут.вал.'!P17*'7.жеке-улут.вал.'!Q17+'11.жеке-чет өл.вал.'!P17*'11.жеке-чет өл.вал.'!Q17)/('7.жеке-улут.вал.'!P17+'11.жеке-чет өл.вал.'!P17) -> 27.317617
A18: Тогуздун айы | B18: ='7.жеке-улут.вал.'!B18+'11.жеке-чет өл.вал.'!B18 -> 82354.3 | C18: =('7.жеке-улут.вал.'!B18*'7.жеке-улут.вал.'!C18+'11.жеке-чет өл.вал.'!B18*'11.жеке-чет өл.вал.'!C18)/('7.жеке-улут.вал.'!B18+'11.жеке-чет өл.вал.'!B18) -> 24.634482 | D18: ='7.жеке-улут.вал.'!D18+'11.жеке-чет өл.вал.'!D18 -> 37173.6 | E18: =('7.жеке-улут.вал.'!D18*'7.жеке-улут.вал.'!E18+'11.жеке-чет өл.вал.'!D18*'11.жеке-чет өл.вал.'!E18)/('7.жеке-улут.вал.'!D18+'11.жеке-чет өл.вал.'!D18) -> 9.8071629 | F18: =H18+J18+L18+N18+P18+R18 -> 45180.7 | G18: =(H18*I18+J18*K18+L18*M18+N18*O18+P18*Q18+R18*S18)/(H18+J18+L18+N18+P18+R18) -> 36.834046 | H18: ='7.жеке-улут.вал.'!H18+'11.жеке-чет өл.вал.'!H18 -> 196 | I18: =('7.жеке-улут.вал.'!H18*'7.жеке-улут.вал.'!I18+'11.жеке-чет өл.вал.'!H18*'11.жеке-чет өл.вал.'!I18)/('7.жеке-улут.вал.'!H18+'11.жеке-чет өл.вал.'!H18) -> 12.244898 | J18: ='7.жеке-улут.вал.'!J18+'11.жеке-чет өл.вал.'!J18 -> 12766.1 | K18: =('7.жеке-улут.вал.'!J18*'7.жеке-улут.вал.'!K18+'11.жеке-чет өл.вал.'!J18*'11.жеке-чет өл.вал.'!K18)/('7.жеке-улут.вал.'!J18+'11.жеке-чет өл.вал.'!J18) -> 26.769631 | L18: ='7.жеке-улут.вал.'!L18+'11.жеке-чет өл.вал.'!L18 -> 29077.8 | M18: =('7.жеке-улут.вал.'!L18*'7.жеке-улут.вал.'!M18+'11.жеке-чет өл.вал.'!L18*'11.жеке-чет өл.вал.'!M18)/('7.жеке-улут.вал.'!L18+'11.жеке-чет өл.вал.'!L18) -> 43.295981 | N18: ='7.жеке-улут.вал.'!N18+'11.жеке-чет өл.вал.'!N18 -> 3021.4 | O18: =('7.жеке-улут.вал.'!N18*'7.жеке-улут.вал.'!O18+'11.жеке-чет өл.вал.'!N18*'11.жеке-чет өл.вал.'!O18)/('7.жеке-улут.вал.'!N18+'11.жеке-чет өл.вал.'!N18) -> 19.32571 | P18: ='7.жеке-улут.вал.'!P18+'11.жеке-чет өл.вал.'!P18 -> 119.4 | Q18: =('7.жеке-улут.вал.'!P18*'7.жеке-улут.вал.'!Q18+'11.жеке-чет өл.вал.'!P18*'11.жеке-чет өл.вал.'!Q18)/('7.жеке-улут.вал.'!P18+'11.жеке-чет өл.вал.'!P18) -> 22.626466
A19: Жетинин айы | B19: ='7.жеке-улут.вал.'!B19+'11.жеке-чет өл.вал.'!B19 -> 46950.1 | C19: =('7.жеке-улут.вал.'!B19*'7.жеке-улут.вал.'!C19+'11.жеке-чет өл.вал.'!B19*'11.жеке-чет өл.вал.'!C19)/('7.жеке-улут.вал.'!B19+'11.жеке-чет өл.вал.'!B19) -> 21.161756 | D19: ='7.жеке-улут.вал.'!D19+'11.жеке-чет өл.вал.'!D19 -> 22973.7 | E19: =('7.жеке-улут.вал.'!D19*'7.жеке-улут.вал.'!E19+'11.жеке-чет өл.вал.'!D19*'11.жеке-чет өл.вал.'!E19)/('7.жеке-улут.вал.'!D19+'11.жеке-чет өл.вал.'!D19) -> 13.248201 | F19: =H19+J19+L19+N19+P19+R19 -> 23976.4 | G19: =(H19*I19+J19*K19+L19*M19+N19*O19+P19*Q19+R19*S19)/(H19+J19+L19+N19+P19+R19) -> 28.744364 | H19: ='7.жеке-улут.вал.'!H19+'11.жеке-чет өл.вал.'!H19 -> 36.2 | I19: =('7.жеке-улут.вал.'!H19*'7.жеке-улут.вал.'!I19+'11.жеке-чет өл.вал.'!H19*'11.жеке-чет өл.вал.'!I19)/('7.жеке-улут.вал.'!H19+'11.жеке-чет өл.вал.'!H19) -> 15 | J19: ='7.жеке-улут.вал.'!J19+'11.жеке-чет өл.вал.'!J19 -> 8509.5 | K19: =('7.жеке-улут.вал.'!J19*'7.жеке-улут.вал.'!K19+'11.жеке-чет өл.вал.'!J19*'11.жеке-чет өл.вал.'!K19)/('7.жеке-улут.вал.'!J19+'11.жеке-чет өл.вал.'!J19) -> 23.98722 | L19: ='7.жеке-улут.вал.'!L19+'11.жеке-чет өл.вал.'!L19 -> 14730.9 | M19: =('7.жеке-улут.вал.'!L19*'7.жеке-улут.вал.'!M19+'11.жеке-чет өл.вал.'!L19*'11.жеке-чет өл.вал.'!M19)/('7.жеке-улут.вал.'!L19+'11.жеке-чет өл.вал.'!L19) -> 31.93147 | N19: ='7.жеке-улут.вал.'!N19+'11.жеке-чет өл.вал.'!N19 -> 692.7 | O19: =('7.жеке-улут.вал.'!N19*'7.жеке-улут.вал.'!O19+'11.жеке-чет өл.вал.'!N19*'11.жеке-чет өл.вал.'!O19)/('7.жеке-улут.вал.'!N19+'11.жеке-чет өл.вал.'!N19) -> 20.168096 | P19: ='7.жеке-улут.вал.'!P19+'11.жеке-чет өл.вал.'!P19 -> 7.1 | Q19: =('7.жеке-улут.вал.'!P19*'7.жеке-улут.вал.'!Q19+'11.жеке-чет өл.вал.'!P19*'11.жеке-чет өл.вал.'!Q19)/('7.жеке-улут.вал.'!P19+'11.жеке-чет өл.вал.'!P19) -> 24.56338
A20: Бештин айы | B20: ='7.жеке-улут.вал.'!B20+'11.жеке-чет өл.вал.'!B20 -> 65625.9 | C20: =('7.жеке-улут.вал.'!B20*'7.жеке-улут.вал.'!C20+'11.жеке-чет өл.вал.'!B20*'11.жеке-чет өл.вал.'!C20)/('7.жеке-улут.вал.'!B20+'11.жеке-чет өл.вал.'!B20) -> 20.341278 | D20: ='7.жеке-улут.вал.'!D20+'11.жеке-чет өл.вал.'!D20 -> 28713.1 | E20: =('7.жеке-улут.вал.'!D20*'7.жеке-улут.вал.'!E20+'11.жеке-чет өл.вал.'!D20*'11.жеке-чет өл.вал.'!E20)/('7.жеке-улут.вал.'!D20+'11.жеке-чет өл.вал.'!D20) -> 8.7380841 | F20: =H20+J20+L20+N20+P20+R20 -> 36912.8 | G20: =(H20*I20+J20*K20+L20*M20+N20*O20+P20*Q20+R20*S20)/(H20+J20+L20+N20+P20+R20) -> 29.366973 | H20: ='7.жеке-улут.вал.'!H20+'11.жеке-чет өл.вал.'!H20 -> 31.3 | I20: =('7.жеке-улут.вал.'!H20*'7.жеке-улут.вал.'!I20+'11.жеке-чет өл.вал.'!H20*'11.жеке-чет өл.вал.'!I20)/('7.жеке-улут.вал.'!H20+'11.жеке-чет өл.вал.'!H20) -> 15 | J20: ='7.жеке-улут.вал.'!J20+'11.жеке-чет өл.вал.'!J20 -> 15880.8 | K20: =('7.жеке-улут.вал.'!J20*'7.жеке-улут.вал.'!K20+'11.жеке-чет өл.вал.'!J20*'11.жеке-чет өл.вал.'!K20)/('7.жеке-улут.вал.'!J20+'11.жеке-чет өл.вал.'!J20) -> 29.871869 | L20: ='7.жеке-улут.вал.'!L20+'11.жеке-чет өл.вал.'!L20 -> 16843.7 | M20: =('7.жеке-улут.вал.'!L20*'7.жеке-улут.вал.'!M20+'11.жеке-чет өл.вал.'!L20*'11.жеке-чет өл.вал.'!M20)/('7.жеке-улут.вал.'!L20+'11.жеке-чет өл.вал.'!L20) -> 27.930609 | N20: ='7.жеке-улут.вал.'!N20+'11.жеке-чет өл.вал.'!N20 -> 4145.9 | O20: =('7.жеке-улут.вал.'!N20*'7.жеке-улут.вал.'!O20+'11.жеке-чет өл.вал.'!N20*'11.жеке-чет өл.вал.'!O20)/('7.жеке-улут.вал.'!N20+'11.жеке-чет өл.вал.'!N20) -> 33.362998 | P20: ='7.жеке-улут.вал.'!P20+'11.жеке-чет өл.вал.'!P20 -> 11.1 | Q20: =('7.жеке-улут.вал.'!P20*'7.жеке-улут.вал.'!Q20+'11.жеке-чет өл.вал.'!P20*'11.жеке-чет өл.вал.'!Q20)/('7.жеке-улут.вал.'!P20+'11.жеке-чет өл.вал.'!P20) -> 34.6
... A110: Кулжа | B110: ='7.жеке-улут.вал.'!B110+'11.жеке-чет өл.вал.'!B110 -> 6947832.3 | C110: =('7.жеке-улут.вал.'!B110*'7.жеке-улут.вал.'!C110+'11.жеке-чет өл.вал.'!B110*'11.жеке-чет өл.вал.'!C110)/('7.жеке-улут.вал.'!B110+'11.жеке-чет өл.вал.'!B110) -> 0.26942944 | D110: ='7.жеке-улут.вал.'!D110+'11.жеке-чет өл.вал.'!D110 -> 6808872.9 | E110: =('7.жеке-улут.вал.'!D110*'7.жеке-улут.вал.'!E110+'11.жеке-чет өл.вал.'!D110*'11.жеке-чет өл.вал.'!E110)/('7.жеке-улут.вал.'!D110+'11.жеке-чет өл.вал.'!D110) -> 0.11246479 | F110: =H110+J110+L110+N110+P110+R110 -> 138959.4 | G110: =(H110*I110+J110*K110+L110*M110+N110*O110+P110*Q110+R110*S110)/(H110+J110+L110+N110+P110+R110) -> 7.9605417 | H110: ='7.жеке-улут.вал.'!H110+'11.жеке-чет өл.вал.'!H110 -> 6531.3 | I110: =('7.жеке-улут.вал.'!H110*'7.жеке-улут.вал.'!I110+'11.жеке-чет өл.вал.'!H110*'11.жеке-чет өл.вал.'!I110)/('7.жеке-улут.вал.'!H110+'11.жеке-чет өл.вал.'!H110) -> 1.7419549 | J110: ='7.жеке-улут.вал.'!J110+'11.жеке-чет өл.вал.'!J110 -> 27816.6 | K110: =('7.жеке-улут.вал.'!J110*'7.жеке-улут.вал.'!K110+'11.жеке-чет өл.вал.'!J110*'11.жеке-чет өл.вал.'!K110)/('7.жеке-улут.вал.'!J110+'11.жеке-чет өл.вал.'!J110) -> 4.6037129 | L110: ='7.жеке-улут.вал.'!L110+'11.жеке-чет өл.вал.'!L110 -> 39548.1 | M110: =('7.жеке-улут.вал.'!L110*'7.жеке-улут.вал.'!M110+'11.жеке-чет өл.вал.'!L110*'11.жеке-чет өл.вал.'!M110)/('7.жеке-улут.вал.'!L110+'11.жеке-чет өл.вал.'!L110) -> 6.9939726 | N110: ='7.жеке-улут.вал.'!N110+'11.жеке-чет өл.вал.'!N110 -> 28917 | O110: =('7.жеке-улут.вал.'!N110*'7.жеке-улут.вал.'!O110+'11.жеке-чет өл.вал.'!N110*'11.жеке-чет өл.вал.'!O110)/('7.жеке-улут.вал.'!N110+'11.жеке-чет өл.вал.'!N110) -> 9.5759993 | P110: ='7.жеке-улут.вал.'!P110+'11.жеке-чет өл.вал.'!P110 -> 36146.4 | Q110: =('7.жеке-улут.вал.'!P110*'7.жеке-улут.вал.'!Q110+'11.жеке-чет өл.вал.'!P110*'11.жеке-чет өл.вал.'!Q110)/('7.жеке-улут.вал.'!P110+'11.жеке-чет өл.вал.'!P110) -> 11.432611
A111: Теке | B111: ='7.жеке-улут.вал.'!B111+'11.жеке-чет өл.вал.'!B111 -> 10683764 | C111: =('7.жеке-улут.вал.'!B111*'7.жеке-улут.вал.'!C111+'11.жеке-чет өл.вал.'!B111*'11.жеке-чет өл.вал.'!C111)/('7.жеке-улут.вал.'!B111+'11.жеке-чет өл.вал.'!B111) -> 0.20389388 | D111: ='7.жеке-улут.вал.'!D111+'11.жеке-чет өл.вал.'!D111 -> 10526255 | E111: =('7.жеке-улут.вал.'!D111*'7.жеке-улут.вал.'!E111+'11.жеке-чет өл.вал.'!D111*'11.жеке-чет өл.вал.'!E111)/('7.жеке-улут.вал.'!D111+'11.жеке-чет өл.вал.'!D111) -> 0.10330682 | F111: =H111+J111+L111+N111+P111+R111 -> 157508.7 | G111: =(H111*I111+J111*K111+L111*M111+N111*O111+P111*Q111+R111*S111)/(H111+J111+L111+N111+P111+R111) -> 6.9260941 | H111: ='7.жеке-улут.вал.'!H111+'11.жеке-чет өл.вал.'!H111 -> 8022.4 | I111: =('7.жеке-улут.вал.'!H111*'7.жеке-улут.вал.'!I111+'11.жеке-чет өл.вал.'!H111*'11.жеке-чет өл.вал.'!I111)/('7.жеке-улут.вал.'!H111+'11.жеке-чет өл.вал.'!H111) -> 2.266519 | J111: ='7.жеке-улут.вал.'!J111+'11.жеке-чет өл.вал.'!J111 -> 58301.8 | K111: =('7.жеке-улут.вал.'!J111*'7.жеке-улут.вал.'!K111+'11.жеке-чет өл.вал.'!J111*'11.жеке-чет өл.вал.'!K111)/('7.жеке-улут.вал.'!J111+'11.жеке-чет өл.вал.'!J111) -> 4.2089485 | L111: ='7.жеке-улут.вал.'!L111+'11.жеке-чет өл.вал.'!L111 -> 28740.6 | M111: =('7.жеке-улут.вал.'!L111*'7.жеке-улут.вал.'!M111+'11.жеке-чет өл.вал.'!L111*'11.жеке-чет өл.вал.'!M111)/('7.жеке-улут.вал.'!L111+'11.жеке-чет өл.вал.'!L111) -> 7.4994389 | N111: ='7.жеке-улут.вал.'!N111+'11.жеке-чет өл.вал.'!N111 -> 28771 | O111: =('7.жеке-улут.вал.'!N111*'7.жеке-улут.вал.'!O111+'11.жеке-чет өл.вал.'!N111*'11.жеке-чет өл.вал.'!O111)/('7.жеке-улут.вал.'!N111+'11.жеке-чет өл.вал.'!N111) -> 8.5992324 | P111: ='7.жеке-улут.вал.'!P111+'11.жеке-чет өл.вал.'!P111 -> 33672.1 | Q111: =('7.жеке-улут.вал.'!P111*'7.жеке-улут.вал.'!Q111+'11.жеке-чет өл.вал.'!P111*'11.жеке-чет өл.вал.'!Q111)/('7.жеке-улут.вал.'!P111+'11.жеке-чет өл.вал.'!P111) -> 10.82176 | R111: ='7.жеке-улут.вал.'!R111+'11.жеке-чет өл.вал.'!R111 -> 0.8 | S111: =('7.жеке-улут.вал.'!R111*'7.жеке-улут.вал.'!S111+'11.жеке-чет өл.вал.'!R111*'11.жеке-чет өл.вал.'!S111)/('7.жеке-улут.вал.'!R111+'11.жеке-чет өл.вал.'!R111) -> 12
A112: Баш оона | B112: ='7.жеке-улут.вал.'!B112+'11.жеке-чет өл.вал.'!B112 -> 11858753 | C112: =('7.жеке-улут.вал.'!B112*'7.жеке-улут.вал.'!C112+'11.жеке-чет өл.вал.'!B112*'11.жеке-чет өл.вал.'!C112)/('7.жеке-улут.вал.'!B112+'11.жеке-чет өл.вал.'!B112) -> 0.17180801 | D112: ='7.жеке-улут.вал.'!D112+'11.жеке-чет өл.вал.'!D112 -> 11687927 | E112: =('7.жеке-улут.вал.'!D112*'7.жеке-улут.вал.'!E112+'11.жеке-чет өл.вал.'!D112*'11.жеке-чет өл.вал.'!E112)/('7.жеке-улут.вал.'!D112+'11.жеке-чет өл.вал.'!D112) -> 0.055744169 | F112: =H112+J112+L112+N112+P112+R112 -> 170825.7 | G112: =(H112*I112+J112*K112+L112*M112+N112*O112+P112*Q112+R112*S112)/(H112+J112+L112+N112+P112+R112) -> 8.1129178 | H112: ='7.жеке-улут.вал.'!H112+'11.жеке-чет өл.вал.'!H112 -> 12432.8 | I112: =('7.жеке-улут.вал.'!H112*'7.жеке-улут.вал.'!I112+'11.жеке-чет өл.вал.'!H112*'11.жеке-чет өл.вал.'!I112)/('7.жеке-улут.вал.'!H112+'11.жеке-чет өл.вал.'!H112) -> 4.5957228 | J112: ='7.жеке-улут.вал.'!J112+'11.жеке-чет өл.вал.'!J112 -> 48219.1 | K112: =('7.жеке-улут.вал.'!J112*'7.жеке-улут.вал.'!K112+'11.жеке-чет өл.вал.'!J112*'11.жеке-чет өл.вал.'!K112)/('7.жеке-улут.вал.'!J112+'11.жеке-чет өл.вал.'!J112) -> 4.7011675 | L112: ='7.жеке-улут.вал.'!L112+'11.жеке-чет өл.вал.'!L112 -> 29012.7 | M112: =('7.жеке-улут.вал.'!L112*'7.жеке-улут.вал.'!M112+'11.жеке-чет өл.вал.'!L112*'11.жеке-чет өл.вал.'!M112)/('7.жеке-улут.вал.'!L112+'11.жеке-чет өл.вал.'!L112) -> 7.1060921 | N112: ='7.жеке-улут.вал.'!N112+'11.жеке-чет өл.вал.'!N112 -> 38736.8 | O112: =('7.жеке-улут.вал.'!N112*'7.жеке-улут.вал.'!O112+'11.жеке-чет өл.вал.'!N112*'11.жеке-чет өл.вал.'!O112)/('7.жеке-улут.вал.'!N112+'11.жеке-чет өл.вал.'!N112) -> 10.216276 | P112: ='7.жеке-улут.вал.'!P112+'11.жеке-чет өл.вал.'!P112 -> 42424.3 | Q112: =('7.жеке-улут.вал.'!P112*'7.жеке-улут.вал.'!Q112+'11.жеке-чет өл.вал.'!P112*'11.жеке-чет өл.вал.'!Q112)/('7.жеке-улут.вал.'!P112+'11.жеке-чет өл.вал.'!P112) -> 11.789431
A113: Аяк оона | B113: ='7.жеке-улут.вал.'!B113+'11.жеке-чет өл.вал.'!B113 -> 11479154 | C113: =('7.жеке-улут.вал.'!B113*'7.жеке-улут.вал.'!C113+'11.жеке-чет өл.вал.'!B113*'11.жеке-чет өл.вал.'!C113)/('7.жеке-улут.вал.'!B113+'11.жеке-чет өл.вал.'!B113) -> 0.19845354 | D113: ='7.жеке-улут.вал.'!D113+'11.жеке-чет өл.вал.'!D113 -> 11298965 | E113: =('7.жеке-улут.вал.'!D113*'7.жеке-улут.вал.'!E113+'11.жеке-чет өл.вал.'!D113*'11.жеке-чет өл.вал.'!E113)/('7.жеке-улут.вал.'!D113+'11.жеке-чет өл.вал.'!D113) -> 0.082070654 | F113: =H113+J113+L113+N113+P113+R113 -> 180189.9 | G113: =(H113*I113+J113*K113+L113*M113+N113*O113+P113*Q113+R113*S113)/(H113+J113+L113+N113+P113+R113) -> 7.4963436 | H113: ='7.жеке-улут.вал.'!H113+'11.жеке-чет өл.вал.'!H113 -> 11223.9 | I113: =('7.жеке-улут.вал.'!H113*'7.жеке-улут.вал.'!I113+'11.жеке-чет өл.вал.'!H113*'11.жеке-чет өл.вал.'!I113)/('7.жеке-улут.вал.'!H113+'11.жеке-чет өл.вал.'!H113) -> 2.7715035 | J113: ='7.жеке-улут.вал.'!J113+'11.жеке-чет өл.вал.'!J113 -> 40957.7 | K113: =('7.жеке-улут.вал.'!J113*'7.жеке-улут.вал.'!K113+'11.жеке-чет өл.вал.'!J113*'11.жеке-чет өл.вал.'!K113)/('7.жеке-улут.вал.'!J113+'11.жеке-чет өл.вал.'!J113) -> 4.118458 | L113: ='7.жеке-улут.вал.'!L113+'11.жеке-чет өл.вал.'!L113 -> 35573.8 | M113: =('7.жеке-улут.вал.'!L113*'7.жеке-улут.вал.'!M113+'11.жеке-чет өл.вал.'!L113*'11.жеке-чет өл.вал.'!M113)/('7.жеке-улут.вал.'!L113+'11.жеке-чет өл.вал.'!L113) -> 8.7895396 | N113: ='7.жеке-улут.вал.'!N113+'11.жеке-чет өл.вал.'!N113 -> 55582.2 | O113: =('7.жеке-улут.вал.'!N113*'7.жеке-улут.вал.'!O113+'11.жеке-чет өл.вал.'!N113*'11.жеке-чет өл.вал.'!O113)/('7.жеке-улут.вал.'!N113+'11.жеке-чет өл.вал.'!N113) -> 7.7831612 | P113: ='7.жеке-улут.вал.'!P113+'11.жеке-чет өл.вал.'!P113 -> 36852 | Q113: =('7.жеке-улут.вал.'!P113*'7.жеке-улут.вал.'!Q113+'11.жеке-чет өл.вал.'!P113*'11.жеке-чет өл.вал.'!Q113)/('7.жеке-улут.вал.'!P113+'11.жеке-чет өл.вал.'!P113) -> 11.008619 | R113: ='7.жеке-улут.вал.'!R113+'11.жеке-чет өл.вал.'!R113 -> 0.3 | S113: =('7.жеке-улут.вал.'!R113*'7.жеке-улут.вал.'!S113+'11.жеке-чет өл.вал.'!R113*'11.жеке-чет өл.вал.'!S113)/('7.жеке-улут.вал.'!R113+'11.жеке-чет өл.вал.'!R113) -> 12
A114: Тогуздун айы | B114: ='7.жеке-улут.вал.'!B114+'11.жеке-чет өл.вал.'!B114 -> 12169753 | C114: =('7.жеке-улут.вал.'!B114*'7.жеке-улут.вал.'!C114+'11.жеке-чет өл.вал.'!B114*'11.жеке-чет өл.вал.'!C114)/('7.жеке-улут.вал.'!B114+'11.жеке-чет өл.вал.'!B114) -> 0.32519848 | D114: ='7.жеке-улут.вал.'!D114+'11.жеке-чет өл.вал.'!D114 -> 11645180 | E114: =('7.жеке-улут.вал.'!D114*'7.жеке-улут.вал.'!E114+'11.жеке-чет өл.вал.'!D114*'11.жеке-чет өл.вал.'!E114)/('7.жеке-улут.вал.'!D114+'11.жеке-чет өл.вал.'!D114) -> 0.10094098 | F114: =H114+J114+L114+N114+P114+R114 -> 524572.8 | G114: =(H114*I114+J114*K114+L114*M114+N114*O114+P114*Q114+R114*S114)/(H114+J114+L114+N114+P114+R114) -> 5.3035713 | H114: ='7.жеке-улут.вал.'!H114+'11.жеке-чет өл.вал.'!H114 -> 101683.2 | I114: =('7.жеке-улут.вал.'!H114*'7.жеке-улут.вал.'!I114+'11.жеке-чет өл.вал.'!H114*'11.жеке-чет өл.вал.'!I114)/('7.жеке-улут.вал.'!H114+'11.жеке-чет өл.вал.'!H114) -> 0.80331585 | J114: ='7.жеке-улут.вал.'!J114+'11.жеке-чет өл.вал.'!J114 -> 92767.8 | K114: =('7.жеке-улут.вал.'!J114*'7.жеке-улут.вал.'!K114+'11.жеке-чет өл.вал.'!J114*'11.жеке-чет өл.вал.'!K114)/('7.жеке-улут.вал.'!J114+'11.жеке-чет өл.вал.'!J114) -> 2.9419077 | L114: ='7.жеке-улут.вал.'!L114+'11.жеке-чет өл.вал.'!L114 -> 130517.3 | M114: =('7.жеке-улут.вал.'!L114*'7.жеке-улут.вал.'!M114+'11.жеке-чет өл.вал.'!L114*'11.жеке-чет өл.вал.'!M114)/('7.жеке-улут.вал.'!L114+'11.жеке-чет өл.вал.'!L114) -> 5.8018546 | N114: ='7.жеке-улут.вал.'!N114+'11.жеке-чет өл.вал.'!N114 -> 99014.9 | O114: =('7.жеке-улут.вал.'!N114*'7.жеке-улут.вал.'!O114+'11.жеке-чет өл.вал.'!N114*'11.жеке-чет өл.вал.'!O114)/('7.жеке-улут.вал.'!N114+'11.жеке-чет өл.вал.'!N114) -> 7.3146934 | P114: ='7.жеке-улут.вал.'!P114+'11.жеке-чет өл.вал.'!P114 -> 100589.1 | Q114: =('7.жеке-улут.вал.'!P114*'7.жеке-улут.вал.'!Q114+'11.жеке-чет өл.вал.'!P114*'11.жеке-чет өл.вал.'!Q114)/('7.жеке-улут.вал.'!P114+'11.жеке-чет өл.вал.'!P114) -> 9.4045895 | R114: ='7.жеке-улут.вал.'!R114+'11.жеке-чет өл.вал.'!R114 -> 0.5 | S114: =('7.жеке-улут.вал.'!R114*'7.жеке-улут.вал.'!S114+'11.жеке-чет өл.вал.'!R114*'11.жеке-чет өл.вал.'!S114)/('7.жеке-улут.вал.'!R114+'11.жеке-чет өл.вал.'!R114) -> 12
A115: Жетинин айы | B115: ='7.жеке-улут.вал.'!B115+'11.жеке-чет өл.вал.'!B115 -> 13022695 | C115: =('7.жеке-улут.вал.'!B115*'7.жеке-улут.вал.'!C115+'11.жеке-чет өл.вал.'!B115*'11.жеке-чет өл.вал.'!C115)/('7.жеке-улут.вал.'!B115+'11.жеке-чет өл.вал.'!B115) -> 0.11084349 | D115: ='7.жеке-улут.вал.'!D115+'11.жеке-чет өл.вал.'!D115 -> 12848765 | E115: =('7.жеке-улут.вал.'!D115*'7.жеке-улут.вал.'!E115+'11.жеке-чет өл.вал.'!D115*'11.жеке-чет өл.вал.'!E115)/('7.жеке-улут.вал.'!D115+'11.жеке-чет өл.вал.'!D115) -> 0.01375013 | F115: =H115+J115+L115+N115+P115+R115 -> 173930.2 | G115: =(H115*I115+J115*K115+L115*M115+N115*O115+P115*Q115+R115*S115)/(H115+J115+L115+N115+P115+R115) -> 7.2834324 | H115: ='7.жеке-улут.вал.'!H115+'11.жеке-чет өл.вал.'!H115 -> 21207.6 | I115: =('7.жеке-улут.вал.'!H115*'7.жеке-улут.вал.'!I115+'11.жеке-чет өл.вал.'!H115*'11.жеке-чет өл.вал.'!I115)/('7.жеке-улут.вал.'!H115+'11.жеке-чет өл.вал.'!H115) -> 1.9114068 | J115: ='7.жеке-улут.вал.'!J115+'11.жеке-чет өл.вал.'!J115 -> 23123.5 | K115: =('7.жеке-улут.вал.'!J115*'7.жеке-улут.вал.'!K115+'11.жеке-чет өл.вал.'!J115*'11.жеке-чет өл.вал.'!K115)/('7.жеке-улут.вал.'!J115+'11.жеке-чет өл.вал.'!J115) -> 4.3969882 | L115: ='7.жеке-улут.вал.'!L115+'11.жеке-чет өл.вал.'!L115 -> 56245.1 | M115: =('7.жеке-улут.вал.'!L115*'7.жеке-улут.вал.'!M115+'11.жеке-чет өл.вал.'!L115*'11.жеке-чет өл.вал.'!M115)/('7.жеке-улут.вал.'!L115+'11.жеке-чет өл.вал.'!L115) -> 6.0646305 | N115: ='7.жеке-улут.вал.'!N115+'11.жеке-чет өл.вал.'!N115 -> 35941.9 | O115: =('7.жеке-улут.вал.'!N115*'7.жеке-улут.вал.'!O115+'11.жеке-чет өл.вал.'!N115*'11.жеке-чет өл.вал.'!O115)/('7.жеке-улут.вал.'!N115+'11.жеке-чет өл.вал.'!N115) -> 10.152811 | P115: ='7.жеке-улут.вал.'!P115+'11.жеке-чет өл.вал.'!P115 -> 37411.8 | Q115: =('7.жеке-улут.вал.'!P115*'7.жеке-улут.вал.'!Q115+'11.жеке-чет өл.вал.'!P115*'11.жеке-чет өл.вал.'!Q115)/('7.жеке-улут.вал.'!P115+'11.жеке-чет өл.вал.'!P115) -> 11.188397 | R115: ='7.жеке-улут.вал.'!R115+'11.жеке-чет өл.вал.'!R115 -> 0.3 | S115: =('7.жеке-улут.вал.'!R115*'7.жеке-улут.вал.'!S115+'11.жеке-чет өл.вал.'!R115*'11.жеке-чет өл.вал.'!S115)/('7.жеке-улут.вал.'!R115+'11.жеке-чет өл.вал.'!R115) -> 12
A116: Бештин айы | B116: ='7.жеке-улут.вал.'!B116+'11.жеке-чет өл.вал.'!B116 -> 14327471 | C116: =('7.жеке-улут.вал.'!B116*'7.жеке-улут.вал.'!C116+'11.жеке-чет өл.вал.'!B116*'11.жеке-чет өл.вал.'!C116)/('7.жеке-улут.вал.'!B116+'11.жеке-чет өл.вал.'!B116) -> 0.10469624 | D116: ='7.жеке-улут.вал.'!D116+'11.жеке-чет өл.вал.'!D116 -> 14154988 | E116: =('7.жеке-улут.вал.'!D116*'7.жеке-улут.вал.'!E116+'11.жеке-чет өл.вал.'!D116*'11.жеке-чет өл.вал.'!E116)/('7.жеке-улут.вал.'!D116+'11.жеке-чет өл.вал.'!D116) -> 0.017533398 | F116: =H116+J116+L116+N116+P116+R116 -> 172483.1 | G116: =(H116*I116+J116*K116+L116*M116+N116*O116+P116*Q116+R116*S116)/(H116+J116+L116+N116+P116+R116) -> 7.2577969 | H116: ='7.жеке-улут.вал.'!H116+'11.жеке-чет өл.вал.'!H116 -> 14984.5 | I116: =('7.жеке-улут.вал.'!H116*'7.жеке-улут.вал.'!I116+'11.жеке-чет өл.вал.'!H116*'11.жеке-чет өл.вал.'!I116)/('7.жеке-улут.вал.'!H116+'11.жеке-чет өл.вал.'!H116) -> 1.0019991 | J116: ='7.жеке-улут.вал.'!J116+'11.жеке-чет өл.вал.'!J116 -> 34830.7 | K116: =('7.жеке-улут.вал.'!J116*'7.жеке-улут.вал.'!K116+'11.жеке-чет өл.вал.'!J116*'11.жеке-чет өл.вал.'!K116)/('7.жеке-улут.вал.'!J116+'11.жеке-чет өл.вал.'!J116) -> 4.6298647 | L116: ='7.жеке-улут.вал.'!L116+'11.жеке-чет өл.вал.'!L116 -> 54831.6 | M116: =('7.жеке-улут.вал.'!L116*'7.жеке-улут.вал.'!M116+'11.жеке-чет өл.вал.'!L116*'11.жеке-чет өл.вал.'!M116)/('7.жеке-улут.вал.'!L116+'11.жеке-чет өл.вал.'!L116) -> 7.3988373 | N116: ='7.жеке-улут.вал.'!N116+'11.жеке-чет өл.вал.'!N116 -> 44703.8 | O116: =('7.жеке-улут.вал.'!N116*'7.жеке-улут.вал.'!O116+'11.жеке-чет өл.вал.'!N116*'11.жеке-чет өл.вал.'!O116)/('7.жеке-улут.вал.'!N116+'11.жеке-чет өл.вал.'!N116) -> 9.0320727 | P116: ='7.жеке-улут.вал.'!P116+'11.жеке-чет өл.вал.'!P116 -> 23128 | Q116: =('7.жеке-улут.вал.'!P116*'7.жеке-улут.вал.'!Q116+'11.жеке-чет өл.вал.'!P116*'11.жеке-чет өл.вал.'!Q116)/('7.жеке-улут.вал.'!P116+'11.жеке-чет өл.вал.'!P116) -> 11.504141 | R116: ='7.жеке-улут.вал.'!R116+'11.жеке-чет өл.вал.'!R116 -> 4.5 | S116: =('7.жеке-улут.вал.'!R116*'7.жеке-улут.вал.'!S116+'11.жеке-чет өл.вал.'!R116*'11.жеке-чет өл.вал.'!S116)/('7.жеке-улут.вал.'!R116+'11.жеке-чет өл.вал.'!R116) -> 10.133333
A117: Үчтүн айы 2005 ж. | B117: ='7.жеке-улут.вал.'!B117+'11.жеке-чет өл.вал.'!B117 -> 8062285.1 | C117: =('7.жеке-улут.вал.'!B117*'7.жеке-улут.вал.'!C117+'11.жеке-чет өл.вал.'!B117*'11.жеке-чет өл.вал.'!C117)/('7.жеке-улут.вал.'!B117+'11.жеке-чет өл.вал.'!B117) -> 0.13815161 | D117: ='7.жеке-улут.вал.'!D117+'11.жеке-чет өл.вал.'!D117 -> 7919923.9 | E117: =('7.жеке-улут.вал.'!D117*'7.жеке-улут.вал.'!E117+'11.жеке-чет өл.вал.'!D117*'11.жеке-чет өл.вал.'!E117)/('7.жеке-улут.вал.'!D117+'11.жеке-чет өл.вал.'!D117) -> 0.0111707 | F117: =H117+J117+L117+N117+P117+R117 -> 142361.2 | G117: =(H117*I117+J117*K117+L117*M117+N117*O117+P117*Q117+R117*S117)/(H117+J117+L117+N117+P117+R117) -> 7.2024299 | H117: ='7.жеке-улут.вал.'!H117+'11.жеке-чет өл.вал.'!H117 -> 12008.5 | I117: =('7.жеке-улут.вал.'!H117*'7.жеке-улут.вал.'!I117+'11.жеке-чет өл.вал.'!H117*'11.жеке-чет өл.вал.'!I117)/('7.жеке-улут.вал.'!H117+'11.жеке-чет өл.вал.'!H117) -> 1.7327243 | J117: ='7.жеке-улут.вал.'!J117+'11.жеке-чет өл.вал.'!J117 -> 41088.2 | K117: =('7.жеке-улут.вал.'!J117*'7.жеке-улут.вал.'!K117+'11.жеке-чет өл.вал.'!J117*'11.жеке-чет өл.вал.'!K117)/('7.жеке-улут.вал.'!J117+'11.жеке-чет өл.вал.'!J117) -> 3.9192947 | L117: ='7.жеке-улут.вал.'!L117+'11.жеке-чет өл.вал.'!L117 -> 26587.6 | M117: =('7.жеке-улут.вал.'!L117*'7.жеке-улут.вал.'!M117+'11.жеке-чет өл.вал.'!L117*'11.жеке-чет өл.вал.'!M117)/('7.жеке-улут.вал.'!L117+'11.жеке-чет өл.вал.'!L117) -> 7.4591472 | N117: ='7.жеке-улут.вал.'!N117+'11.жеке-чет өл.вал.'!N117 -> 36016.2 | O117: =('7.жеке-улут.вал.'!N117*'7.жеке-улут.вал.'!O117+'11.жеке-чет өл.вал.'!N117*'11.жеке-чет өл.вал.'!O117)/('7.жеке-улут.вал.'!N117+'11.жеке-чет өл.вал.'!N117) -> 8.4647879 | P117: ='7.жеке-улут.вал.'!P117+'11.жеке-чет өл.вал.'!P117 -> 26660.4 | Q117: =('7.жеке-улут.вал.'!P117*'7.жеке-улут.вал.'!Q117+'11.жеке-чет өл.вал.'!P117*'11.жеке-чет өл.вал.'!Q117)/('7.жеке-улут.вал.'!P117+'11.жеке-чет өл.вал.'!P117) -> 12.764567 | R117: ='7.жеке-улут.вал.'!R117+'11.жеке-чет өл.вал.'!R117 -> 0.3 | S117: =('7.жеке-улут.вал.'!R117*'7.жеке-улут.вал.'!S117+'11.жеке-чет өл.вал.'!R117*'11.жеке-чет өл.вал.'!S117)/('7.жеке-улут.вал.'!R117+'11.жеке-чет өл.вал.'!R117) -> 12
A118: Бирдин айы | B118: ='7.жеке-улут.вал.'!B118+'11.жеке-чет өл.вал.'!B118 -> 10499559 | C118: =('7.жеке-улут.вал.'!B118*'7.жеке-улут.вал.'!C118+'11.жеке-чет өл.вал.'!B118*'11.жеке-чет өл.вал.'!C118)/('7.жеке-улут.вал.'!B118+'11.жеке-чет өл.вал.'!B118) -> 0.12091638 | D118: ='7.жеке-улут.вал.'!D118+'11.жеке-чет өл.вал.'!D118 -> 10345418 | E118: =('7.жеке-улут.вал.'!D118*'7.жеке-улут.вал.'!E118+'11.жеке-чет өл.вал.'!D118*'11.жеке-чет өл.вал.'!E118)/('7.жеке-улут.вал.'!D118+'11.жеке-чет өл.вал.'!D118) -> 0.0105407 | F118: =H118+J118+L118+N118+P118+R118 -> 154141.6 | G118: =(H118*I118+J118*K118+L118*M118+N118*O118+P118*Q118+R118*S118)/(H118+J118+L118+N118+P118+R118) -> 7.5289266 | H118: ='7.жеке-улут.вал.'!H118+'11.жеке-чет өл.вал.'!H118 -> 9220.8 | I118: =('7.жеке-улут.вал.'!H118*'7.жеке-улут.вал.'!I118+'11.жеке-чет өл.вал.'!H118*'11.жеке-чет өл.вал.'!I118)/('7.жеке-улут.вал.'!H118+'11.жеке-чет өл.вал.'!H118) -> 1.2941558 | J118: ='7.жеке-улут.вал.'!J118+'11.жеке-чет өл.вал.'!J118 -> 31498.1 | K118: =('7.жеке-улут.вал.'!J118*'7.жеке-улут.вал.'!K118+'11.жеке-чет өл.вал.'!J118*'11.жеке-чет өл.вал.'!K118)/('7.жеке-улут.вал.'!J118+'11.жеке-чет өл.вал.'!J118) -> 4.7667504 | L118: ='7.жеке-улут.вал.'!L118+'11.жеке-чет өл.вал.'!L118 -> 40025.4 | M118: =('7.жеке-улут.вал.'!L118*'7.жеке-улут.вал.'!M118+'11.жеке-чет өл.вал.'!L118*'11.жеке-чет өл.вал.'!M118)/('7.жеке-улут.вал.'!L118+'11.жеке-чет өл.вал.'!L118) -> 7.1292539 | N118: ='7.жеке-улут.вал.'!N118+'11.жеке-чет өл.вал.'!N118 -> 44790.7 | O118: =('7.жеке-улут.вал.'!N118*'7.жеке-улут.вал.'!O118+'11.жеке-чет өл.вал.'!N118*'11.жеке-чет өл.вал.'!O118)/('7.жеке-улут.вал.'!N118+'11.жеке-чет өл.вал.'!N118) -> 8.8563274 | P118: ='7.жеке-улут.вал.'!P118+'11.жеке-чет өл.вал.'!P118 -> 28606.3 | Q118: =('7.жеке-улут.вал.'!P118*'7.жеке-улут.вал.'!Q118+'11.жеке-чет өл.вал.'!P118*'11.жеке-чет өл.вал.'!Q118)/('7.жеке-улут.вал.'!P118+'11.жеке-чет өл.вал.'!P118) -> 11.060785 | R118: ='7.жеке-улут.вал.'!R118+'11.жеке-чет өл.вал.'!R118 -> 0.3 | S118: =('7.жеке-улут.вал.'!R118*'7.жеке-улут.вал.'!S118+'11.жеке-чет өл.вал.'!R118*'11.жеке-чет өл.вал.'!S118)/('7.жеке-улут.вал.'!R118+'11.жеке-чет өл.вал.'!R118) -> 12
A119: Жалган куран | B119: ='7.жеке-улут.вал.'!B119+'11.жеке-чет өл.вал.'!B119 -> 11547243 | C119: =('7.жеке-улут.вал.'!B119*'7.жеке-улут.вал.'!C119+'11.жеке-чет өл.вал.'!B119*'11.жеке-чет өл.вал.'!C119)/('7.жеке-улут.вал.'!B119+'11.жеке-чет өл.вал.'!B119) -> 0.11540174 | D119: ='7.жеке-улут.вал.'!D119+'11.жеке-чет өл.вал.'!D119 -> 11398437 | E119: =('7.жеке-улут.вал.'!D119*'7.жеке-улут.вал.'!E119+'11.жеке-чет өл.вал.'!D119*'11.жеке-чет өл.вал.'!E119)/('7.жеке-улут.вал.'!D119+'11.жеке-чет өл.вал.'!D119) -> 0.012365061 | F119: =H119+J119+L119+N119+P119+R119 -> 148806.1 | G119: =(H119*I119+J119*K119+L119*M119+N119*O119+P119*Q119+R119*S119)/(H119+J119+L119+N119+P119+R119) -> 8.0079345 | H119: ='7.жеке-улут.вал.'!H119+'11.жеке-чет өл.вал.'!H119 -> 7840.5 | I119: =('7.жеке-улут.вал.'!H119*'7.жеке-улут.вал.'!I119+'11.жеке-чет өл.вал.'!H119*'11.жеке-чет өл.вал.'!I119)/('7.жеке-улут.вал.'!H119+'11.жеке-чет өл.вал.'!H119) -> 2.3851157 | J119: ='7.жеке-улут.вал.'!J119+'11.жеке-чет өл.вал.'!J119 -> 26297.2 | K119: =('7.жеке-улут.вал.'!J119*'7.жеке-улут.вал.'!K119+'11.жеке-чет өл.вал.'!J119*'11.жеке-чет өл.вал.'!K119)/('7.жеке-улут.вал.'!J119+'11.жеке-чет өл.вал.'!J119) -> 3.6530143 | L119: ='7.жеке-улут.вал.'!L119+'11.жеке-чет өл.вал.'!L119 -> 35888.8 | M119: =('7.жеке-улут.вал.'!L119*'7.жеке-улут.вал.'!M119+'11.жеке-чет өл.вал.'!L119*'11.жеке-чет өл.вал.'!M119)/('7.жеке-улут.вал.'!L119+'11.жеке-чет өл.вал.'!L119) -> 8.9845543 | N119: ='7.жеке-улут.вал.'!N119+'11.жеке-чет өл.вал.'!N119 -> 47761.9 | O119: =('7.жеке-улут.вал.'!N119*'7.жеке-улут.вал.'!O119+'11.жеке-чет өл.вал.'!N119*'11.жеке-чет өл.вал.'!O119)/('7.жеке-улут.вал.'!N119+'11.жеке-чет өл.вал.'!N119) -> 8.5010684 | P119: ='7.жеке-улут.вал.'!P119+'11.жеке-чет өл.вал.'!P119 -> 31017.3 | Q119: =('7.жеке-улут.вал.'!P119*'7.жеке-улут.вал.'!Q119+'11.жеке-чет өл.вал.'!P119*'11.жеке-чет өл.вал.'!Q119)/('7.жеке-улут.вал.'!P119+'11.жеке-чет өл.вал.'!P119) -> 11.232058 | R119: ='7.жеке-улут.вал.'!R119+'11.жеке-чет өл.вал.'!R119 -> 0.4 | S119: =('7.жеке-улут.вал.'!R119*'7.жеке-улут.вал.'!S119+'11.жеке-чет өл.вал.'!R119*'11.жеке-чет өл.вал.'!S119)/('7.жеке-улут.вал.'!R119+'11.жеке-чет өл.вал.'!R119) -> 12
A120: Чын куран | B120: ='7.жеке-улут.вал.'!B120+'11.жеке-чет өл.вал.'!B120 -> 14238623 | C120: =('7.жеке-улут.вал.'!B120*'7.жеке-улут.вал.'!C120+'11.жеке-чет өл.вал.'!B120*'11.жеке-чет өл.вал.'!C120)/('7.жеке-улут.вал.'!B120+'11.жеке-чет өл.вал.'!B120) -> 0.096302428 | D120: ='7.жеке-улут.вал.'!D120+'11.жеке-чет өл.вал.'!D120 -> 14064667 | E120: =('7.жеке-улут.вал.'!D120*'7.жеке-улут.вал.'!E120+'11.жеке-чет өл.вал.'!D120*'11.жеке-чет өл.вал.'!E120)/('7.жеке-улут.вал.'!D120+'11.жеке-чет өл.вал.'!D120) -> 0.011872425 | F120: =H120+J120+L120+N120+P120+R120 -> 173955.5 | G120: =(H120*I120+J120*K120+L120*M120+N120*O120+P120*Q120+R120*S120)/(H120+J120+L120+N120+P120+R120) -> 6.9226453 | H120: ='7.жеке-улут.вал.'!H120+'11.жеке-чет өл.вал.'!H120 -> 6429.2 | I120: =('7.жеке-улут.вал.'!H120*'7.жеке-улут.вал.'!I120+'11.жеке-чет өл.вал.'!H120*'11.жеке-чет өл.вал.'!I120)/('7.жеке-улут.вал.'!H120+'11.жеке-чет өл.вал.'!H120) -> 1.6544391 | J120: ='7.жеке-улут.вал.'!J120+'11.жеке-чет өл.вал.'!J120 -> 55993.6 | K120: =('7.жеке-улут.вал.'!J120*'7.жеке-улут.вал.'!K120+'11.жеке-чет өл.вал.'!J120*'11.жеке-чет өл.вал.'!K120)/('7.жеке-улут.вал.'!J120+'11.жеке-чет өл.вал.'!J120) -> 4.2446192 | L120: ='7.жеке-улут.вал.'!L120+'11.жеке-чет өл.вал.'!L120 -> 51090.3 | M120: =('7.жеке-улут.вал.'!L120*'7.жеке-улут.вал.'!M120+'11.жеке-чет өл.вал.'!L120*'11.жеке-чет өл.вал.'!M120)/('7.жеке-улут.вал.'!L120+'11.жеке-чет өл.вал.'!L120) -> 6.676376 | N120: ='7.жеке-улут.вал.'!N120+'11.жеке-чет өл.вал.'!N120 -> 33983.7 | O120: =('7.жеке-улут.вал.'!N120*'7.жеке-улут.вал.'!O120+'11.жеке-чет өл.вал.'!N120*'11.жеке-чет өл.вал.'!O120)/('7.жеке-улут.вал.'!N120+'11.жеке-чет өл.вал.'!N120) -> 9.4166056 | P120: ='7.жеке-улут.вал.'!P120+'11.жеке-чет өл.вал.'!P120 -> 26458.4 | Q120: =('7.жеке-улут.вал.'!P120*'7.жеке-улут.вал.'!Q120+'11.жеке-чет өл.вал.'!P120*'11.жеке-чет өл.вал.'!Q120)/('7.жеке-улут.вал.'!P120+'11.жеке-чет өл.вал.'!P120) -> 11.142444 | R120: ='7.жеке-улут.вал.'!R120+'11.жеке-чет өл.вал.'!R120 -> 0.3 | S120: =('7.жеке-улут.вал.'!R120*'7.жеке-улут.вал.'!S120+'11.жеке-чет өл.вал.'!R120*'11.жеке-чет өл.вал.'!S120)/('7.жеке-улут.вал.'!R120+'11.жеке-чет өл.вал.'!R120) -> 12
A121: Бугу | B121: ='7.жеке-улут.вал.'!B121+'11.жеке-чет өл.вал.'!B121 -> 9566759.9 | C121: =('7.жеке-улут.вал.'!B121*'7.жеке-улут.вал.'!C121+'11.жеке-чет өл.вал.'!B121*'11.жеке-чет өл.вал.'!C121)/('7.жеке-улут.вал.'!B121+'11.жеке-чет өл.вал.'!B121) -> 0.15198506 | D121: ='7.жеке-улут.вал.'!D121+'11.жеке-чет өл.вал.'!D121 -> 9402590.5 | E121: =('7.жеке-улут.вал.'!D121*'7.жеке-улут.вал.'!E121+'11.жеке-чет өл.вал.'!D121*'11.жеке-чет өл.вал.'!E121)/('7.жеке-улут.вал.'!D121+'11.жеке-чет өл.вал.'!D121) -> 0.021996625 | F121: =H121+J121+L121+N121+P121+R121 -> 164169.4 | G121: =(H121*I121+J121*K121+L121*M121+N121*O121+P121*Q121+R121*S121)/(H121+J121+L121+N121+P121+R121) -> 7.596905 | H121: ='7.жеке-улут.вал.'!H121+'11.жеке-чет өл.вал.'!H121 -> 5785 | I121: =('7.жеке-улут.вал.'!H121*'7.жеке-улут.вал.'!I121+'11.жеке-чет өл.вал.'!H121*'11.жеке-чет өл.вал.'!I121)/('7.жеке-улут.вал.'!H121+'11.жеке-чет өл.вал.'!H121) -> 2.6891507 | J121: ='7.жеке-улут.вал.'!J121+'11.жеке-чет өл.вал.'!J121 -> 59606.4 | K121: =('7.жеке-улут.вал.'!J121*'7.жеке-улут.вал.'!K121+'11.жеке-чет өл.вал.'!J121*'11.жеке-чет өл.вал.'!K121)/('7.жеке-улут.вал.'!J121+'11.жеке-чет өл.вал.'!J121) -> 4.3041999 | L121: ='7.жеке-улут.вал.'!L121+'11.жеке-чет өл.вал.'!L121 -> 32899 | M121: =('7.жеке-улут.вал.'!L121*'7.жеке-улут.вал.'!M121+'11.жеке-чет өл.вал.'!L121*'11.жеке-чет өл.вал.'!M121)/('7.жеке-улут.вал.'!L121+'11.жеке-чет өл.вал.'!L121) -> 7.3328569 | N121: ='7.жеке-улут.вал.'!N121+'11.жеке-чет өл.вал.'!N121 -> 28280.5 | O121: =('7.жеке-улут.вал.'!N121*'7.жеке-улут.вал.'!O121+'11.жеке-чет өл.вал.'!N121*'11.жеке-чет өл.вал.'!O121)/('7.жеке-улут.вал.'!N121+'11.жеке-чет өл.вал.'!N121) -> 10.248086 | P121: ='7.жеке-улут.вал.'!P121+'11.жеке-чет өл.вал.'!P121 -> 37471.8 | Q121: =('7.жеке-улут.вал.'!P121*'7.жеке-улут.вал.'!Q121+'11.жеке-чет өл.вал.'!P121*'11.жеке-чет өл.вал.'!Q121)/('7.жеке-улут.вал.'!P121+'11.жеке-чет өл.вал.'!P121) -> 11.8151 | R121: ='7.жеке-улут.вал.'!R121+'11.жеке-чет өл.вал.'!R121 -> 126.7 | S121: =('7.жеке-улут.вал.'!R121*'7.жеке-улут.вал.'!S121+'11.жеке-чет өл.вал.'!R121*'11.жеке-чет өл.вал.'!S121)/('7.жеке-улут.вал.'!R121+'11.жеке-чет өл.вал.'!R121) -> 10
A122: Кулжа | B122: ='7.жеке-улут.вал.'!B122+'11.жеке-чет өл.вал.'!B122 -> 7659124.9 | C122: =('7.жеке-улут.вал.'!B122*'7.жеке-улут.вал.'!C122+'11.жеке-чет өл.вал.'!B122*'11.жеке-чет өл.вал.'!C122)/('7.жеке-улут.вал.'!B122+'11.жеке-чет өл.вал.'!B122) -> 0.20816699 | D122: ='7.жеке-улут.вал.'!D122+'11.жеке-чет өл.вал.'!D122 -> 7354716.5 | E122: =('7.жеке-улут.вал.'!D122*'7.жеке-улут.вал.'!E122+'11.жеке-чет өл.вал.'!D122*'11.жеке-чет өл.вал.'!E122)/('7.жеке-улут.вал.'!D122+'11.жеке-чет өл.вал.'!D122) -> 0.025249469 | F122: =H122+J122+L122+N122+P122+R122 -> 304408.4 | G122: =(H122*I122+J122*K122+L122*M122+N122*O122+P122*Q122+R122*S122)/(H122+J122+L122+N122+P122+R122) -> 4.6275803 | H122: ='7.жеке-улут.вал.'!H122+'11.жеке-чет өл.вал.'!H122 -> 12590.9 | I122: =('7.жеке-улут.вал.'!H122*'7.жеке-улут.вал.'!I122+'11.жеке-чет өл.вал.'!H122*'11.жеке-чет өл.вал.'!I122)/('7.жеке-улут.вал.'!H122+'11.жеке-чет өл.вал.'!H122) -> 1.6358767 | J122: ='7.жеке-улут.вал.'!J122+'11.жеке-чет өл.вал.'!J122 -> 176719.3 | K122: =('7.жеке-улут.вал.'!J122*'7.жеке-улут.вал.'!K122+'11.жеке-чет өл.вал.'!J122*'11.жеке-чет өл.вал.'!K122)/('7.жеке-улут.вал.'!J122+'11.жеке-чет өл.вал.'!J122) -> 2.2904757 | L122: ='7.жеке-улут.вал.'!L122+'11.жеке-чет өл.вал.'!L122 -> 55535.4 | M122: =('7.жеке-улут.вал.'!L122*'7.жеке-улут.вал.'!M122+'11.жеке-чет өл.вал.'!L122*'11.жеке-чет өл.вал.'!M122)/('7.жеке-улут.вал.'!L122+'11.жеке-чет өл.вал.'!L122) -> 7.1211328 | N122: ='7.жеке-улут.вал.'!N122+'11.жеке-чет өл.вал.'!N122 -> 29447.3 | O122: =('7.жеке-улут.вал.'!N122*'7.жеке-улут.вал.'!O122+'11.жеке-чет өл.вал.'!N122*'11.жеке-чет өл.вал.'!O122)/('7.жеке-улут.вал.'!N122+'11.жеке-чет өл.вал.'!N122) -> 8.2715499 | P122: ='7.жеке-улут.вал.'!P122+'11.жеке-чет өл.вал.'!P122 -> 30115.2 | Q122: =('7.жеке-улут.вал.'!P122*'7.жеке-улут.вал.'!Q122+'11.жеке-чет өл.вал.'!P122*'11.жеке-чет өл.вал.'!Q122)/('7.жеке-улут.вал.'!P122+'11.жеке-чет өл.вал.'!P122) -> 11.431208 | R122: ='7.жеке-улут.вал.'!R122+'11.жеке-чет өл.вал.'!R122 -> 0.3 | S122: =('7.жеке-улут.вал.'!R122*'7.жеке-улут.вал.'!S122+'11.жеке-чет өл.вал.'!R122*'11.жеке-чет өл.вал.'!S122)/('7.жеке-улут.вал.'!R122+'11.жеке-чет өл.вал.'!R122) -> 10
A123: Теке | B123: ='7.жеке-улут.вал.'!B123+'11.жеке-чет өл.вал.'!B123 -> 4850077.8 | C123: =('7.жеке-улут.вал.'!B123*'7.жеке-улут.вал.'!C123+'11.жеке-чет өл.вал.'!B123*'11.жеке-чет өл.вал.'!C123)/('7.жеке-улут.вал.'!B123+'11.жеке-чет өл.вал.'!B123) -> 0.27539369 | D123: ='7.жеке-улут.вал.'!D123+'11.жеке-чет өл.вал.'!D123 -> 4725280 | E123: =('7.жеке-улут.вал.'!D123*'7.жеке-улут.вал.'!E123+'11.жеке-чет өл.вал.'!D123*'11.жеке-чет өл.вал.'!E123)/('7.жеке-улут.вал.'!D123+'11.жеке-чет өл.вал.'!D123) -> 0.059260407 | F123: =H123+J123+L123+N123+P123+R123 -> 124797.8 | G123: =(H123*I123+J123*K123+L123*M123+N123*O123+P123*Q123+R123*S123)/(H123+J123+L123+N123+P123+R123) -> 8.4589537 | H123: ='7.жеке-улут.вал.'!H123+'11.жеке-чет өл.вал.'!H123 -> 1526.7 | I123: =('7.жеке-улут.вал.'!H123*'7.жеке-улут.вал.'!I123+'11.жеке-чет өл.вал.'!H123*'11.жеке-чет өл.вал.'!I123)/('7.жеке-улут.вал.'!H123+'11.жеке-чет өл.вал.'!H123) -> 1.6921465 | J123: ='7.жеке-улут.вал.'!J123+'11.жеке-чет өл.вал.'!J123 -> 26387.6 | K123: =('7.жеке-улут.вал.'!J123*'7.жеке-улут.вал.'!K123+'11.жеке-чет өл.вал.'!J123*'11.жеке-чет өл.вал.'!K123)/('7.жеке-улут.вал.'!J123+'11.жеке-чет өл.вал.'!J123) -> 5.0496591 | L123: ='7.жеке-улут.вал.'!L123+'11.жеке-чет өл.вал.'!L123 -> 30907.9 | M123: =('7.жеке-улут.вал.'!L123*'7.жеке-улут.вал.'!M123+'11.жеке-чет өл.вал.'!L123*'11.жеке-чет өл.вал.'!M123)/('7.жеке-улут.вал.'!L123+'11.жеке-чет өл.вал.'!L123) -> 7.3924402 | N123: ='7.жеке-улут.вал.'!N123+'11.жеке-чет өл.вал.'!N123 -> 29211.5 | O123: =('7.жеке-улут.вал.'!N123*'7.жеке-улут.вал.'!O123+'11.жеке-чет өл.вал.'!N123*'11.жеке-чет өл.вал.'!O123)/('7.жеке-улут.вал.'!N123+'11.жеке-чет өл.вал.'!N123) -> 8.600793 | P123: ='7.жеке-улут.вал.'!P123+'11.жеке-чет өл.вал.'!P123 -> 36763.8 | Q123: =('7.жеке-улут.вал.'!P123*'7.жеке-улут.вал.'!Q123+'11.жеке-чет өл.вал.'!P123*'11.жеке-чет өл.вал.'!Q123)/('7.жеке-улут.вал.'!P123+'11.жеке-чет өл.вал.'!P123) -> 11.970938 | R123: ='7.жеке-улут.вал.'!R123+'11.жеке-чет өл.вал.'!R123 -> 0.3 | S123: =('7.жеке-улут.вал.'!R123*'7.жеке-улут.вал.'!S123+'11.жеке-чет өл.вал.'!R123*'11.жеке-чет өл.вал.'!S123)/('7.жеке-улут.вал.'!R123+'11.жеке-чет өл.вал.'!R123) -> 10
A124: Баш оона | B124: ='7.жеке-улут.вал.'!B124+'11.жеке-чет өл.вал.'!B124 -> 3615604.1 | C124: =('7.жеке-улут.вал.'!B124*'7.жеке-улут.вал.'!C124+'11.жеке-чет өл.вал.'!B124*'11.жеке-чет өл.вал.'!C124)/('7.жеке-улут.вал.'!B124+'11.жеке-чет өл.вал.'!B124) -> 0.52155673 | D124: ='7.жеке-улут.вал.'!D124+'11.жеке-чет өл.вал.'!D124 -> 3413237.3 | E124: =('7.жеке-улут.вал.'!D124*'7.жеке-улут.вал.'!E124+'11.жеке-чет өл.вал.'!D124*'11.жеке-чет өл.вал.'!E124)/('7.жеке-улут.вал.'!D124+'11.жеке-чет өл.вал.'!D124) -> 0.072071912 | F124: =H124+J124+L124+N124+P124+R124 -> 202366.8 | G124: =(H124*I124+J124*K124+L124*M124+N124*O124+P124*Q124+R124*S124)/(H124+J124+L124+N124+P124+R124) -> 8.1028317 | H124: ='7.жеке-улут.вал.'!H124+'11.жеке-чет өл.вал.'!H124 -> 7100.4 | I124: =('7.жеке-улут.вал.'!H124*'7.жеке-улут.вал.'!I124+'11.жеке-чет өл.вал.'!H124*'11.жеке-чет өл.вал.'!I124)/('7.жеке-улут.вал.'!H124+'11.жеке-чет өл.вал.'!H124) -> 2.2072649 | J124: ='7.жеке-улут.вал.'!J124+'11.жеке-чет өл.вал.'!J124 -> 58867.6 | K124: =('7.жеке-улут.вал.'!J124*'7.жеке-улут.вал.'!K124+'11.жеке-чет өл.вал.'!J124*'11.жеке-чет өл.вал.'!K124)/('7.жеке-улут.вал.'!J124+'11.жеке-чет өл.вал.'!J124) -> 4.810106 | L124: ='7.жеке-улут.вал.'!L124+'11.жеке-чет өл.вал.'!L124 -> 31521.8 | M124: =('7.жеке-улут.вал.'!L124*'7.жеке-улут.вал.'!M124+'11.жеке-чет өл.вал.'!L124*'11.жеке-чет өл.вал.'!M124)/('7.жеке-улут.вал.'!L124+'11.жеке-чет өл.вал.'!L124) -> 7.1499836 | N124: ='7.жеке-улут.вал.'!N124+'11.жеке-чет өл.вал.'!N124 -> 49937.1 | O124: =('7.жеке-улут.вал.'!N124*'7.жеке-улут.вал.'!O124+'11.жеке-чет өл.вал.'!N124*'11.жеке-чет өл.вал.'!O124)/('7.жеке-улут.вал.'!N124+'11.жеке-чет өл.вал.'!N124) -> 8.8666752 | P124: ='7.жеке-улут.вал.'!P124+'11.жеке-чет өл.вал.'!P124 -> 54931.4 | Q124: =('7.жеке-улут.вал.'!P124*'7.жеке-улут.вал.'!Q124+'11.жеке-чет өл.вал.'!P124*'11.жеке-чет өл.вал.'!Q124)/('7.жеке-улут.вал.'!P124+'11.жеке-чет өл.вал.'!P124) -> 12.245653 | R124: ='7.жеке-улут.вал.'!R124+'11.жеке-чет өл.вал.'!R124 -> 8.5 | S124: =('7.жеке-улут.вал.'!R124*'7.жеке-улут.вал.'!S124+'11.жеке-чет өл.вал.'!R124*'11.жеке-чет өл.вал.'!S124)/('7.жеке-улут.вал.'!R124+'11.жеке-чет өл.вал.'!R124) -> 10
... A380: Бештин айы | B380: ='7.жеке-улут.вал.'!B380+'11.жеке-чет өл.вал.'!B380 -> 0 | C380: =('7.жеке-улут.вал.'!B380*'7.жеке-улут.вал.'!C380+'11.жеке-чет өл.вал.'!B380*'11.жеке-чет өл.вал.'!C380)/('7.жеке-улут.вал.'!B380+'11.жеке-чет өл.вал.'!B380) -> #DIV/0! | D380: ='7.жеке-улут.вал.'!D380+'11.жеке-чет өл.вал.'!D380 -> 0 | E380: =('7.жеке-улут.вал.'!D380*'7.жеке-улут.вал.'!E380+'11.жеке-чет өл.вал.'!D380*'11.жеке-чет өл.вал.'!E380)/('7.жеке-улут.вал.'!D380+'11.жеке-чет өл.вал.'!D380) -> #DIV/0! | F380: =H380+J380+L380+N380+P380+R380 -> 0 | G380: =(H380*I380+J380*K380+L380*M380+N380*O380+P380*Q380+R380*S380)/(H380+J380+L380+N380+P380+R380) -> #DIV/0! | H380: ='7.жеке-улут.вал.'!H380+'11.жеке-чет өл.вал.'!H380 -> 0 | I380: =('7.жеке-улут.вал.'!H380*'7.жеке-улут.вал.'!I380+'11.жеке-чет өл.вал.'!H380*'11.жеке-чет өл.вал.'!I380)/('7.жеке-улут.вал.'!H380+'11.жеке-чет өл.вал.'!H380) -> #DIV/0! | J380: ='7.жеке-улут.вал.'!J380+'11.жеке-чет өл.вал.'!J380 -> 0 | K380: =('7.жеке-улут.вал.'!J380*'7.жеке-улут.вал.'!K380+'11.жеке-чет өл.вал.'!J380*'11.жеке-чет өл.вал.'!K380)/('7.жеке-улут.вал.'!J380+'11.жеке-чет өл.вал.'!J380) -> #DIV/0! | L380: ='7.жеке-улут.вал.'!L380+'11.жеке-чет өл.вал.'!L380 -> 0 | M380: =('7.жеке-улут.вал.'!L380*'7.жеке-улут.вал.'!M380+'11.жеке-чет өл.вал.'!L380*'11.жеке-чет өл.вал.'!M380)/('7.жеке-улут.вал.'!L380+'11.жеке-чет өл.вал.'!L380) -> #DIV/0! | N380: ='7.жеке-улут.вал.'!N380+'11.жеке-чет өл.вал.'!N380 -> 0 | O380: =('7.жеке-улут.вал.'!N380*'7.жеке-улут.вал.'!O380+'11.жеке-чет өл.вал.'!N380*'11.жеке-чет өл.вал.'!O380)/('7.жеке-улут.вал.'!N380+'11.жеке-чет өл.вал.'!N380) -> #DIV/0! | P380: ='7.жеке-улут.вал.'!P380+'11.жеке-чет өл.вал.'!P380 -> 0 | Q380: =('7.жеке-улут.вал.'!P380*'7.жеке-улут.вал.'!Q380+'11.жеке-чет өл.вал.'!P380*'11.жеке-чет өл.вал.'!Q380)/('7.жеке-улут.вал.'!P380+'11.жеке-чет өл.вал.'!P380) -> #DIV/0! | R380: ='7.жеке-улут.вал.'!R380+'11.жеке-чет өл.вал.'!R380 -> 0 | S380: =('7.жеке-улут.вал.'!R380*'7.жеке-улут.вал.'!S380+'11.жеке-чет өл.вал.'!R380*'11.жеке-чет өл.вал.'!S380)/('7.жеке-улут.вал.'!R380+'11.жеке-чет өл.вал.'!R380) -> #DIV/0!
A381: *- алдын ала алынган маалыматтар

Sheet 4.юрид-бардыгы болуп
A1: Статистика / "Банк статистикасы" / "Коммерциялык банктар тарабынан жаңыдан кабыл алынган депозиттер, бир мезгил ичинде"
A3: 4-таблица. Юридикалык жактардын жаңыдан кабыл алынган депозиттеринин жалпы көлөмү жана орточо салмактанып алынган пайыздык чендери*
A5: (миң сом / пайыздар)
A6: Мезгил аралыгы | B6: Жалпы көлөм | C6: Орточо салмактанып алынган чендер | D6: Талап боюнча төлөнүүчү | F6: Мөөнөттүү депозиттер | H6: анын ичинде, мөөнөттөрү боюнча:
H7: 0 - 1 айга | J7: 1 - 3 айга | L7: 3 - 6 айга | N7: 6 - 12 айга | P7: 1 - 3 жыл | R7: 3 жылдан ашкан мөөнөткө
D8: көлөм | E8: орточо салмактанып алынган чендер | F8: көлөм | G8: орточо салмактанып алынган чендер | H8: көлөм | I8: орточо салмактанып алынган чендер | J8: көлөм | K8: орточо салмактанып алынган чендер | L8: көлөм | M8: орточо салмактанып алынган чендер | N8: көлөм | O8: орточо салмактанып алынган чендер | P8: көлөм | Q8: орточо салмактанып алынган чендер | R8: көлөм | S8: орточо салмактанып алынган чендер
A9: Үчтүн айы 1996 ж. | B9: ='8.юрид-улут.вал.'!B9+'12.юрид-чет өл.вал.'!B9 -> 9102 | C9: =('8.юрид-улут.вал.'!B9*'8.юрид-улут.вал.'!C9+'12.юрид-чет өл.вал.'!B9*'12.юрид-чет өл.вал.'!C9)/('8.юрид-улут.вал.'!B9+'12.юрид-чет өл.вал.'!B9) -> 26.632388 | F9: =H9+J9+L9+N9+P9+R9 -> 9102 | G9: =(H9*I9+J9*K9+L9*M9+N9*O9+P9*Q9+R9*S9)/(H9+J9+L9+N9+P9+R9) -> 26.632388 | H9: ='8.юрид-улут.вал.'!H9+'12.юрид-чет өл.вал.'!H9 -> 1732 | I9: =('8.юрид-улут.вал.'!H9*'8.юрид-улут.вал.'!I9+'12.юрид-чет өл.вал.'!H9*'12.юрид-чет өл.вал.'!I9)/('8.юрид-улут.вал.'!H9+'12.юрид-чет өл.вал.'!H9) -> 5.1558891 | J9: ='8.юрид-улут.вал.'!J9+'12.юрид-чет өл.вал.'!J9 -> 4557 | K9: =('8.юрид-улут.вал.'!J9*'8.юрид-улут.вал.'!K9+'12.юрид-чет өл.вал.'!J9*'12.юрид-чет өл.вал.'!K9)/('8.юрид-улут.вал.'!J9+'12.юрид-чет өл.вал.'!J9) -> 36.145885 | L9: ='8.юрид-улут.вал.'!L9+'12.юрид-чет өл.вал.'!L9 -> 2250 | M9: =('8.юрид-улут.вал.'!L9*'8.юрид-улут.вал.'!M9+'12.юрид-чет өл.вал.'!L9*'12.юрид-чет өл.вал.'!M9)/('8.юрид-улут.вал.'!L9+'12.юрид-чет өл.вал.'!L9) -> 17.454222 | N9: ='8.юрид-улут.вал.'!N9+'12.юрид-чет өл.вал.'!N9 -> 559 | O9: =('8.юрид-улут.вал.'!N9*'8.юрид-улут.вал.'!O9+'12.юрид-чет өл.вал.'!N9*'12.юрид-чет өл.вал.'!O9)/('8.юрид-улут.вал.'!N9+'12.юрид-чет өл.вал.'!N9) -> 52.538819 | P9: ='8.юрид-улут.вал.'!P9+'12.юрид-чет өл.вал.'!P9 -> 4 | Q9: =('8.юрид-улут.вал.'!P9*'8.юрид-улут.вал.'!Q9+'12.юрид-чет өл.вал.'!P9*'12.юрид-чет өл.вал.'!Q9)/('8.юрид-улут.вал.'!P9+'12.юрид-чет өл.вал.'!P9) -> 30
A10: Бирдин айы | B10: ='8.юрид-улут.вал.'!B10+'12.юрид-чет өл.вал.'!B10 -> 7593.3 | C10: =('8.юрид-улут.вал.'!B10*'8.юрид-улут.вал.'!C10+'12.юрид-чет өл.вал.'!B10*'12.юрид-чет өл.вал.'!C10)/('8.юрид-улут.вал.'!B10+'12.юрид-чет өл.вал.'!B10) -> 26.706597 | F10: =H10+J10+L10+N10+P10+R10 -> 7593.3 | G10: =(H10*I10+J10*K10+L10*M10+N10*O10+P10*Q10+R10*S10)/(H10+J10+L10+N10+P10+R10) -> 26.706597 | H10: ='8.юрид-улут.вал.'!H10+'12.юрид-чет өл.вал.'!H10 -> 334 | I10: =('8.юрид-улут.вал.'!H10*'8.юрид-улут.вал.'!I10+'12.юрид-чет өл.вал.'!H10*'12.юрид-чет өл.вал.'!I10)/('8.юрид-улут.вал.'!H10+'12.юрид-чет өл.вал.'!H10) -> 42.556886 | J10: ='8.юрид-улут.вал.'!J10+'12.юрид-чет өл.вал.'!J10 -> 5671.8 | K10: =('8.юрид-улут.вал.'!J10*'8.юрид-улут.вал.'!K10+'12.юрид-чет өл.вал.'!J10*'12.юрид-чет өл.вал.'!K10)/('8.юрид-улут.вал.'!J10+'12.юрид-чет өл.вал.'!J10) -> 24.155118 | L10: ='8.юрид-улут.вал.'!L10+'12.юрид-чет өл.вал.'!L10 -> 831 | M10: =('8.юрид-улут.вал.'!L10*'8.юрид-улут.вал.'!M10+'12.юрид-чет өл.вал.'!L10*'12.юрид-чет өл.вал.'!M10)/('8.юрид-улут.вал.'!L10+'12.юрид-чет өл.вал.'!L10) -> 40.730445 | N10: ='8.юрид-улут.вал.'!N10+'12.юрид-чет өл.вал.'!N10 -> 747.5 | O10: =('8.юрид-улут.вал.'!N10*'8.юрид-улут.вал.'!O10+'12.юрид-чет өл.вал.'!N10*'12.юрид-чет өл.вал.'!O10)/('8.юрид-улут.вал.'!N10+'12.юрид-чет өл.вал.'!N10) -> 23.354114 | P10: ='8.юрид-улут.вал.'!P10+'12.юрид-чет өл.вал.'!P10 -> 9 | Q10: =('8.юрид-улут.вал.'!P10*'8.юрид-улут.вал.'!Q10+'12.юрид-чет өл.вал.'!P10*'12.юрид-чет өл.вал.'!Q10)/('8.юрид-улут.вал.'!P10+'12.юрид-чет өл.вал.'!P10) -> 30
A11: Жалган куран | B11: ='8.юрид-улут.вал.'!B11+'12.юрид-чет өл.вал.'!B11 -> 11398.8 | C11: =('8.юрид-улут.вал.'!B11*'8.юрид-улут.вал.'!C11+'12.юрид-чет өл.вал.'!B11*'12.юрид-чет өл.вал.'!C11)/('8.юрид-улут.вал.'!B11+'12.юрид-чет өл.вал.'!B11) -> 26.927659 | F11: =H11+J11+L11+N11+P11+R11 -> 11398.8 | G11: =(H11*I11+J11*K11+L11*M11+N11*O11+P11*Q11+R11*S11)/(H11+J11+L11+N11+P11+R11) -> 26.927659 | H11: ='8.юрид-улут.вал.'!H11+'12.юрид-чет өл.вал.'!H11 -> 2669 | I11: =('8.юрид-улут.вал.'!H11*'8.юрид-улут.вал.'!I11+'12.юрид-чет өл.вал.'!H11*'12.юрид-чет өл.вал.'!I11)/('8.юрид-улут.вал.'!H11+'12.юрид-чет өл.вал.'!H11) -> 46.129637 | J11: ='8.юрид-улут.вал.'!J11+'12.юрид-чет өл.вал.'!J11 -> 4959 | K11: =('8.юрид-улут.вал.'!J11*'8.юрид-улут.вал.'!K11+'12.юрид-чет өл.вал.'!J11*'12.юрид-чет өл.вал.'!K11)/('8.юрид-улут.вал.'!J11+'12.юрид-чет өл.вал.'!J11) -> 16.757411 | L11: ='8.юрид-улут.вал.'!L11+'12.юрид-чет өл.вал.'!L11 -> 3675.8 | M11: =('8.юрид-улут.вал.'!L11*'8.юрид-улут.вал.'!M11+'12.юрид-чет өл.вал.'!L11*'12.юрид-чет өл.вал.'!M11)/('8.юрид-улут.вал.'!L11+'12.юрид-чет өл.вал.'!L11) -> 26.540617 | N11: ='8.юрид-улут.вал.'!N11+'12.юрид-чет өл.вал.'!N11 -> 95 | O11: =('8.юрид-улут.вал.'!N11*'8.юрид-улут.вал.'!O11+'12.юрид-чет өл.вал.'!N11*'12.юрид-чет өл.вал.'!O11)/('8.юрид-улут.вал.'!N11+'12.юрид-чет өл.вал.'!N11) -> 33.315789
A12: Чын куран | B12: ='8.юрид-улут.вал.'!B12+'12.юрид-чет өл.вал.'!B12 -> 11744.9 | C12: =('8.юрид-улут.вал.'!B12*'8.юрид-улут.вал.'!C12+'12.юрид-чет өл.вал.'!B12*'12.юрид-чет өл.вал.'!C12)/('8.юрид-улут.вал.'!B12+'12.юрид-чет өл.вал.'!B12) -> 24.758645 | F12: =H12+J12+L12+N12+P12+R12 -> 11744.9 | G12: =(H12*I12+J12*K12+L12*M12+N12*O12+P12*Q12+R12*S12)/(H12+J12+L12+N12+P12+R12) -> 24.758645 | H12: ='8.юрид-улут.вал.'!H12+'12.юрид-чет өл.вал.'!H12 -> 2492.3 | I12: =('8.юрид-улут.вал.'!H12*'8.юрид-улут.вал.'!I12+'12.юрид-чет өл.вал.'!H12*'12.юрид-чет өл.вал.'!I12)/('8.юрид-улут.вал.'!H12+'12.юрид-чет өл.вал.'!H12) -> 30.493279 | J12: ='8.юрид-улут.вал.'!J12+'12.юрид-чет өл.вал.'!J12 -> 6485 | K12: =('8.юрид-улут.вал.'!J12*'8.юрид-улут.вал.'!K12+'12.юрид-чет өл.вал.'!J12*'12.юрид-чет өл.вал.'!K12)/('8.юрид-улут.вал.'!J12+'12.юрид-чет өл.вал.'!J12) -> 25.379183 | L12: ='8.юрид-улут.вал.'!L12+'12.юрид-чет өл.вал.'!L12 -> 2548.5 | M12: =('8.юрид-улут.вал.'!L12*'8.юрид-улут.вал.'!M12+'12.юрид-чет өл.вал.'!L12*'12.юрид-чет өл.вал.'!M12)/('8.юрид-улут.вал.'!L12+'12.юрид-чет өл.вал.'!L12) -> 16.973945 | N12: ='8.юрид-улут.вал.'!N12+'12.юрид-чет өл.вал.'!N12 -> 28.8 | O12: =('8.юрид-улут.вал.'!N12*'8.юрид-улут.вал.'!O12+'12.юрид-чет өл.вал.'!N12*'12.юрид-чет өл.вал.'!O12)/('8.юрид-улут.вал.'!N12+'12.юрид-чет өл.вал.'!N12) -> 3.125 | P12: ='8.юрид-улут.вал.'!P12+'12.юрид-чет өл.вал.'!P12 -> 190.3 | Q12: =('8.юрид-улут.вал.'!P12*'8.юрид-улут.вал.'!Q12+'12.юрид-чет өл.вал.'!P12*'12.юрид-чет өл.вал.'!Q12)/('8.юрид-улут.вал.'!P12+'12.юрид-чет өл.вал.'!P12) -> 36.034209
A13: Бугу | B13: ='8.юрид-улут.вал.'!B13+'12.юрид-чет өл.вал.'!B13 -> 7710.6 | C13: =('8.юрид-улут.вал.'!B13*'8.юрид-улут.вал.'!C13+'12.юрид-чет өл.вал.'!B13*'12.юрид-чет өл.вал.'!C13)/('8.юрид-улут.вал.'!B13+'12.юрид-чет өл.вал.'!B13) -> 21.999053 | F13: =H13+J13+L13+N13+P13+R13 -> 7710.6 | G13: =(H13*I13+J13*K13+L13*M13+N13*O13+P13*Q13+R13*S13)/(H13+J13+L13+N13+P13+R13) -> 21.999053 | H13: ='8.юрид-улут.вал.'!H13+'12.юрид-чет өл.вал.'!H13 -> 700 | I13: =('8.юрид-улут.вал.'!H13*'8.юрид-улут.вал.'!I13+'12.юрид-чет өл.вал.'!H13*'12.юрид-чет өл.вал.'!I13)/('8.юрид-улут.вал.'!H13+'12.юрид-чет өл.вал.'!H13) -> 43.2 | J13: ='8.юрид-улут.вал.'!J13+'12.юрид-чет өл.вал.'!J13 -> 5826.8 | K13: =('8.юрид-улут.вал.'!J13*'8.юрид-улут.вал.'!K13+'12.юрид-чет өл.вал.'!J13*'12.юрид-чет өл.вал.'!K13)/('8.юрид-улут.вал.'!J13+'12.юрид-чет өл.вал.'!J13) -> 18.452482 | L13: ='8.юрид-улут.вал.'!L13+'12.юрид-чет өл.вал.'!L13 -> 1009.3 | M13: =('8.юрид-улут.вал.'!L13*'8.юрид-улут.вал.'!M13+'12.юрид-чет өл.вал.'!L13*'12.юрид-чет өл.вал.'!M13)/('8.юрид-улут.вал.'!L13+'12.юрид-чет өл.вал.'!L13) -> 26.02792 | N13: ='8.юрид-улут.вал.'!N13+'12.юрид-чет өл.вал.'!N13 -> 142.5 | O13: =('8.юрид-улут.вал.'!N13*'8.юрид-улут.вал.'!O13+'12.юрид-чет өл.вал.'!N13*'12.юрид-чет өл.вал.'!O13)/('8.юрид-улут.вал.'!N13+'12.юрид-чет өл.вал.'!N13) -> 31.614035 | P13: ='8.юрид-улут.вал.'!P13+'12.юрид-чет өл.вал.'!P13 -> 32 | Q13: =('8.юрид-улут.вал.'!P13*'8.юрид-улут.вал.'!Q13+'12.юрид-чет өл.вал.'!P13*'12.юрид-чет өл.вал.'!Q13)/('8.юрид-улут.вал.'!P13+'12.юрид-чет өл.вал.'!P13) -> 34.125
A14: Кулжа | B14: ='8.юрид-улут.вал.'!B14+'12.юрид-чет өл.вал.'!B14 -> 11691.3 | C14: =('8.юрид-улут.вал.'!B14*'8.юрид-улут.вал.'!C14+'12.юрид-чет өл.вал.'!B14*'12.юрид-чет өл.вал.'!C14)/('8.юрид-улут.вал.'!B14+'12.юрид-чет өл.вал.'!B14) -> 14.173818 | F14: =H14+J14+L14+N14+P14+R14 -> 11691.3 | G14: =(H14*I14+J14*K14+L14*M14+N14*O14+P14*Q14+R14*S14)/(H14+J14+L14+N14+P14+R14) -> 14.173818 | H14: ='8.юрид-улут.вал.'!H14+'12.юрид-чет өл.вал.'!H14 -> 702.1 | I14: =('8.юрид-улут.вал.'!H14*'8.юрид-улут.вал.'!I14+'12.юрид-чет өл.вал.'!H14*'12.юрид-чет өл.вал.'!I14)/('8.юрид-улут.вал.'!H14+'12.юрид-чет өл.вал.'!H14) -> 1.8401937 | J14: ='8.юрид-улут.вал.'!J14+'12.юрид-чет өл.вал.'!J14 -> 8035.1 | K14: =('8.юрид-улут.вал.'!J14*'8.юрид-улут.вал.'!K14+'12.юрид-чет өл.вал.'!J14*'12.юрид-чет өл.вал.'!K14)/('8.юрид-улут.вал.'!J14+'12.юрид-чет өл.вал.'!J14) -> 14.683758 | L14: ='8.юрид-улут.вал.'!L14+'12.юрид-чет өл.вал.'!L14 -> 2810.6 | M14: =('8.юрид-улут.вал.'!L14*'8.юрид-улут.вал.'!M14+'12.юрид-чет өл.вал.'!L14*'12.юрид-чет өл.вал.'!M14)/('8.юрид-улут.вал.'!L14+'12.юрид-чет өл.вал.'!L14) -> 14.911691 | N14: ='8.юрид-улут.вал.'!N14+'12.юрид-чет өл.вал.'!N14 -> 130.5 | O14: =('8.юрид-улут.вал.'!N14*'8.юрид-улут.вал.'!O14+'12.юрид-чет өл.вал.'!N14*'12.юрид-чет өл.вал.'!O14)/('8.юрид-улут.вал.'!N14+'12.юрид-чет өл.вал.'!N14) -> 30.498084 | P14: ='8.юрид-улут.вал.'!P14+'12.юрид-чет өл.вал.'!P14 -> 13 | Q14: =('8.юрид-улут.вал.'!P14*'8.юрид-улут.вал.'!Q14+'12.юрид-чет өл.вал.'!P14*'12.юрид-чет өл.вал.'!Q14)/('8.юрид-улут.вал.'!P14+'12.юрид-чет өл.вал.'!P14) -> 41.7
A15: Теке | B15: ='8.юрид-улут.вал.'!B15+'12.юрид-чет өл.вал.'!B15 -> 9853 | C15: =('8.юрид-улут.вал.'!B15*'8.юрид-улут.вал.'!C15+'12.юрид-чет өл.вал.'!B15*'12.юрид-чет өл.вал.'!C15)/('8.юрид-улут.вал.'!B15+'12.юрид-чет өл.вал.'!B15) -> 19.809236 | F15: =H15+J15+L15+N15+P15+R15 -> 9853 | G15: =(H15*I15+J15*K15+L15*M15+N15*O15+P15*Q15+R15*S15)/(H15+J15+L15+N15+P15+R15) -> 19.809236 | H15: ='8.юрид-улут.вал.'!H15+'12.юрид-чет өл.вал.'!H15 -> 3590.7 | I15: =('8.юрид-улут.вал.'!H15*'8.юрид-улут.вал.'!I15+'12.юрид-чет өл.вал.'!H15*'12.юрид-чет өл.вал.'!I15)/('8.юрид-улут.вал.'!H15+'12.юрид-чет өл.вал.'!H15) -> 2.5404517 | J15: ='8.юрид-улут.вал.'!J15+'12.юрид-чет өл.вал.'!J15 -> 4897 | K15: =('8.юрид-улут.вал.'!J15*'8.юрид-улут.вал.'!K15+'12.юрид-чет өл.вал.'!J15*'12.юрид-чет өл.вал.'!K15)/('8.юрид-улут.вал.'!J15+'12.юрид-чет өл.вал.'!J15) -> 35.673882 | L15: ='8.юрид-улут.вал.'!L15+'12.юрид-чет өл.вал.'!L15 -> 93.7 | M15: =('8.юрид-улут.вал.'!L15*'8.юрид-улут.вал.'!M15+'12.юрид-чет өл.вал.'!L15*'12.юрид-чет өл.вал.'!M15)/('8.юрид-улут.вал.'!L15+'12.юрид-чет өл.вал.'!L15) -> 37.146211 | N15: ='8.юрид-улут.вал.'!N15+'12.юрид-чет өл.вал.'!N15 -> 1259.6 | O15: =('8.юрид-улут.вал.'!N15*'8.юрид-улут.вал.'!O15+'12.юрид-чет өл.вал.'!N15*'12.юрид-чет өл.вал.'!O15)/('8.юрид-улут.вал.'!N15+'12.юрид-чет өл.вал.'!N15) -> 5.8609082 | P15: ='8.юрид-улут.вал.'!P15+'12.юрид-чет өл.вал.'!P15 -> 12 | Q15: =('8.юрид-улут.вал.'!P15*'8.юрид-улут.вал.'!Q15+'12.юрид-чет өл.вал.'!P15*'12.юрид-чет өл.вал.'!Q15)/('8.юрид-улут.вал.'!P15+'12.юрид-чет өл.вал.'!P15) -> 41.7
A16: Баш оона | B16: ='8.юрид-улут.вал.'!B16+'12.юрид-чет өл.вал.'!B16 -> 6322.2 | C16: =('8.юрид-улут.вал.'!B16*'8.юрид-улут.вал.'!C16+'12.юрид-чет өл.вал.'!B16*'12.юрид-чет өл.вал.'!C16)/('8.юрид-улут.вал.'!B16+'12.юрид-чет өл.вал.'!B16) -> 11.236117 | F16: =H16+J16+L16+N16+P16+R16 -> 6322.2 | G16: =(H16*I16+J16*K16+L16*M16+N16*O16+P16*Q16+R16*S16)/(H16+J16+L16+N16+P16+R16) -> 11.236117 | H16: ='8.юрид-улут.вал.'!H16+'12.юрид-чет өл.вал.'!H16 -> 5258.7 | I16: =('8.юрид-улут.вал.'!H16*'8.юрид-улут.вал.'!I16+'12.юрид-чет өл.вал.'!H16*'12.юрид-чет өл.вал.'!I16)/('8.юрид-улут.вал.'!H16+'12.юрид-чет өл.вал.'!H16) -> 9.485196 | J16: ='8.юрид-улут.вал.'!J16+'12.юрид-чет өл.вал.'!J16 -> 319 | K16: =('8.юрид-улут.вал.'!J16*'8.юрид-улут.вал.'!K16+'12.юрид-чет өл.вал.'!J16*'12.юрид-чет өл.вал.'!K16)/('8.юрид-улут.вал.'!J16+'12.юрид-чет өл.вал.'!J16) -> 38.76489 | L16: ='8.юрид-улут.вал.'!L16+'12.юрид-чет өл.вал.'!L16 -> 225.5 | M16: =('8.юрид-улут.вал.'!L16*'8.юрид-улут.вал.'!M16+'12.юрид-чет өл.вал.'!L16*'12.юрид-чет өл.вал.'!M16)/('8.юрид-улут.вал.'!L16+'12.юрид-чет өл.вал.'!L16) -> 21.510865 | N16: ='8.юрид-улут.вал.'!N16+'12.юрид-чет өл.вал.'!N16 -> 427 | O16: =('8.юрид-улут.вал.'!N16*'8.юрид-улут.вал.'!O16+'12.юрид-чет өл.вал.'!N16*'12.юрид-чет өл.вал.'!O16)/('8.юрид-улут.вал.'!N16+'12.юрид-чет өл.вал.'!N16) -> 1.4051522 | P16: ='8.юрид-улут.вал.'!P16+'12.юрид-чет өл.вал.'!P16 -> 92 | Q16: =('8.юрид-улут.вал.'!P16*'8.юрид-улут.вал.'!Q16+'12.юрид-чет өл.вал.'!P16*'12.юрид-чет өл.вал.'!Q16)/('8.юрид-улут.вал.'!P16+'12.юрид-чет өл.вал.'!P16) -> 36.309565
A17: Аяк оона | B17: ='8.юрид-улут.вал.'!B17+'12.юрид-чет өл.вал.'!B17 -> 7786 | C17: =('8.юрид-улут.вал.'!B17*'8.юрид-улут.вал.'!C17+'12.юрид-чет өл.вал.'!B17*'12.юрид-чет өл.вал.'!C17)/('8.юрид-улут.вал.'!B17+'12.юрид-чет өл.вал.'!B17) -> 15.723795 | F17: =H17+J17+L17+N17+P17+R17 -> 7786 | G17: =(H17*I17+J17*K17+L17*M17+N17*O17+P17*Q17+R17*S17)/(H17+J17+L17+N17+P17+R17) -> 15.723795 | H17: ='8.юрид-улут.вал.'!H17+'12.юрид-чет өл.вал.'!H17 -> 1331.3 | I17: =('8.юрид-улут.вал.'!H17*'8.юрид-улут.вал.'!I17+'12.юрид-чет өл.вал.'!H17*'12.юрид-чет өл.вал.'!I17)/('8.юрид-улут.вал.'!H17+'12.юрид-чет өл.вал.'!H17) -> 3.087884 | J17: ='8.юрид-улут.вал.'!J17+'12.юрид-чет өл.вал.'!J17 -> 2943 | K17: =('8.юрид-улут.вал.'!J17*'8.юрид-улут.вал.'!K17+'12.юрид-чет өл.вал.'!J17*'12.юрид-чет өл.вал.'!K17)/('8.юрид-улут.вал.'!J17+'12.юрид-чет өл.вал.'!J17) -> 21.336731 | L17: ='8.юрид-улут.вал.'!L17+'12.юрид-чет өл.вал.'!L17 -> 1024.7 | M17: =('8.юрид-улут.вал.'!L17*'8.юрид-улут.вал.'!M17+'12.юрид-чет өл.вал.'!L17*'12.юрид-чет өл.вал.'!M17)/('8.юрид-улут.вал.'!L17+'12.юрид-чет өл.вал.'!L17) -> 29.794174 | N17: ='8.юрид-улут.вал.'!N17+'12.юрид-чет өл.вал.'!N17 -> 2475 | O17: =('8.юрид-улут.вал.'!N17*'8.юрид-улут.вал.'!O17+'12.юрид-чет өл.вал.'!N17*'12.юрид-чет өл.вал.'!O17)/('8.юрид-улут.вал.'!N17+'12.юрид-чет өл.вал.'!N17) -> 9.8787879 | P17: ='8.юрид-улут.вал.'!P17+'12.юрид-чет өл.вал.'!P17 -> 12 | Q17: =('8.юрид-улут.вал.'!P17*'8.юрид-улут.вал.'!Q17+'12.юрид-чет өл.вал.'!P17*'12.юрид-чет өл.вал.'!Q17)/('8.юрид-улут.вал.'!P17+'12.юрид-чет өл.вал.'!P17) -> 45.04
A18: Тогуздун айы | B18: ='8.юрид-улут.вал.'!B18+'12.юрид-чет өл.вал.'!B18 -> 7872.2 | C18: =('8.юрид-улут.вал.'!B18*'8.юрид-улут.вал.'!C18+'12.юрид-чет өл.вал.'!B18*'12.юрид-чет өл.вал.'!C18)/('8.юрид-улут.вал.'!B18+'12.юрид-чет өл.вал.'!B18) -> 28.437728 | F18: =H18+J18+L18+N18+P18+R18 -> 7872.2 | G18: =(H18*I18+J18*K18+L18*M18+N18*O18+P18*Q18+R18*S18)/(H18+J18+L18+N18+P18+R18) -> 28.437728 | H18: ='8.юрид-улут.вал.'!H18+'12.юрид-чет өл.вал.'!H18 -> 2705.2 | I18: =('8.юрид-улут.вал.'!H18*'8.юрид-улут.вал.'!I18+'12.юрид-чет өл.вал.'!H18*'12.юрид-чет өл.вал.'!I18)/('8.юрид-улут.вал.'!H18+'12.юрид-чет өл.вал.'!H18) -> 23.59271 | J18: ='8.юрид-улут.вал.'!J18+'12.юрид-чет өл.вал.'!J18 -> 4525 | K18: =('8.юрид-улут.вал.'!J18*'8.юрид-улут.вал.'!K18+'12.юрид-чет өл.вал.'!J18*'12.юрид-чет өл.вал.'!K18)/('8.юрид-улут.вал.'!J18+'12.юрид-чет өл.вал.'!J18) -> 31.758011 | L18: ='8.юрид-улут.вал.'!L18+'12.юрид-чет өл.вал.'!L18 -> 398 | M18: =('8.юрид-улут.вал.'!L18*'8.юрид-улут.вал.'!M18+'12.юрид-чет өл.вал.'!L18*'12.юрид-чет өл.вал.'!M18)/('8.юрид-улут.вал.'!L18+'12.юрид-чет өл.вал.'!L18) -> 39.374372 | N18: ='8.юрид-улут.вал.'!N18+'12.юрид-чет өл.вал.'!N18 -> 114 | O18: =('8.юрид-улут.вал.'!N18*'8.юрид-улут.вал.'!O18+'12.юрид-чет өл.вал.'!N18*'12.юрид-чет өл.вал.'!O18)/('8.юрид-улут.вал.'!N18+'12.юрид-чет өл.вал.'!N18) -> 0 | P18: ='8.юрид-улут.вал.'!P18+'12.юрид-чет өл.вал.'!P18 -> 130 | Q18: =('8.юрид-улут.вал.'!P18*'8.юрид-улут.вал.'!Q18+'12.юрид-чет өл.вал.'!P18*'12.юрид-чет өл.вал.'!Q18)/('8.юрид-улут.вал.'!P18+'12.юрид-чет өл.вал.'!P18) -> 5.1421538
A19: Жетинин айы | B19: ='8.юрид-улут.вал.'!B19+'12.юрид-чет өл.вал.'!B19 -> 30759.2 | C19: =('8.юрид-улут.вал.'!B19*'8.юрид-улут.вал.'!C19+'12.юрид-чет өл.вал.'!B19*'12.юрид-чет өл.вал.'!C19)/('8.юрид-улут.вал.'!B19+'12.юрид-чет өл.вал.'!B19) -> 22.069368 | F19: =H19+J19+L19+N19+P19+R19 -> 30759.2 | G19: =(H19*I19+J19*K19+L19*M19+N19*O19+P19*Q19+R19*S19)/(H19+J19+L19+N19+P19+R19) -> 22.069368 | H19: ='8.юрид-улут.вал.'!H19+'12.юрид-чет өл.вал.'!H19 -> 10687 | I19: =('8.юрид-улут.вал.'!H19*'8.юрид-улут.вал.'!I19+'12.юрид-чет өл.вал.'!H19*'12.юрид-чет өл.вал.'!I19)/('8.юрид-улут.вал.'!H19+'12.юрид-чет өл.вал.'!H19) -> 15.981286 | J19: ='8.юрид-улут.вал.'!J19+'12.юрид-чет өл.вал.'!J19 -> 19477 | K19: =('8.юрид-улут.вал.'!J19*'8.юрид-улут.вал.'!K19+'12.юрид-чет өл.вал.'!J19*'12.юрид-чет өл.вал.'!K19)/('8.юрид-улут.вал.'!J19+'12.юрид-чет өл.вал.'!J19) -> 25.280793 | L19: ='8.юрид-улут.вал.'!L19+'12.юрид-чет өл.вал.'!L19 -> 581.2 | M19: =('8.юрид-улут.вал.'!L19*'8.юрид-улут.вал.'!M19+'12.юрид-чет өл.вал.'!L19*'12.юрид-чет өл.вал.'!M19)/('8.юрид-улут.вал.'!L19+'12.юрид-чет өл.вал.'!L19) -> 25.701136 | P19: ='8.юрид-улут.вал.'!P19+'12.юрид-чет өл.вал.'!P19 -> 14 | Q19: =('8.юрид-улут.вал.'!P19*'8.юрид-улут.вал.'!Q19+'12.юрид-чет өл.вал.'!P19*'12.юрид-чет өл.вал.'!Q19)/('8.юрид-улут.вал.'!P19+'12.юрид-чет өл.вал.'!P19) -> 50.9
A20: Бештин айы | B20: ='8.юрид-улут.вал.'!B20+'12.юрид-чет өл.вал.'!B20 -> 3414 | C20: =('8.юрид-улут.вал.'!B20*'8.юрид-улут.вал.'!C20+'12.юрид-чет өл.вал.'!B20*'12.юрид-чет өл.вал.'!C20)/('8.юрид-улут.вал.'!B20+'12.юрид-чет өл.вал.'!B20) -> 21.52355 | F20: =H20+J20+L20+N20+P20+R20 -> 3414 | G20: =(H20*I20+J20*K20+L20*M20+N20*O20+P20*Q20+R20*S20)/(H20+J20+L20+N20+P20+R20) -> 21.52355 | H20: ='8.юрид-улут.вал.'!H20+'12.юрид-чет өл.вал.'!H20 -> 2827 | I20: =('8.юрид-улут.вал.'!H20*'8.юрид-улут.вал.'!I20+'12.юрид-чет өл.вал.'!H20*'12.юрид-чет өл.вал.'!I20)/('8.юрид-улут.вал.'!H20+'12.юрид-чет өл.вал.'!H20) -> 18.747789 | J20: ='8.юрид-улут.вал.'!J20+'12.юрид-чет өл.вал.'!J20 -> 470 | K20: =('8.юрид-улут.вал.'!J20*'8.юрид-улут.вал.'!K20+'12.юрид-чет өл.вал.'!J20*'12.юрид-чет өл.вал.'!K20)/('8.юрид-улут.вал.'!J20+'12.юрид-чет өл.вал.'!J20) -> 35.848936 | L20: ='8.юрид-улут.вал.'!L20+'12.юрид-чет өл.вал.'!L20 -> 76 | M20: =('8.юрид-улут.вал.'!L20*'8.юрид-улут.вал.'!M20+'12.юрид-чет өл.вал.'!L20*'12.юрид-чет өл.вал.'!M20)/('8.юрид-улут.вал.'!L20+'12.юрид-чет өл.вал.'!L20) -> 31.947368 | N20: ='8.юрид-улут.вал.'!N20+'12.юрид-чет өл.вал.'!N20 -> 25 | O20: =('8.юрид-улут.вал.'!N20*'8.юрид-улут.вал.'!O20+'12.юрид-чет өл.вал.'!N20*'12.юрид-чет өл.вал.'!O20)/('8.юрид-улут.вал.'!N20+'12.юрид-чет өл.вал.'!N20) -> 15.6 | P20: ='8.юрид-улут.вал.'!P20+'12.юрид-чет өл.вал.'!P20 -> 16 | Q20: =('8.юрид-улут.вал.'!P20*'8.юрид-улут.вал.'!Q20+'12.юрид-чет өл.вал.'!P20*'12.юрид-чет өл.вал.'!Q20)/('8.юрид-улут.вал.'!P20+'12.юрид-чет өл.вал.'!P20) -> 50.9
A21: Үчтүн айы 1997 ж. | B21: ='8.юрид-улут.вал.'!B21+'12.юрид-чет өл.вал.'!B21 -> 9369.2 | C21: =('8.юрид-улут.вал.'!B21*'8.юрид-улут.вал.'!C21+'12.юрид-чет өл.вал.'!B21*'12.юрид-чет өл.вал.'!C21)/('8.юрид-улут.вал.'!B21+'12.юрид-чет өл.вал.'!B21) -> 17.689621 | F21: =H21+J21+L21+N21+P21+R21 -> 9369.2 | G21: =(H21*I21+J21*K21+L21*M21+N21*O21+P21*Q21+R21*S21)/(H21+J21+L21+N21+P21+R21) -> 17.689621 | H21: ='8.юрид-улут.вал.'!H21+'12.юрид-чет өл.вал.'!H21 -> 4640 | I21: =('8.юрид-улут.вал.'!H21*'8.юрид-улут.вал.'!I21+'12.юрид-чет өл.вал.'!H21*'12.юрид-чет өл.вал.'!I21)/('8.юрид-улут.вал.'!H21+'12.юрид-чет өл.вал.'!H21) -> 23.705862 | J21: ='8.юрид-улут.вал.'!J21+'12.юрид-чет өл.вал.'!J21 -> 2992.8 | K21: =('8.юрид-улут.вал.'!J21*'8.юрид-улут.вал.'!K21+'12.юрид-чет өл.вал.'!J21*'12.юрид-чет өл.вал.'!K21)/('8.юрид-улут.вал.'!J21+'12.юрид-чет өл.вал.'!J21) -> 17.438853 | L21: ='8.юрид-улут.вал.'!L21+'12.юрид-чет өл.вал.'!L21 -> 1717.4 | M21: =('8.юрид-улут.вал.'!L21*'8.юрид-улут.вал.'!M21+'12.юрид-чет өл.вал.'!L21*'12.юрид-чет өл.вал.'!M21)/('8.юрид-улут.вал.'!L21+'12.юрид-чет өл.вал.'!L21) -> 1.7884011 | N21: ='8.юрид-улут.вал.'!N21+'12.юрид-чет өл.вал.'!N21 -> 8 | O21: =('8.юрид-улут.вал.'!N21*'8.юрид-улут.вал.'!O21+'12.юрид-чет өл.вал.'!N21*'12.юрид-чет өл.вал.'!O21)/('8.юрид-улут.вал.'!N21+'12.юрид-чет өл.вал.'!N21) -> 5 | P21: ='8.юрид-улут.вал.'!P21+'12.юрид-чет өл.вал.'!P21 -> 11 | Q21: =('8.юрид-улут.вал.'!P21*'8.юрид-улут.вал.'!Q21+'12.юрид-чет өл.вал.'!P21*'12.юрид-чет өл.вал.'!Q21)/('8.юрид-улут.вал.'!P21+'12.юрид-чет өл.вал.'!P21) -> 40
A22: Бирдин айы | B22: ='8.юрид-улут.вал.'!B22+'12.юрид-чет өл.вал.'!B22 -> 5711.9 | C22: =('8.юрид-улут.вал.'!B22*'8.юрид-улут.вал.'!C22+'12.юрид-чет өл.вал.'!B22*'12.юрид-чет өл.вал.'!C22)/('8.юрид-улут.вал.'!B22+'12.юрид-чет өл.вал.'!B22) -> 12.302236 | F22: =H22+J22+L22+N22+P22+R22 -> 5711.9 | G22: =(H22*I22+J22*K22+L22*M22+N22*O22+P22*Q22+R22*S22)/(H22+J22+L22+N22+P22+R22) -> 12.302236 | H22: ='8.юрид-улут.вал.'!H22+'12.юрид-чет өл.вал.'!H22 -> 1221 | I22: =('8.юрид-улут.вал.'!H22*'8.юрид-улут.вал.'!I22+'12.юрид-чет өл.вал.'!H22*'12.юрид-чет өл.вал.'!I22)/('8.юрид-улут.вал.'!H22+'12.юрид-чет өл.вал.'!H22) -> 0.68026208 | J22: ='8.юрид-улут.вал.'!J22+'12.юрид-чет өл.вал.'!J22 -> 3950.9 | K22: =('8.юрид-улут.вал.'!J22*'8.юрид-улут.вал.'!K22+'12.юрид-чет өл.вал.'!J22*'12.юрид-чет өл.вал.'!K22)/('8.юрид-улут.вал.'!J22+'12.юрид-чет өл.вал.'!J22) -> 12.853284 | L22: ='8.юрид-улут.вал.'!L22+'12.юрид-чет өл.вал.'!L22 -> 234 | M22: =('8.юрид-улут.вал.'!L22*'8.юрид-улут.вал.'!M22+'12.юрид-чет өл.вал.'!L22*'12.юрид-чет өл.вал.'!M22)/('8.юрид-улут.вал.'!L22+'12.юрид-чет өл.вал.'!L22) -> 35.393162 | N22: ='8.юрид-улут.вал.'!N22+'12.юрид-чет өл.вал.'!N22 -> 243 | O22: =('8.юрид-улут.вал.'!N22*'8.юрид-улут.вал.'!O22+'12.юрид-чет өл.вал.'!N22*'12.юрид-чет өл.вал.'!O22)/('8.юрид-улут.вал.'!N22+'12.юрид-чет өл.вал.'!N22) -> 34.380658 | P22: ='8.юрид-улут.вал.'!P22+'12.юрид-чет өл.вал.'!P22 -> 63 | Q22: =('8.юрид-улут.вал.'!P22*'8.юрид-улут.вал.'!Q22+'12.юрид-чет өл.вал.'!P22*'12.юрид-чет өл.вал.'!Q22)/('8.юрид-улут.вал.'!P22+'12.юрид-чет өл.вал.'!P22) -> 32.063492
A23: Жалган куран | B23: ='8.юрид-улут.вал.'!B23+'12.юрид-чет өл.вал.'!B23 -> 12446.6 | C23: =('8.юрид-улут.вал.'!B23*'8.юрид-улут.вал.'!C23+'12.юрид-чет өл.вал.'!B23*'12.юрид-чет өл.вал.'!C23)/('8.юрид-улут.вал.'!B23+'12.юрид-чет өл.вал.'!B23) -> 16.684245 | F23: =H23+J23+L23+N23+P23+R23 -> 12446.6 | G23: =(H23*I23+J23*K23+L23*M23+N23*O23+P23*Q23+R23*S23)/(H23+J23+L23+N23+P23+R23) -> 16.684245 | H23: ='8.юрид-улут.вал.'!H23+'12.юрид-чет өл.вал.'!H23 -> 4070 | I23: =('8.юрид-улут.вал.'!H23*'8.юрид-улут.вал.'!I23+'12.юрид-чет өл.вал.'!H23*'12.юрид-чет өл.вал.'!I23)/('8.юрид-улут.вал.'!H23+'12.юрид-чет өл.вал.'!H23) -> 3.9448845 | J23: ='8.юрид-улут.вал.'!J23+'12.юрид-чет өл.вал.'!J23 -> 6698.8 | K23: =('8.юрид-улут.вал.'!J23*'8.юрид-улут.вал.'!K23+'12.юрид-чет өл.вал.'!J23*'12.юрид-чет өл.вал.'!K23)/('8.юрид-улут.вал.'!J23+'12.юрид-чет өл.вал.'!J23) -> 20.17786 | L23: ='8.юрид-улут.вал.'!L23+'12.юрид-чет өл.вал.'!L23 -> 1656 | M23: =('8.юрид-улут.вал.'!L23*'8.юрид-улут.вал.'!M23+'12.юрид-чет өл.вал.'!L23*'12.юрид-чет өл.вал.'!M23)/('8.юрид-улут.вал.'!L23+'12.юрид-чет өл.вал.'!L23) -> 34.0157 | N23: ='8.юрид-улут.вал.'!N23+'12.юрид-чет өл.вал.'!N23 -> 21.8 | O23: =('8.юрид-улут.вал.'!N23*'8.юрид-улут.вал.'!O23+'12.юрид-чет өл.вал.'!N23*'12.юрид-чет өл.вал.'!O23)/('8.юрид-улут.вал.'!N23+'12.юрид-чет өл.вал.'!N23) -> 5
A24: Чын куран | B24: ='8.юрид-улут.вал.'!B24+'12.юрид-чет өл.вал.'!B24 -> 52852.4 | C24: =('8.юрид-улут.вал.'!B24*'8.юрид-улут.вал.'!C24+'12.юрид-чет өл.вал.'!B24*'12.юрид-чет өл.вал.'!C24)/('8.юрид-улут.вал.'!B24+'12.юрид-чет өл.вал.'!B24) -> 24.374242 | F24: =H24+J24+L24+N24+P24+R24 -> 52852.4 | G24: =(H24*I24+J24*K24+L24*M24+N24*O24+P24*Q24+R24*S24)/(H24+J24+L24+N24+P24+R24) -> 24.374242 | H24: ='8.юрид-улут.вал.'!H24+'12.юрид-чет өл.вал.'!H24 -> 23073 | I24: =('8.юрид-улут.вал.'!H24*'8.юрид-улут.вал.'!I24+'12.юрид-чет өл.вал.'!H24*'12.юрид-чет өл.вал.'!I24)/('8.юрид-улут.вал.'!H24+'12.юрид-чет өл.вал.'!H24) -> 9.1523079 | J24: ='8.юрид-улут.вал.'!J24+'12.юрид-чет өл.вал.'!J24 -> 8061 | K24: =('8.юрид-улут.вал.'!J24*'8.юрид-улут.вал.'!K24+'12.юрид-чет өл.вал.'!J24*'12.юрид-чет өл.вал.'!K24)/('8.юрид-улут.вал.'!J24+'12.юрид-чет өл.вал.'!J24) -> 28.053591 | L24: ='8.юрид-улут.вал.'!L24+'12.юрид-чет өл.вал.'!L24 -> 20700.4 | M24: =('8.юрид-улут.вал.'!L24*'8.юрид-улут.вал.'!M24+'12.юрид-чет өл.вал.'!L24*'12.юрид-чет өл.вал.'!M24)/('8.юрид-улут.вал.'!L24+'12.юрид-чет өл.вал.'!L24) -> 39.236246 | N24: ='8.юрид-улут.вал.'!N24+'12.юрид-чет өл.вал.'!N24 -> 1000 | O24: =('8.юрид-улут.вал.'!N24*'8.юрид-улут.вал.'!O24+'12.юрид-чет өл.вал.'!N24*'12.юрид-чет өл.вал.'!O24)/('8.юрид-улут.вал.'!N24+'12.юрид-чет өл.вал.'!N24) -> 38 | P24: ='8.юрид-улут.вал.'!P24+'12.юрид-чет өл.вал.'!P24 -> 18 | Q24: =('8.юрид-улут.вал.'!P24*'8.юрид-улут.вал.'!Q24+'12.юрид-чет өл.вал.'!P24*'12.юрид-чет өл.вал.'!Q24)/('8.юрид-улут.вал.'!P24+'12.юрид-чет өл.вал.'!P24) -> 40
A25: Бугу | B25: ='8.юрид-улут.вал.'!B25+'12.юрид-чет өл.вал.'!B25 -> 35029.6 | C25: =('8.юрид-улут.вал.'!B25*'8.юрид-улут.вал.'!C25+'12.юрид-чет өл.вал.'!B25*'12.юрид-чет өл.вал.'!C25)/('8.юрид-улут.вал.'!B25+'12.юрид-чет өл.вал.'!B25) -> 34.860087 | F25: =H25+J25+L25+N25+P25+R25 -> 35029.6 | G25: =(H25*I25+J25*K25+L25*M25+N25*O25+P25*Q25+R25*S25)/(H25+J25+L25+N25+P25+R25) -> 34.860087 | H25: ='8.юрид-улут.вал.'!H25+'12.юрид-чет өл.вал.'!H25 -> 4108 | I25: =('8.юрид-улут.вал.'!H25*'8.юрид-улут.вал.'!I25+'12.юрид-чет өл.вал.'!H25*'12.юрид-чет өл.вал.'!I25)/('8.юрид-улут.вал.'!H25+'12.юрид-чет өл.вал.'!H25) -> 32.673807 | J25: ='8.юрид-улут.вал.'!J25+'12.юрид-чет өл.вал.'!J25 -> 141 | K25: =('8.юрид-улут.вал.'!J25*'8.юрид-улут.вал.'!K25+'12.юрид-чет өл.вал.'!J25*'12.юрид-чет өл.вал.'!K25)/('8.юрид-улут.вал.'!J25+'12.юрид-чет өл.вал.'!J25) -> 23.085106 | L25: ='8.юрид-улут.вал.'!L25+'12.юрид-чет өл.вал.'!L25 -> 29061.9 | M25: =('8.юрид-улут.вал.'!L25*'8.юрид-улут.вал.'!M25+'12.юрид-чет өл.вал.'!L25*'12.юрид-чет өл.вал.'!M25)/('8.юрид-улут.вал.'!L25+'12.юрид-чет өл.вал.'!L25) -> 35.659623 | N25: ='8.юрид-улут.вал.'!N25+'12.юрид-чет өл.вал.'!N25 -> 1096.7 | O25: =('8.юрид-улут.вал.'!N25*'8.юрид-улут.вал.'!O25+'12.юрид-чет өл.вал.'!N25*'12.юрид-чет өл.вал.'!O25)/('8.юрид-улут.вал.'!N25+'12.юрид-чет өл.вал.'!N25) -> 29.345765 | P25: ='8.юрид-улут.вал.'!P25+'12.юрид-чет өл.вал.'!P25 -> 622 | Q25: =('8.юрид-улут.вал.'!P25*'8.юрид-улут.вал.'!Q25+'12.юрид-чет өл.вал.'!P25*'12.юрид-чет өл.вал.'!Q25)/('8.юрид-улут.вал.'!P25+'12.юрид-чет өл.вал.'!P25) -> 24.334405
A26: Кулжа | B26: ='8.юрид-улут.вал.'!B26+'12.юрид-чет өл.вал.'!B26 -> 27502.6 | C26: =('8.юрид-улут.вал.'!B26*'8.юрид-улут.вал.'!C26+'12.юрид-чет өл.вал.'!B26*'12.юрид-чет өл.вал.'!C26)/('8.юрид-улут.вал.'!B26+'12.юрид-чет өл.вал.'!B26) -> 25.474746 | F26: =H26+J26+L26+N26+P26+R26 -> 27502.6 | G26: =(H26*I26+J26*K26+L26*M26+N26*O26+P26*Q26+R26*S26)/(H26+J26+L26+N26+P26+R26) -> 25.474746 | H26: ='8.юрид-улут.вал.'!H26+'12.юрид-чет өл.вал.'!H26 -> 4775 | I26: =('8.юрид-улут.вал.'!H26*'8.юрид-улут.вал.'!I26+'12.юрид-чет өл.вал.'!H26*'12.юрид-чет өл.вал.'!I26)/('8.юрид-улут.вал.'!H26+'12.юрид-чет өл.вал.'!H26) -> 21.061571 | J26: ='8.юрид-улут.вал.'!J26+'12.юрид-чет өл.вал.'!J26 -> 15962 | K26: =('8.юрид-улут.вал.'!J26*'8.юрид-улут.вал.'!K26+'12.юрид-чет өл.вал.'!J26*'12.юрид-чет өл.вал.'!K26)/('8.юрид-улут.вал.'!J26+'12.юрид-чет өл.вал.'!J26) -> 29.675354 | L26: ='8.юрид-улут.вал.'!L26+'12.юрид-чет өл.вал.'!L26 -> 1478.6 | M26: =('8.юрид-улут.вал.'!L26*'8.юрид-улут.вал.'!M26+'12.юрид-чет өл.вал.'!L26*'12.юрид-чет өл.вал.'!M26)/('8.юрид-улут.вал.'!L26+'12.юрид-чет өл.вал.'!L26) -> 37.490707 | N26: ='8.юрид-улут.вал.'!N26+'12.юрид-чет өл.вал.'!N26 -> 3472 | O26: =('8.юрид-улут.вал.'!N26*'8.юрид-улут.вал.'!O26+'12.юрид-чет өл.вал.'!N26*'12.юрид-чет өл.вал.'!O26)/('8.юрид-улут.вал.'!N26+'12.юрид-чет өл.вал.'!N26) -> 14.99568 | P26: ='8.юрид-улут.вал.'!P26+'12.юрид-чет өл.вал.'!P26 -> 1815 | Q26: =('8.юрид-улут.вал.'!P26*'8.юрид-улут.вал.'!Q26+'12.юрид-чет өл.вал.'!P26*'12.юрид-чет өл.вал.'!Q26)/('8.юрид-улут.вал.'!P26+'12.юрид-чет өл.вал.'!P26) -> 10.4
A27: Теке | B27: ='8.юрид-улут.вал.'!B27+'12.юрид-чет өл.вал.'!B27 -> 12708.4 | C27: =('8.юрид-улут.вал.'!B27*'8.юрид-улут.вал.'!C27+'12.юрид-чет өл.вал.'!B27*'12.юрид-чет өл.вал.'!C27)/('8.юрид-улут.вал.'!B27+'12.юрид-чет өл.вал.'!B27) -> 33.035 | F27: =H27+J27+L27+N27+P27+R27 -> 12708.4 | G27: =(H27*I27+J27*K27+L27*M27+N27*O27+P27*Q27+R27*S27)/(H27+J27+L27+N27+P27+R27) -> 33.035 | H27: ='8.юрид-улут.вал.'!H27+'12.юрид-чет өл.вал.'!H27 -> 354 | I27: =('8.юрид-улут.вал.'!H27*'8.юрид-улут.вал.'!I27+'12.юрид-чет өл.вал.'!H27*'12.юрид-чет өл.вал.'!I27)/('8.юрид-улут.вал.'!H27+'12.юрид-чет өл.вал.'!H27) -> 26.186441 | J27: ='8.юрид-улут.вал.'!J27+'12.юрид-чет өл.вал.'!J27 -> 5870 | K27: =('8.юрид-улут.вал.'!J27*'8.юрид-улут.вал.'!K27+'12.юрид-чет өл.вал.'!J27*'12.юрид-чет өл.вал.'!K27)/('8.юрид-улут.вал.'!J27+'12.юрид-чет өл.вал.'!J27) -> 34.979898 | L27: ='8.юрид-улут.вал.'!L27+'12.юрид-чет өл.вал.'!L27 -> 4471.4 | M27: =('8.юрид-улут.вал.'!L27*'8.юрид-улут.вал.'!M27+'12.юрид-чет өл.вал.'!L27*'12.юрид-чет өл.вал.'!M27)/('8.юрид-улут.вал.'!L27+'12.юрид-чет өл.вал.'!L27) -> 32.361229 | N27: ='8.юрид-улут.вал.'!N27+'12.юрид-чет өл.вал.'!N27 -> 2000 | O27: =('8.юрид-улут.вал.'!N27*'8.юрид-улут.вал.'!O27+'12.юрид-чет өл.вал.'!N27*'12.юрид-чет өл.вал.'!O27)/('8.юрид-улут.вал.'!N27+'12.юрид-чет өл.вал.'!N27) -> 30 | P27: ='8.юрид-улут.вал.'!P27+'12.юрид-чет өл.вал.'!P27 -> 13 | Q27: =('8.юрид-улут.вал.'!P27*'8.юрид-улут.вал.'!Q27+'12.юрид-чет өл.вал.'!P27*'12.юрид-чет өл.вал.'!Q27)/('8.юрид-улут.вал.'!P27+'12.юрид-чет өл.вал.'!P27) -> 40
A28: Баш оона | B28: ='8.юрид-улут.вал.'!B28+'12.юрид-чет өл.вал.'!B28 -> 46501.9 | C28: =('8.юрид-улут.вал.'!B28*'8.юрид-улут.вал.'!C28+'12.юрид-чет өл.вал.'!B28*'12.юрид-чет өл.вал.'!C28)/('8.юрид-улут.вал.'!B28+'12.юрид-чет өл.вал.'!B28) -> 7.2260273 | F28: =H28+J28+L28+N28+P28+R28 -> 46501.9 | G28: =(H28*I28+J28*K28+L28*M28+N28*O28+P28*Q28+R28*S28)/(H28+J28+L28+N28+P28+R28) -> 7.2260273 | H28: ='8.юрид-улут.вал.'!H28+'12.юрид-чет өл.вал.'!H28 -> 42232.4 | I28: =('8.юрид-улут.вал.'!H28*'8.юрид-улут.вал.'!I28+'12.юрид-чет өл.вал.'!H28*'12.юрид-чет өл.вал.'!I28)/('8.юрид-улут.вал.'!H28+'12.юрид-чет өл.вал.'!H28) -> 5.1258749 | J28: ='8.юрид-улут.вал.'!J28+'12.юрид-чет өл.вал.'!J28 -> 3190.5 | K28: =('8.юрид-улут.вал.'!J28*'8.юрид-улут.вал.'!K28+'12.юрид-чет өл.вал.'!J28*'12.юрид-чет өл.вал.'!K28)/('8.юрид-улут.вал.'!J28+'12.юрид-чет өл.вал.'!J28) -> 27.54772 | L28: ='8.юрид-улут.вал.'!L28+'12.юрид-чет өл.вал.'!L28 -> 1065 | M28: =('8.юрид-улут.вал.'!L28*'8.юрид-улут.вал.'!M28+'12.юрид-чет өл.вал.'!L28*'12.юрид-чет өл.вал.'!M28)/('8.юрид-улут.вал.'!L28+'12.юрид-чет өл.вал.'!L28) -> 29.197183 | P28: ='8.юрид-улут.вал.'!P28+'12.юрид-чет өл.вал.'!P28 -> 14 | Q28: =('8.юрид-улут.вал.'!P28*'8.юрид-улут.вал.'!Q28+'12.юрид-чет өл.вал.'!P28*'12.юрид-чет өл.вал.'!Q28)/('8.юрид-улут.вал.'!P28+'12.юрид-чет өл.вал.'!P28) -> 40
A29: Аяк оона | B29: ='8.юрид-улут.вал.'!B29+'12.юрид-чет өл.вал.'!B29 -> 39931 | C29: =('8.юрид-улут.вал.'!B29*'8.юрид-улут.вал.'!C29+'12.юрид-чет өл.вал.'!B29*'12.юрид-чет өл.вал.'!C29)/('8.юрид-улут.вал.'!B29+'12.юрид-чет өл.вал.'!B29) -> 30.63197 | F29: =H29+J29+L29+N29+P29+R29 -> 39931 | G29: =(H29*I29+J29*K29+L29*M29+N29*O29+P29*Q29+R29*S29)/(H29+J29+L29+N29+P29+R29) -> 30.63197 | H29: ='8.юрид-улут.вал.'!H29+'12.юрид-чет өл.вал.'!H29 -> 16519 | I29: =('8.юрид-улут.вал.'!H29*'8.юрид-улут.вал.'!I29+'12.юрид-чет өл.вал.'!H29*'12.юрид-чет өл.вал.'!I29)/('8.юрид-улут.вал.'!H29+'12.юрид-чет өл.вал.'!H29) -> 30.500515 | J29: ='8.юрид-улут.вал.'!J29+'12.юрид-чет өл.вал.'!J29 -> 12047.2 | K29: =('8.юрид-улут.вал.'!J29*'8.юрид-улут.вал.'!K29+'12.юрид-чет өл.вал.'!J29*'12.юрид-чет өл.вал.'!K29)/('8.юрид-улут.вал.'!J29+'12.юрид-чет өл.вал.'!J29) -> 29.685313 | L29: ='8.юрид-улут.вал.'!L29+'12.юрид-чет өл.вал.'!L29 -> 10243.8 | M29: =('8.юрид-улут.вал.'!L29*'8.юрид-улут.вал.'!M29+'12.юрид-чет өл.вал.'!L29*'12.юрид-чет өл.вал.'!M29)/('8.юрид-улут.вал.'!L29+'12.юрид-чет өл.вал.'!L29) -> 32.110379 | N29: ='8.юрид-улут.вал.'!N29+'12.юрид-чет өл.вал.'!N29 -> 528 | O29: =('8.юрид-улут.вал.'!N29*'8.юрид-улут.вал.'!O29+'12.юрид-чет өл.вал.'!N29*'12.юрид-чет өл.вал.'!O29)/('8.юрид-улут.вал.'!N29+'12.юрид-чет өл.вал.'!N29) -> 39.07197 | P29: ='8.юрид-улут.вал.'!P29+'12.юрид-чет өл.вал.'!P29 -> 593 | Q29: =('8.юрид-улут.вал.'!P29*'8.юрид-улут.вал.'!Q29+'12.юрид-чет өл.вал.'!P29*'12.юрид-чет өл.вал.'!Q29)/('8.юрид-улут.вал.'!P29+'12.юрид-чет өл.вал.'!P29) -> 20.472175
