Workbook
Name anal: #REF!
Name anal: #REF!
Name anal: #REF!
Name anal: #REF!
Name anal: #REF!
Name anal: #REF!
Name anal: #REF!
Name baza_dannyh: #REF!
Name baza_dannyh: #REF!
Name baza_dannyh: #REF!
Name baza_dannyh: #REF!
Name baza_dannyh: #REF!
Name baza_dannyh: #REF!
Name baza_dannyh: #REF!
Name damo: #REF!
Name damo: #REF!
Name damo: #REF!
Name damo: #REF!
Name damo: #REF!
Name damo: #REF!
Name damo: #REF!
Name damo: #REF!
Name damo: #REF!
Name damo: #REF!
Name damo: #REF!
Name damo: #REF!
Name damo: #REF!
Name damo: #REF!
Name damo: #REF!
Name damo: #REF!
Name damo: #REF!
Name damo: #REF!
Name damo: #REF!
Name damo: #REF!
Name damo: #REF!
Name damo: #REF!
Name damo: #REF!
Name damo: #REF!
Name damo: #REF!
Name damo: #REF!
Name damo: #REF!
Name damo: #REF!
Name HJ: #REF!
Name HJ: #REF!
Name HJ: #REF!
Name HJ: #REF!
Name HJ: #REF!
Name HJ: #REF!
Name HJ: #REF!
Name HJ: #REF!
Name HJ: #REF!
Name HJ: #REF!
Name HJ: #REF!
Name HJ: #REF!
Name HJ: #REF!
Name HJ: #REF!
Name HJ: #REF!
Name HJ: #REF!
Name HJ: #REF!
Name HJ: #REF!

Sheet tabl12_bop_pbl 6
A1: Таблица 12. Платежный баланс Кыргызской Республики
A2: (краткое аналитическое представление)
A3: (млн долларов США)
B4: 2015 | C4: 2016 | D4: 2017 | E4: 2018 | F4: 2019 | G4: 2018 | H4: 2019 | J4: 2015 | O4: 2016 | T4: 2017 | Y4: 2018 | AD4: 2019 | AI4: 2020 | AJ4: 2020
G5: 9 мес. | H5: 9 мес. | J5: I | K5: II | L5: III | M5: IV | O5: I | P5: II | Q5: III | R5: IV | T5: I | U5: II | V5: III | W5: IV | Y5: I | Z5: II | AA5: III | AB5: IV | AD5: I | AE5: II | AF5: III | AG5: IV | AI5: I | AJ5: II | AK5: III
A6: Счет текущих операций | B6: =IF(ABS(SUM(J6:M6))<0.05,"—",SUM(J6:M6)) -> — | C6: =IF(ABS(SUM(O6:R6))<0.05,"—",SUM(O6:R6)) -> — | D6: =IF(ABS(SUM(T6:W6))<0.05,"—",SUM(T6:W6)) -> — | E6: =IF(ABS(SUM(Y6:AB6))<0.05,"—",SUM(Y6:AB6)) -> — | F6: =IF(ABS(SUM(AD6:AG6))<0.05,"—",SUM(AD6:AG6)) -> — | G6: =IF(ABS(SUM(AD6:AF6))<0.05,"—",SUM(AD6:AF6)) -> — | H6: =IF(ABS(SUM(AI6:AK6))<0.05,"—",SUM(AI6:AK6)) -> 336.8336 | J6: =J7+J21+J26 -> 0 | K6: =K7+K21+K26 -> 0 | L6: =L7+L21+L26 -> 0 | M6: =M7+M21+M26 -> 0 | N6: ='bop_dt 6'!N7 -> 0 | O6: =O7+O21+O26 -> 0 | P6: =P7+P21+P26 -> 0 | Q6: =Q7+Q21+Q26 -> 0 | R6: =R7+R21+R26 -> 0 | S6: ='bop_dt 6'!S7 -> 0 | T6: =T7+T21+T26 -> 0 | U6: =U7+U21+U26 -> 0 | V6: =V7+V21+V26 -> 0 | W6: =W7+W21+W26 -> 0 | Y6: =Y7+Y21+Y26 -> 0 | Z6: =Z7+Z21+Z26 -> 0 | AA6: =AA7+AA21+AA26 -> 0 | AB6: =AB7+AB21+AB26 -> 0 | AD6: =AD7+AD21+AD26 -> 0 | AE6: =AE7+AE21+AE26 -> 0 | AF6: =AF7+AF21+AF26 -> 0 | AG6: =AG7+AG21+AG26 -> 0 | AH6: ='bop_dt 6'!AH7 -> 0 | AI6: =AI7+AI21+AI26 -> -27.403041 | AJ6: =AJ7+AJ21+AJ26 -> 191.48133 | AK6: =AK7+AK21+AK26 -> 172.75532 | AL6: =AL7+AL21+AL26 -> 37.423401 | AN6: Счет текущих операций
A7: Товары и услуги | B7: =IF(ABS(SUM(J7:M7))<0.05,"—",SUM(J7:M7)) -> — | C7: =IF(ABS(SUM(O7:R7))<0.05,"—",SUM(O7:R7)) -> — | D7: =IF(ABS(SUM(T7:W7))<0.05,"—",SUM(T7:W7)) -> — | E7: =IF(ABS(SUM(Y7:AB7))<0.05,"—",SUM(Y7:AB7)) -> — | F7: =IF(ABS(SUM(AD7:AG7))<0.05,"—",SUM(AD7:AG7)) -> — | G7: =IF(ABS(SUM(AD7:AF7))<0.05,"—",SUM(AD7:AF7)) -> — | H7: =IF(ABS(SUM(AI7:AK7))<0.05,"—",SUM(AI7:AK7)) -> -1057.5499 | J7: =J8-J9 -> 0 | K7: =K8-K9 -> 0 | L7: =L8-L9 -> 0 | M7: =M8-M9 -> 0 | N7: ='bop_dt 6'!N8 -> 0 | O7: =O8-O9 -> 0 | P7: =P8-P9 -> 0 | Q7: =Q8-Q9 -> 0 | R7: =R8-R9 -> 0 | S7: ='bop_dt 6'!S8 -> 0 | T7: =T8-T9 -> 0 | U7: =U8-U9 -> 0 | V7: =V8-V9 -> 0 | W7: =W8-W9 -> 0 | Y7: =Y8-Y9 -> 0 | Z7: =Z8-Z9 -> 0 | AA7: =AA8-AA9 -> 0 | AB7: =AB8-AB9 -> 0 | AD7: =AD8-AD9 -> 0 | AE7: =AE8-AE9 -> 0 | AF7: =AF8-AF9 -> 0 | AG7: =AG8-AG9 -> 0 | AH7: ='bop_dt 6'!AH8 -> 0 | AI7: =AI8-AI9 -> -450.3614 | AJ7: =AJ8-AJ9 -> -185.01453 | AK7: =AK8-AK9 -> -422.174 | AL7: =AL8-AL9 -> -557.88203 | AN7: Товары и услуги
A8: экспорт | B8: =IF(ABS(SUM(J8:M8))<0.05,"—",SUM(J8:M8)) -> — | C8: =IF(ABS(SUM(O8:R8))<0.05,"—",SUM(O8:R8)) -> — | D8: =IF(ABS(SUM(T8:W8))<0.05,"—",SUM(T8:W8)) -> — | E8: =IF(ABS(SUM(Y8:AB8))<0.05,"—",SUM(Y8:AB8)) -> — | F8: =IF(ABS(SUM(AD8:AG8))<0.05,"—",SUM(AD8:AG8)) -> — | G8: =IF(ABS(SUM(AD8:AF8))<0.05,"—",SUM(AD8:AF8)) -> — | H8: =IF(ABS(SUM(AI8:AK8))<0.05,"—",SUM(AI8:AK8)) -> 1891.1628 | J8: ='bop_dt 6'!J9 -> 0 | K8: ='bop_dt 6'!K9 -> 0 | L8: ='bop_dt 6'!L9 -> 0 | M8: ='bop_dt 6'!M9 -> 0 | N8: ='bop_dt 6'!N9 -> 0 | O8: ='bop_dt 6'!O9 -> 0 | P8: ='bop_dt 6'!P9 -> 0 | Q8: ='bop_dt 6'!Q9 -> 0 | ... W8: ='bop_dt 6'!W9 -> 0 | Y8: ='bop_dt 6'!Y9 -> 0 | Z8: ='bop_dt 6'!Z9 -> 0 | AA8: ='bop_dt 6'!AA9 -> 0 | AB8: ='bop_dt 6'!AB9 -> 0 | AD8: ='bop_dt 6'!AD9 -> 0 | AE8: ='bop_dt 6'!AE9 -> 0 | AF8: ='bop_dt 6'!AF9 -> 0 | AG8: ='bop_dt 6'!AG9 -> 0 | AH8: ='bop_dt 6'!AH9 -> 0 | AI8: ='bop_dt 6'!AI9 -> 658.54838 | AJ8: ='bop_dt 6'!AJ9 -> 587.11518 | AK8: ='bop_dt 6'!AK9 -> 645.49925 | AL8: ='bop_dt 6'!AL9 -> 544.25498 | AN8: экспорт
A9: импорт | B9: =IF(ABS(SUM(J9:M9))<0.05,"—",SUM(J9:M9)) -> — | C9: =IF(ABS(SUM(O9:R9))<0.05,"—",SUM(O9:R9)) -> — | D9: =IF(ABS(SUM(T9:W9))<0.05,"—",SUM(T9:W9)) -> — | E9: =IF(ABS(SUM(Y9:AB9))<0.05,"—",SUM(Y9:AB9)) -> — | F9: =IF(ABS(SUM(AD9:AG9))<0.05,"—",SUM(AD9:AG9)) -> — | G9: =IF(ABS(SUM(AD9:AF9))<0.05,"—",SUM(AD9:AF9)) -> — | H9: =IF(ABS(SUM(AI9:AK9))<0.05,"—",SUM(AI9:AK9)) -> 2948.7127 | J9: ='bop_dt 6'!J10 -> 0 | K9: ='bop_dt 6'!K10 -> 0 | L9: ='bop_dt 6'!L10 -> 0 | M9: ='bop_dt 6'!M10 -> 0 | N9: ='bop_dt 6'!N10 -> 0 | O9: ='bop_dt 6'!O10 -> 0 | P9: ='bop_dt 6'!P10 -> 0 | Q9: ='bop_dt 6'!Q10 -> 0 | ... W9: ='bop_dt 6'!W10 -> 0 | Y9: ='bop_dt 6'!Y10 -> 0 | Z9: ='bop_dt 6'!Z10 -> 0 | AA9: ='bop_dt 6'!AA10 -> 0 | AB9: ='bop_dt 6'!AB10 -> 0 | AD9: ='bop_dt 6'!AD10 -> 0 | AE9: ='bop_dt 6'!AE10 -> 0 | AF9: ='bop_dt 6'!AF10 -> 0 | AG9: ='bop_dt 6'!AG10 -> 0 | AH9: ='bop_dt 6'!AH10 -> 0 | AI9: ='bop_dt 6'!AI10 -> 1108.9098 | AJ9: ='bop_dt 6'!AJ10 -> 772.12971 | AK9: ='bop_dt 6'!AK10 -> 1067.6732 | AL9: ='bop_dt 6'!AL10 -> 1102.137 | AN9: импорт
A10: Торговый баланс* | B10: =IF(ABS(SUM(J10:M10))<0.05,"—",SUM(J10:M10)) -> — | C10: =IF(ABS(SUM(O10:R10))<0.05,"—",SUM(O10:R10)) -> — | D10: =IF(ABS(SUM(T10:W10))<0.05,"—",SUM(T10:W10)) -> — | E10: =IF(ABS(SUM(Y10:AB10))<0.05,"—",SUM(Y10:AB10)) -> — | F10: =IF(ABS(SUM(AD10:AG10))<0.05,"—",SUM(AD10:AG10)) -> — | G10: =IF(ABS(SUM(AD10:AF10))<0.05,"—",SUM(AD10:AF10)) -> — | H10: =IF(ABS(SUM(AI10:AK10))<0.05,"—",SUM(AI10:AK10)) -> -930.87379 | J10: ='bop_dt 6'!J11 -> 0 | K10: ='bop_dt 6'!K11 -> 0 | L10: ='bop_dt 6'!L11 -> 0 | M10: ='bop_dt 6'!M11 -> 0 | N10: ='bop_dt 6'!N11 -> 0 | O10: ='bop_dt 6'!O11 -> 0 | P10: ='bop_dt 6'!P11 -> 0 | Q10: ='bop_dt 6'!Q11 -> 0 | ... W10: ='bop_dt 6'!W11 -> 0 | Y10: ='bop_dt 6'!Y11 -> 0 | Z10: ='bop_dt 6'!Z11 -> 0 | AA10: ='bop_dt 6'!AA11 -> 0 | AB10: ='bop_dt 6'!AB11 -> 0 | AD10: ='bop_dt 6'!AD11 -> 0 | AE10: ='bop_dt 6'!AE11 -> 0 | AF10: ='bop_dt 6'!AF11 -> 0 | AG10: ='bop_dt 6'!AG11 -> 0 | AH10: ='bop_dt 6'!AH11 -> 0 | AI10: ='bop_dt 6'!AI11 -> -443.17896 | AJ10: ='bop_dt 6'!AJ11 -> -121.14136 | AK10: ='bop_dt 6'!AK11 -> -366.55347 | AL10: ='bop_dt 6'!AL11 -> -508.70025 | AN10: Торговый баланс*
A11: Экспорт по методологии платежного баланса (в ценах ФОБ) | B11: =IF(ABS(SUM(J11:M11))<0.05,"—",SUM(J11:M11)) -> — | C11: =IF(ABS(SUM(O11:R11))<0.05,"—",SUM(O11:R11)) -> — | D11: =IF(ABS(SUM(T11:W11))<0.05,"—",SUM(T11:W11)) -> — | E11: =IF(ABS(SUM(Y11:AB11))<0.05,"—",SUM(Y11:AB11)) -> — | F11: =IF(ABS(SUM(AD11:AG11))<0.05,"—",SUM(AD11:AG11)) -> — | G11: =IF(ABS(SUM(AD11:AF11))<0.05,"—",SUM(AD11:AF11)) -> — | H11: =IF(ABS(SUM(AI11:AK11))<0.05,"—",SUM(AI11:AK11)) -> 754.88479 | J11: ='bop_dt 6'!J15 -> 0 | K11: ='bop_dt 6'!K15 -> 0 | L11: ='bop_dt 6'!L15 -> 0 | M11: ='bop_dt 6'!M15 -> 0 | N11: ='bop_dt 6'!N15 -> 0 | O11: ='bop_dt 6'!O15 -> 0 | P11: ='bop_dt 6'!P15 -> 0 | Q11: ='bop_dt 6'!Q15 -> 0 | ... W11: ='bop_dt 6'!W15 -> 0 | Y11: ='bop_dt 6'!Y15 -> 0 | Z11: ='bop_dt 6'!Z15 -> 0 | AA11: ='bop_dt 6'!AA15 -> 0 | AB11: ='bop_dt 6'!AB15 -> 0 | AD11: ='bop_dt 6'!AD15 -> 0 | AE11: ='bop_dt 6'!AE15 -> 0 | AF11: ='bop_dt 6'!AF15 -> 0 | AG11: ='bop_dt 6'!AG15 -> 0 | AH11: ='bop_dt 6'!AH15 -> 0 | AI11: ='bop_dt 6'!AI15 -> 280.96447 | AJ11: ='bop_dt 6'!AJ15 -> 192.49303 | AK11: ='bop_dt 6'!AK15 -> 281.42729 | AL11: ='bop_dt 6'!AL15 -> 265.29537 | AN11: Экспорт по методологии платежного баланса (в ценах ФОБ)
A12: в т.ч. Реэкспорт | B12: =IF(ABS(SUM(J12:M12))<0.05,"—",SUM(J12:M12)) -> — | C12: =IF(ABS(SUM(O12:R12))<0.05,"—",SUM(O12:R12)) -> — | D12: =IF(ABS(SUM(T12:W12))<0.05,"—",SUM(T12:W12)) -> — | E12: =IF(ABS(SUM(Y12:AB12))<0.05,"—",SUM(Y12:AB12)) -> — | F12: =IF(ABS(SUM(AD12:AG12))<0.05,"—",SUM(AD12:AG12)) -> — | G12: =IF(ABS(SUM(AD12:AF12))<0.05,"—",SUM(AD12:AF12)) -> — | H12: =IF(ABS(SUM(AI12:AK12))<0.05,"—",SUM(AI12:AK12)) -> 54.953916 | J12: ='bop_dt 6'!J17 -> 0 | K12: ='bop_dt 6'!K17 -> 0 | L12: ='bop_dt 6'!L17 -> 0 | M12: ='bop_dt 6'!M17 -> 0 | N12: ='bop_dt 6'!N17 -> 0 | O12: ='bop_dt 6'!O17 -> 0 | P12: ='bop_dt 6'!P17 -> 0 | Q12: ='bop_dt 6'!Q17 -> 0 | ... W12: ='bop_dt 6'!W17 -> 0 | Y12: ='bop_dt 6'!Y17 -> 0 | Z12: ='bop_dt 6'!Z17 -> 0 | AA12: ='bop_dt 6'!AA17 -> 0 | AB12: ='bop_dt 6'!AB17 -> 0 | AD12: ='bop_dt 6'!AD17 -> 0 | AE12: ='bop_dt 6'!AE17 -> 0 | AF12: ='bop_dt 6'!AF17 -> 0 | AG12: ='bop_dt 6'!AG17 -> 0 | AH12: ='bop_dt 6'!AH17 -> 0 | AI12: ='bop_dt 6'!AI17 -> 16.6274 | AJ12: ='bop_dt 6'!AJ17 -> 20.647081 | AK12: ='bop_dt 6'!AK17 -> 17.679435 | AL12: ='bop_dt 6'!AL17 -> 12.758607 | AN12: в т.ч. Реэкспорт
A13: Немонетарное золото | B13: =IF(ABS(SUM(J13:M13))<0.05,"—",SUM(J13:M13)) -> — | C13: =IF(ABS(SUM(O13:R13))<0.05,"—",SUM(O13:R13)) -> — | D13: =IF(ABS(SUM(T13:W13))<0.05,"—",SUM(T13:W13)) -> — | E13: =IF(ABS(SUM(Y13:AB13))<0.05,"—",SUM(Y13:AB13)) -> — | F13: =IF(ABS(SUM(AD13:AG13))<0.05,"—",SUM(AD13:AG13)) -> — | G13: =IF(ABS(SUM(AD13:AF13))<0.05,"—",SUM(AD13:AF13)) -> — | H13: =IF(ABS(SUM(AI13:AK13))<0.05,"—",SUM(AI13:AK13)) -> 807.68909 | J13: ='bop_dt 6'!J19 -> 0 | K13: ='bop_dt 6'!K19 -> 0 | L13: ='bop_dt 6'!L19 -> 0 | M13: ='bop_dt 6'!M19 -> 0 | N13: ='bop_dt 6'!N19 -> 0 | O13: ='bop_dt 6'!O19 -> 0 | P13: ='bop_dt 6'!P19 -> 0 | Q13: ='bop_dt 6'!Q19 -> 0 | ... W13: ='bop_dt 6'!W19 -> 0 | Y13: ='bop_dt 6'!Y19 -> 0 | Z13: ='bop_dt 6'!Z19 -> 0 | AA13: ='bop_dt 6'!AA19 -> 0 | AB13: ='bop_dt 6'!AB19 -> 0 | AD13: ='bop_dt 6'!AD19 -> 0 | AE13: ='bop_dt 6'!AE19 -> 0 | AF13: ='bop_dt 6'!AF19 -> 0 | AG13: ='bop_dt 6'!AG19 -> 0 | AH13: ='bop_dt 6'!AH19 -> 0 | AI13: ='bop_dt 6'!AI19 -> 212.90018 | AJ13: ='bop_dt 6'!AJ19 -> 325.17176 | AK13: ='bop_dt 6'!AK19 -> 269.61716 | AL13: ='bop_dt 6'!AL19 -> 179.30844 | AN13: Немонетарное золото
A14: Импорт (в ценах ФОБ) | B14: =IF(ABS(SUM(J14:M14))<0.05,"—",SUM(J14:M14)) -> — | C14: =IF(ABS(SUM(O14:R14))<0.05,"—",SUM(O14:R14)) -> — | D14: =IF(ABS(SUM(T14:W14))<0.05,"—",SUM(T14:W14)) -> — | E14: =IF(ABS(SUM(Y14:AB14))<0.05,"—",SUM(Y14:AB14)) -> — | F14: =IF(ABS(SUM(AD14:AG14))<0.05,"—",SUM(AD14:AG14)) -> — | G14: =IF(ABS(SUM(AD14:AF14))<0.05,"—",SUM(AD14:AF14)) -> — | H14: =IF(ABS(SUM(AI14:AK14))<0.05,"—",SUM(AI14:AK14)) -> 2493.4477 | J14: ='bop_dt 6'!J13 -> 0 | K14: ='bop_dt 6'!K13 -> 0 | L14: ='bop_dt 6'!L13 -> 0 | M14: ='bop_dt 6'!M13 -> 0 | N14: ='bop_dt 6'!N13 -> 0 | O14: ='bop_dt 6'!O13 -> 0 | P14: ='bop_dt 6'!P13 -> 0 | Q14: ='bop_dt 6'!Q13 -> 0 | ... W14: ='bop_dt 6'!W13 -> 0 | Y14: ='bop_dt 6'!Y13 -> 0 | Z14: ='bop_dt 6'!Z13 -> 0 | AA14: ='bop_dt 6'!AA13 -> 0 | AB14: ='bop_dt 6'!AB13 -> 0 | AD14: ='bop_dt 6'!AD13 -> 0 | AE14: ='bop_dt 6'!AE13 -> 0 | AF14: ='bop_dt 6'!AF13 -> 0 | AG14: ='bop_dt 6'!AG13 -> 0 | AH14: ='bop_dt 6'!AH13 -> 0 | AI14: ='bop_dt 6'!AI13 -> 937.04361 | AJ14: ='bop_dt 6'!AJ13 -> 638.80616 | AK14: ='bop_dt 6'!AK13 -> 917.59791 | AL14: ='bop_dt 6'!AL13 -> 953.30406 | AN14: Импорт (в ценах ФОБ)
A15: Баланс услуг | B15: =IF(ABS(SUM(J15:M15))<0.05,"—",SUM(J15:M15)) -> — | C15: =IF(ABS(SUM(O15:R15))<0.05,"—",SUM(O15:R15)) -> — | D15: =IF(ABS(SUM(T15:W15))<0.05,"—",SUM(T15:W15)) -> — | E15: =IF(ABS(SUM(Y15:AB15))<0.05,"—",SUM(Y15:AB15)) -> — | F15: =IF(ABS(SUM(AD15:AG15))<0.05,"—",SUM(AD15:AG15)) -> — | G15: =IF(ABS(SUM(AD15:AF15))<0.05,"—",SUM(AD15:AF15)) -> — | H15: =IF(ABS(SUM(AI15:AK15))<0.05,"—",SUM(AI15:AK15)) -> -126.67614 | J15: =J16-J17 -> 0 | K15: =K16-K17 -> 0 | L15: =L16-L17 -> 0 | M15: =M16-M17 -> 0 | N15: ='bop_dt 6'!N22 -> 0 | O15: =O16-O17 -> 0 | P15: =P16-P17 -> 0 | Q15: =Q16-Q17 -> 0 | R15: =R16-R17 -> 0 | S15: ='bop_dt 6'!S22 -> 0 | T15: =T16-T17 -> 0 | U15: =U16-U17 -> 0 | V15: =V16-V17 -> 0 | W15: =W16-W17 -> 0 | Y15: =Y16-Y17 -> 0 | Z15: =Z16-Z17 -> 0 | AA15: =AA16-AA17 -> 0 | AB15: =AB16-AB17 -> 0 | AD15: =AD16-AD17 -> 0 | AE15: =AE16-AE17 -> 0 | AF15: =AF16-AF17 -> 0 | AG15: =AG16-AG17 -> 0 | AH15: ='bop_dt 6'!AH22 -> 0 | AI15: =AI16-AI17 -> -7.182446 | AJ15: =AJ16-AJ17 -> -63.873165 | AK15: =AK16-AK17 -> -55.620529 | AL15: =AL16-AL17 -> -49.181778 | AN15: Баланс услуг
A16: экспорт | B16: =IF(ABS(SUM(J16:M16))<0.05,"—",SUM(J16:M16)) -> — | C16: =IF(ABS(SUM(O16:R16))<0.05,"—",SUM(O16:R16)) -> — | D16: =IF(ABS(SUM(T16:W16))<0.05,"—",SUM(T16:W16)) -> — | E16: =IF(ABS(SUM(Y16:AB16))<0.05,"—",SUM(Y16:AB16)) -> — | F16: =IF(ABS(SUM(AD16:AG16))<0.05,"—",SUM(AD16:AG16)) -> — | G16: =IF(ABS(SUM(AD16:AF16))<0.05,"—",SUM(AD16:AF16)) -> — | H16: =IF(ABS(SUM(AI16:AK16))<0.05,"—",SUM(AI16:AK16)) -> 328.58892 | J16: ='bop_dt 6'!J23 -> 0 | K16: ='bop_dt 6'!K23 -> 0 | L16: ='bop_dt 6'!L23 -> 0 | M16: ='bop_dt 6'!M23 -> 0 | N16: ='bop_dt 6'!N23 -> 0 | O16: ='bop_dt 6'!O23 -> 0 | P16: ='bop_dt 6'!P23 -> 0 | Q16: ='bop_dt 6'!Q23 -> 0 | ... W16: ='bop_dt 6'!W23 -> 0 | Y16: ='bop_dt 6'!Y23 -> 0 | Z16: ='bop_dt 6'!Z23 -> 0 | AA16: ='bop_dt 6'!AA23 -> 0 | AB16: ='bop_dt 6'!AB23 -> 0 | AD16: ='bop_dt 6'!AD23 -> 0 | AE16: ='bop_dt 6'!AE23 -> 0 | AF16: ='bop_dt 6'!AF23 -> 0 | AG16: ='bop_dt 6'!AG23 -> 0 | AH16: ='bop_dt 6'!AH23 -> 0 | AI16: ='bop_dt 6'!AI23 -> 164.68372 | AJ16: ='bop_dt 6'!AJ23 -> 69.450388 | AK16: ='bop_dt 6'!AK23 -> 94.45481 | AL16: ='bop_dt 6'!AL23 -> 99.651168 | AN16: экспорт
A17: импорт | B17: =IF(ABS(SUM(J17:M17))<0.05,"—",SUM(J17:M17)) -> — | C17: =IF(ABS(SUM(O17:R17))<0.05,"—",SUM(O17:R17)) -> — | D17: =IF(ABS(SUM(T17:W17))<0.05,"—",SUM(T17:W17)) -> — | E17: =IF(ABS(SUM(Y17:AB17))<0.05,"—",SUM(Y17:AB17)) -> — | F17: =IF(ABS(SUM(AD17:AG17))<0.05,"—",SUM(AD17:AG17)) -> — | G17: =IF(ABS(SUM(AD17:AF17))<0.05,"—",SUM(AD17:AF17)) -> — | H17: =IF(ABS(SUM(AI17:AK17))<0.05,"—",SUM(AI17:AK17)) -> 455.26506 | J17: ='bop_dt 6'!J24 -> 0 | K17: ='bop_dt 6'!K24 -> 0 | L17: ='bop_dt 6'!L24 -> 0 | M17: ='bop_dt 6'!M24 -> 0 | N17: ='bop_dt 6'!N24 -> 0 | O17: ='bop_dt 6'!O24 -> 0 | P17: ='bop_dt 6'!P24 -> 0 | Q17: ='bop_dt 6'!Q24 -> 0 | ... W17: ='bop_dt 6'!W24 -> 0 | Y17: ='bop_dt 6'!Y24 -> 0 | Z17: ='bop_dt 6'!Z24 -> 0 | AA17: ='bop_dt 6'!AA24 -> 0 | AB17: ='bop_dt 6'!AB24 -> 0 | AD17: ='bop_dt 6'!AD24 -> 0 | AE17: ='bop_dt 6'!AE24 -> 0 | AF17: ='bop_dt 6'!AF24 -> 0 | AG17: ='bop_dt 6'!AG24 -> 0 | AH17: ='bop_dt 6'!AH24 -> 0 | AI17: ='bop_dt 6'!AI24 -> 171.86617 | AJ17: ='bop_dt 6'!AJ24 -> 133.32355 | AK17: ='bop_dt 6'!AK24 -> 150.07534 | AL17: ='bop_dt 6'!AL24 -> 148.83295 | AN17: импорт
A18: транспортные услуги | B18: =IF(ABS(SUM(J18:M18))<0.05,"—",SUM(J18:M18)) -> — | C18: =IF(ABS(SUM(O18:R18))<0.05,"—",SUM(O18:R18)) -> — | D18: =IF(ABS(SUM(T18:W18))<0.05,"—",SUM(T18:W18)) -> — | E18: =IF(ABS(SUM(Y18:AB18))<0.05,"—",SUM(Y18:AB18)) -> — | F18: =IF(ABS(SUM(AD18:AG18))<0.05,"—",SUM(AD18:AG18)) -> — | G18: =IF(ABS(SUM(AD18:AF18))<0.05,"—",SUM(AD18:AF18)) -> — | H18: =IF(ABS(SUM(AI18:AK18))<0.05,"—",SUM(AI18:AK18)) -> -141.6124 | J18: ='bop_dt 6'!J37 -> 0 | K18: ='bop_dt 6'!K37 -> 0 | L18: ='bop_dt 6'!L37 -> 0 | M18: ='bop_dt 6'!M37 -> 0 | N18: ='bop_dt 6'!N37 -> 0 | O18: ='bop_dt 6'!O37 -> 0 | P18: ='bop_dt 6'!P37 -> 0 | Q18: ='bop_dt 6'!Q37 -> 0 | ... W18: ='bop_dt 6'!W37 -> 0 | Y18: ='bop_dt 6'!Y37 -> 0 | Z18: ='bop_dt 6'!Z37 -> 0 | AA18: ='bop_dt 6'!AA37 -> 0 | AB18: ='bop_dt 6'!AB37 -> 0 | AD18: ='bop_dt 6'!AD37 -> 0 | AE18: ='bop_dt 6'!AE37 -> 0 | AF18: ='bop_dt 6'!AF37 -> 0 | AG18: ='bop_dt 6'!AG37 -> 0 | AH18: ='bop_dt 6'!AH37 -> 0 | AI18: ='bop_dt 6'!AI37 -> -35.88401 | AJ18: ='bop_dt 6'!AJ37 -> -48.424376 | AK18: ='bop_dt 6'!AK37 -> -57.304018 | AL18: ='bop_dt 6'!AL37 -> -57.983637 | AN18: транспортные услуги
A19: поездки | B19: =IF(ABS(SUM(J19:M19))<0.05,"—",SUM(J19:M19)) -> — | C19: =IF(ABS(SUM(O19:R19))<0.05,"—",SUM(O19:R19)) -> — | D19: =IF(ABS(SUM(T19:W19))<0.05,"—",SUM(T19:W19)) -> — | E19: =IF(ABS(SUM(Y19:AB19))<0.05,"—",SUM(Y19:AB19)) -> — | F19: =IF(ABS(SUM(AD19:AG19))<0.05,"—",SUM(AD19:AG19)) -> — | G19: =IF(ABS(SUM(AD19:AF19))<0.05,"—",SUM(AD19:AF19)) -> — | H19: =IF(ABS(SUM(AI19:AK19))<0.05,"—",SUM(AI19:AK19)) -> 39.159277 | J19: ='bop_dt 6'!J88 -> 0 | K19: ='bop_dt 6'!K88 -> 0 | L19: ='bop_dt 6'!L88 -> 0 | M19: ='bop_dt 6'!M88 -> 0 | N19: ='bop_dt 6'!N88 -> 0 | O19: ='bop_dt 6'!O88 -> 0 | P19: ='bop_dt 6'!P88 -> 0 | Q19: ='bop_dt 6'!Q88 -> 0 | ... W19: ='bop_dt 6'!W88 -> 0 | Y19: ='bop_dt 6'!Y88 -> 0 | Z19: ='bop_dt 6'!Z88 -> 0 | AA19: ='bop_dt 6'!AA88 -> 0 | AB19: ='bop_dt 6'!AB88 -> 0 | AD19: ='bop_dt 6'!AD88 -> 0 | AE19: ='bop_dt 6'!AE88 -> 0 | AF19: ='bop_dt 6'!AF88 -> 0 | AG19: ='bop_dt 6'!AG88 -> 0 | AH19: ='bop_dt 6'!AH88 -> 0 | AI19: ='bop_dt 6'!AI88 -> 36.202961 | AJ19: ='bop_dt 6'!AJ88 -> 3.268843 | AK19: ='bop_dt 6'!AK88 -> -0.312527 | AL19: ='bop_dt 6'!AL88 -> 23.304734 | AN19: поездки
A20: прочие | B20: =IF(ABS(SUM(J20:M20))<0.05,"—",SUM(J20:M20)) -> — | C20: =IF(ABS(SUM(O20:R20))<0.05,"—",SUM(O20:R20)) -> — | D20: =IF(ABS(SUM(T20:W20))<0.05,"—",SUM(T20:W20)) -> — | E20: =IF(ABS(SUM(Y20:AB20))<0.05,"—",SUM(Y20:AB20)) -> — | F20: =IF(ABS(SUM(AD20:AG20))<0.05,"—",SUM(AD20:AG20)) -> — | G20: =IF(ABS(SUM(AD20:AF20))<0.05,"—",SUM(AD20:AF20)) -> — | H20: =IF(ABS(SUM(AI20:AK20))<0.05,"—",SUM(AI20:AK20)) -> -24.223013 | J20: =J15-J18-J19 -> 0 | K20: =K15-K18-K19 -> 0 | L20: =L15-L18-L19 -> 0 | M20: =M15-M18-M19 -> 0 | N20: =N15-N18-N19 -> 0 | O20: =O15-O18-O19 -> 0 | P20: =P15-P18-P19 -> 0 | Q20: =Q15-Q18-Q19 -> 0 | ... W20: =W15-W18-W19 -> 0 | Y20: =Y15-Y18-Y19 -> 0 | Z20: =Z15-Z18-Z19 -> 0 | AA20: =AA15-AA18-AA19 -> 0 | AB20: =AB15-AB18-AB19 -> 0 | AD20: =AD15-AD18-AD19 -> 0 | AE20: =AE15-AE18-AE19 -> 0 | AF20: =AF15-AF18-AF19 -> 0 | AG20: =AG15-AG18-AG19 -> 0 | AH20: =AH15-AH18-AH19 -> 0 | AI20: =AI15-AI18-AI19 -> -7.501397 | AJ20: =AJ15-AJ18-AJ19 -> -18.717632 | AK20: =AK15-AK18-AK19 -> 1.996016 | AL20: =AL15-AL18-AL19 -> -14.502875 | AN20: прочие
A21: Баланс первичных доходов | B21: =IF(ABS(SUM(J21:M21))<0.05,"—",SUM(J21:M21)) -> — | C21: =IF(ABS(SUM(O21:R21))<0.05,"—",SUM(O21:R21)) -> — | D21: =IF(ABS(SUM(T21:W21))<0.05,"—",SUM(T21:W21)) -> — | E21: =IF(ABS(SUM(Y21:AB21))<0.05,"—",SUM(Y21:AB21)) -> — | F21: =IF(ABS(SUM(AD21:AG21))<0.05,"—",SUM(AD21:AG21)) -> — | G21: =IF(ABS(SUM(AD21:AF21))<0.05,"—",SUM(AD21:AF21)) -> — | H21: =IF(ABS(SUM(AI21:AK21))<0.05,"—",SUM(AI21:AK21)) -> -250.46518 | J21: =J22+J23 -> 0 | K21: =K22+K23 -> 0 | L21: =L22+L23 -> 0 | M21: =M22+M23 -> 0 | N21: ='bop_dt 6'!N136 -> 0 | O21: =O22+O23 -> 0 | P21: =P22+P23 -> 0 | Q21: =Q22+Q23 -> 0 | R21: =R22+R23 -> 0 | S21: ='bop_dt 6'!S136 -> 0 | T21: =T22+T23 -> 0 | U21: =U22+U23 -> 0 | V21: =V22+V23 -> 0 | W21: =W22+W23 -> 0 | Y21: =Y22+Y23 -> 0 | Z21: =Z22+Z23 -> 0 | AA21: =AA22+AA23 -> 0 | AB21: =AB22+AB23 -> 0 | AD21: =AD22+AD23 -> 0 | AE21: =AE22+AE23 -> 0 | AF21: =AF22+AF23 -> 0 | AG21: =AG22+AG23 -> 0 | AH21: ='bop_dt 6'!AH136 -> 0 | AI21: =AI22+AI23 -> 13.963998 | AJ21: =AJ22+AJ23 -> -121.08466 | AK21: =AK22+AK23 -> -143.34452 | AL21: =AL22+AL23 -> -5.9592051 | AN21: Баланс первичных доходов
A22: Оплата труда (нетто) | B22: =IF(ABS(SUM(J22:M22))<0.05,"—",SUM(J22:M22)) -> — | C22: =IF(ABS(SUM(O22:R22))<0.05,"—",SUM(O22:R22)) -> — | D22: =IF(ABS(SUM(T22:W22))<0.05,"—",SUM(T22:W22)) -> — | E22: =IF(ABS(SUM(Y22:AB22))<0.05,"—",SUM(Y22:AB22)) -> — | F22: =IF(ABS(SUM(AD22:AG22))<0.05,"—",SUM(AD22:AG22)) -> — | G22: =IF(ABS(SUM(AD22:AF22))<0.05,"—",SUM(AD22:AF22)) -> — | H22: =IF(ABS(SUM(AI22:AK22))<0.05,"—",SUM(AI22:AK22)) -> -7.9247214 | J22: ='bop_dt 6'!J139 -> 0 | K22: ='bop_dt 6'!K139 -> 0 | L22: ='bop_dt 6'!L139 -> 0 | M22: ='bop_dt 6'!M139 -> 0 | N22: ='bop_dt 6'!N139 -> 0 | O22: ='bop_dt 6'!O139 -> 0 | P22: ='bop_dt 6'!P139 -> 0 | Q22: ='bop_dt 6'!Q139 -> 0 | ... W22: ='bop_dt 6'!W139 -> 0 | Y22: ='bop_dt 6'!Y139 -> 0 | Z22: ='bop_dt 6'!Z139 -> 0 | AA22: ='bop_dt 6'!AA139 -> 0 | AB22: ='bop_dt 6'!AB139 -> 0 | AD22: ='bop_dt 6'!AD139 -> 0 | AE22: ='bop_dt 6'!AE139 -> 0 | AF22: ='bop_dt 6'!AF139 -> 0 | AG22: ='bop_dt 6'!AG139 -> 0 | AH22: ='bop_dt 6'!AH139 -> 0 | AI22: ='bop_dt 6'!AI139 -> -2.5372405 | AJ22: ='bop_dt 6'!AJ139 -> -3.5092405 | AK22: ='bop_dt 6'!AK139 -> -1.8782405 | AL22: ='bop_dt 6'!AL139 -> -3.1482405 | AN22: Оплата труда (нетто)
A23: Инвестиционные доходы | B23: =IF(ABS(SUM(J23:M23))<0.05,"—",SUM(J23:M23)) -> — | C23: =IF(ABS(SUM(O23:R23))<0.05,"—",SUM(O23:R23)) -> — | D23: =IF(ABS(SUM(T23:W23))<0.05,"—",SUM(T23:W23)) -> — | E23: =IF(ABS(SUM(Y23:AB23))<0.05,"—",SUM(Y23:AB23)) -> — | F23: =IF(ABS(SUM(AD23:AG23))<0.05,"—",SUM(AD23:AG23)) -> — | G23: =IF(ABS(SUM(AD23:AF23))<0.05,"—",SUM(AD23:AF23)) -> — | H23: =IF(ABS(SUM(AI23:AK23))<0.05,"—",SUM(AI23:AK23)) -> -242.54046 | J23: ='bop_dt 6'!J142 -> 0 | K23: ='bop_dt 6'!K142 -> 0 | L23: ='bop_dt 6'!L142 -> 0 | M23: ='bop_dt 6'!M142 -> 0 | N23: ='bop_dt 6'!N142 -> 0 | O23: ='bop_dt 6'!O142 -> 0 | P23: ='bop_dt 6'!P142 -> 0 | Q23: ='bop_dt 6'!Q142 -> 0 | ... W23: ='bop_dt 6'!W142 -> 0 | Y23: ='bop_dt 6'!Y142 -> 0 | Z23: ='bop_dt 6'!Z142 -> 0 | AA23: ='bop_dt 6'!AA142 -> 0 | AB23: ='bop_dt 6'!AB142 -> 0 | AD23: ='bop_dt 6'!AD142 -> 0 | AE23: ='bop_dt 6'!AE142 -> 0 | AF23: ='bop_dt 6'!AF142 -> 0 | AG23: ='bop_dt 6'!AG142 -> 0 | AH23: ='bop_dt 6'!AH142 -> 0 | AI23: ='bop_dt 6'!AI142 -> 16.501238 | AJ23: ='bop_dt 6'!AJ142 -> -117.57542 | AK23: ='bop_dt 6'!AK142 -> -141.46628 | AL23: ='bop_dt 6'!AL142 -> -2.8109646 | AN23: Инвестиционные доходы
A24: Доходы к получению | B24: =IF(ABS(SUM(J24:M24))<0.05,"—",SUM(J24:M24)) -> — | C24: =IF(ABS(SUM(O24:R24))<0.05,"—",SUM(O24:R24)) -> — | D24: =IF(ABS(SUM(T24:W24))<0.05,"—",SUM(T24:W24)) -> — | E24: =IF(ABS(SUM(Y24:AB24))<0.05,"—",SUM(Y24:AB24)) -> — | F24: =IF(ABS(SUM(AD24:AG24))<0.05,"—",SUM(AD24:AG24)) -> — | G24: =IF(ABS(SUM(AD24:AF24))<0.05,"—",SUM(AD24:AF24)) -> — | H24: =IF(ABS(SUM(AI24:AK24))<0.05,"—",SUM(AI24:AK24)) -> 16.20368 | J24: ='bop_dt 6'!J143 -> 0 | K24: ='bop_dt 6'!K143 -> 0 | L24: ='bop_dt 6'!L143 -> 0 | M24: ='bop_dt 6'!M143 -> 0 | N24: ='bop_dt 6'!N143 -> 0 | O24: ='bop_dt 6'!O143 -> 0 | P24: ='bop_dt 6'!P143 -> 0 | Q24: ='bop_dt 6'!Q143 -> 0 | ... W24: ='bop_dt 6'!W143 -> 0 | Y24: ='bop_dt 6'!Y143 -> 0 | Z24: ='bop_dt 6'!Z143 -> 0 | AA24: ='bop_dt 6'!AA143 -> 0 | AB24: ='bop_dt 6'!AB143 -> 0 | AD24: ='bop_dt 6'!AD143 -> 0 | AE24: ='bop_dt 6'!AE143 -> 0 | AF24: ='bop_dt 6'!AF143 -> 0 | AG24: ='bop_dt 6'!AG143 -> 0 | AH24: ='bop_dt 6'!AH143 -> 0 | AI24: ='bop_dt 6'!AI143 -> 6.2074673 | AJ24: ='bop_dt 6'!AJ143 -> 5.9572349 | AK24: ='bop_dt 6'!AK143 -> 4.0389783 | AL24: ='bop_dt 6'!AL143 -> 4.4171988 | AN24: Доходы к получению
A25: Доходы к выплате | B25: =IF(ABS(SUM(J25:M25))<0.05,"—",SUM(J25:M25)) -> — | C25: =IF(ABS(SUM(O25:R25))<0.05,"—",SUM(O25:R25)) -> — | D25: =IF(ABS(SUM(T25:W25))<0.05,"—",SUM(T25:W25)) -> — | E25: =IF(ABS(SUM(Y25:AB25))<0.05,"—",SUM(Y25:AB25)) -> — | F25: =IF(ABS(SUM(AD25:AG25))<0.05,"—",SUM(AD25:AG25)) -> — | G25: =IF(ABS(SUM(AD25:AF25))<0.05,"—",SUM(AD25:AF25)) -> — | H25: =IF(ABS(SUM(AI25:AK25))<0.05,"—",SUM(AI25:AK25)) -> 258.74414 | J25: ='bop_dt 6'!J144 -> 0 | K25: ='bop_dt 6'!K144 -> 0 | L25: ='bop_dt 6'!L144 -> 0 | M25: ='bop_dt 6'!M144 -> 0 | N25: ='bop_dt 6'!N144 -> 0 | O25: ='bop_dt 6'!O144 -> 0 | P25: ='bop_dt 6'!P144 -> 0 | Q25: ='bop_dt 6'!Q144 -> 0 | ... W25: ='bop_dt 6'!W144 -> 0 | Y25: ='bop_dt 6'!Y144 -> 0 | Z25: ='bop_dt 6'!Z144 -> 0 | AA25: ='bop_dt 6'!AA144 -> 0 | AB25: ='bop_dt 6'!AB144 -> 0 | AD25: ='bop_dt 6'!AD144 -> 0 | AE25: ='bop_dt 6'!AE144 -> 0 | AF25: ='bop_dt 6'!AF144 -> 0 | AG25: ='bop_dt 6'!AG144 -> 0 | AH25: ='bop_dt 6'!AH144 -> 0 | AI25: ='bop_dt 6'!AI144 -> -10.293771 | AJ25: ='bop_dt 6'!AJ144 -> 123.53265 | AK25: ='bop_dt 6'!AK144 -> 145.50526 | AL25: ='bop_dt 6'!AL144 -> 7.2281634 | AN25: Доходы к выплате
A26: Вторичные доходы | B26: =IF(ABS(SUM(J26:M26))<0.05,"—",SUM(J26:M26)) -> — | C26: =IF(ABS(SUM(O26:R26))<0.05,"—",SUM(O26:R26)) -> — | D26: =IF(ABS(SUM(T26:W26))<0.05,"—",SUM(T26:W26)) -> — | E26: =IF(ABS(SUM(Y26:AB26))<0.05,"—",SUM(Y26:AB26)) -> — | F26: =IF(ABS(SUM(AD26:AG26))<0.05,"—",SUM(AD26:AG26)) -> — | G26: =IF(ABS(SUM(AD26:AF26))<0.05,"—",SUM(AD26:AF26)) -> — | H26: =IF(ABS(SUM(AI26:AK26))<0.05,"—",SUM(AI26:AK26)) -> 1644.8487 | J26: =J27-J28 -> 0 | K26: =K27-K28 -> 0 | L26: =L27-L28 -> 0 | M26: =M27-M28 -> 0 | N26: ='bop_dt 6'!N190 -> 0 | O26: =O27-O28 -> 0 | P26: =P27-P28 -> 0 | Q26: =Q27-Q28 -> 0 | R26: =R27-R28 -> 0 | S26: ='bop_dt 6'!S190 -> 0 | T26: =T27-T28 -> 0 | U26: =U27-U28 -> 0 | V26: =V27-V28 -> 0 | W26: =W27-W28 -> 0 | Y26: =Y27-Y28 -> 0 | Z26: =Z27-Z28 -> 0 | AA26: =AA27-AA28 -> 0 | AB26: =AB27-AB28 -> 0 | AD26: =AD27-AD28 -> 0 | AE26: =AE27-AE28 -> 0 | AF26: =AF27-AF28 -> 0 | AG26: =AG27-AG28 -> 0 | AH26: ='bop_dt 6'!AH190 -> 0 | AI26: =AI27-AI28 -> 408.99436 | AJ26: =AJ27-AJ28 -> 497.58052 | AK26: =AK27-AK28 -> 738.27383 | AL26: =AL27-AL28 -> 601.26464 | AN26: Вторичные доходы
A27: К получению | B27: =IF(ABS(SUM(J27:M27))<0.05,"—",SUM(J27:M27)) -> — | C27: =IF(ABS(SUM(O27:R27))<0.05,"—",SUM(O27:R27)) -> — | D27: =IF(ABS(SUM(T27:W27))<0.05,"—",SUM(T27:W27)) -> — | E27: =IF(ABS(SUM(Y27:AB27))<0.05,"—",SUM(Y27:AB27)) -> — | F27: =IF(ABS(SUM(AD27:AG27))<0.05,"—",SUM(AD27:AG27)) -> — | G27: =IF(ABS(SUM(AD27:AF27))<0.05,"—",SUM(AD27:AF27)) -> — | H27: =IF(ABS(SUM(AI27:AK27))<0.05,"—",SUM(AI27:AK27)) -> 2003.2731 | J27: ='bop_dt 6'!J191 -> 0 | K27: ='bop_dt 6'!K191 -> 0 | L27: ='bop_dt 6'!L191 -> 0 | M27: ='bop_dt 6'!M191 -> 0 | N27: ='bop_dt 6'!N191 -> 0 | O27: ='bop_dt 6'!O191 -> 0 | P27: ='bop_dt 6'!P191 -> 0 | Q27: ='bop_dt 6'!Q191 -> 0 | ... W27: ='bop_dt 6'!W191 -> 0 | Y27: ='bop_dt 6'!Y191 -> 0 | Z27: ='bop_dt 6'!Z191 -> 0 | AA27: ='bop_dt 6'!AA191 -> 0 | AB27: ='bop_dt 6'!AB191 -> 0 | AD27: ='bop_dt 6'!AD191 -> 0 | AE27: ='bop_dt 6'!AE191 -> 0 | AF27: ='bop_dt 6'!AF191 -> 0 | AG27: ='bop_dt 6'!AG191 -> 0 | AH27: ='bop_dt 6'!AH191 -> 0 | AI27: ='bop_dt 6'!AI191 -> 524.4509 | AJ27: ='bop_dt 6'!AJ191 -> 597.84335 | AK27: ='bop_dt 6'!AK191 -> 880.97881 | AL27: ='bop_dt 6'!AL191 -> 741.39705 | AN27: К получению
A28: К выплате | B28: =IF(ABS(SUM(J28:M28))<0.05,"—",SUM(J28:M28)) -> — | C28: =IF(ABS(SUM(O28:R28))<0.05,"—",SUM(O28:R28)) -> — | D28: =IF(ABS(SUM(T28:W28))<0.05,"—",SUM(T28:W28)) -> — | E28: =IF(ABS(SUM(Y28:AB28))<0.05,"—",SUM(Y28:AB28)) -> — | F28: =IF(ABS(SUM(AD28:AG28))<0.05,"—",SUM(AD28:AG28)) -> — | G28: =IF(ABS(SUM(AD28:AF28))<0.05,"—",SUM(AD28:AF28)) -> — | H28: =IF(ABS(SUM(AI28:AK28))<0.05,"—",SUM(AI28:AK28)) -> 358.42435 | J28: ='bop_dt 6'!J192 -> 0 | K28: ='bop_dt 6'!K192 -> 0 | L28: ='bop_dt 6'!L192 -> 0 | M28: ='bop_dt 6'!M192 -> 0 | N28: ='bop_dt 6'!N192 -> 0 | O28: ='bop_dt 6'!O192 -> 0 | P28: ='bop_dt 6'!P192 -> 0 | Q28: ='bop_dt 6'!Q192 -> 0 | ... W28: ='bop_dt 6'!W192 -> 0 | Y28: ='bop_dt 6'!Y192 -> 0 | Z28: ='bop_dt 6'!Z192 -> 0 | AA28: ='bop_dt 6'!AA192 -> 0 | AB28: ='bop_dt 6'!AB192 -> 0 | AD28: ='bop_dt 6'!AD192 -> 0 | AE28: ='bop_dt 6'!AE192 -> 0 | AF28: ='bop_dt 6'!AF192 -> 0 | AG28: ='bop_dt 6'!AG192 -> 0 | AH28: ='bop_dt 6'!AH192 -> 0 | AI28: ='bop_dt 6'!AI192 -> 115.45653 | AJ28: ='bop_dt 6'!AJ192 -> 100.26284 | AK28: ='bop_dt 6'!AK192 -> 142.70498 | AL28: ='bop_dt 6'!AL192 -> 140.13241 | AN28: К выплате
A29: Счет операций с капиталом | B29: =IF(ABS(SUM(J29:M29))<0.05,"—",SUM(J29:M29)) -> — | C29: =IF(ABS(SUM(O29:R29))<0.05,"—",SUM(O29:R29)) -> — | D29: =IF(ABS(SUM(T29:W29))<0.05,"—",SUM(T29:W29)) -> — | E29: =IF(ABS(SUM(Y29:AB29))<0.05,"—",SUM(Y29:AB29)) -> — | F29: =IF(ABS(SUM(AD29:AG29))<0.05,"—",SUM(AD29:AG29)) -> — | G29: =IF(ABS(SUM(AD29:AF29))<0.05,"—",SUM(AD29:AF29)) -> — | H29: =IF(ABS(SUM(AI29:AK29))<0.05,"—",SUM(AI29:AK29)) -> 46.70432 | J29: =J30-J31 -> 0 | K29: =K30-K31 -> 0 | L29: =L30-L31 -> 0 | M29: =M30-M31 -> 0 | N29: ='bop_dt 6'!N208 -> 0 | O29: =O30-O31 -> 0 | P29: =P30-P31 -> 0 | Q29: =Q30-Q31 -> 0 | R29: =R30-R31 -> 0 | S29: ='bop_dt 6'!S208 -> 0 | T29: =T30-T31 -> 0 | U29: =U30-U31 -> 0 | V29: =V30-V31 -> 0 | W29: =W30-W31 -> 0 | Y29: =Y30-Y31 -> 0 | Z29: =Z30-Z31 -> 0 | AA29: =AA30-AA31 -> 0 | AB29: =AB30-AB31 -> 0 | AD29: =AD30-AD31 -> 0 | AE29: =AE30-AE31 -> 0 | AF29: =AF30-AF31 -> 0 | AG29: =AG30-AG31 -> 0 | AH29: ='bop_dt 6'!AH208 -> 0 | AI29: =AI30-AI31 -> 10.400601 | AJ29: =AJ30-AJ31 -> 16.54236 | AK29: =AK30-AK31 -> 19.761359 | AL29: =AL30-AL31 -> 33.055845 | AN29: Счет операций с капиталом
A30: К получению | B30: =IF(ABS(SUM(J30:M30))<0.05,"—",SUM(J30:M30)) -> — | C30: =IF(ABS(SUM(O30:R30))<0.05,"—",SUM(O30:R30)) -> — | D30: =IF(ABS(SUM(T30:W30))<0.05,"—",SUM(T30:W30)) -> — | E30: =IF(ABS(SUM(Y30:AB30))<0.05,"—",SUM(Y30:AB30)) -> — | F30: =IF(ABS(SUM(AD30:AG30))<0.05,"—",SUM(AD30:AG30)) -> — | G30: =IF(ABS(SUM(AD30:AF30))<0.05,"—",SUM(AD30:AF30)) -> — | H30: =IF(ABS(SUM(AI30:AK30))<0.05,"—",SUM(AI30:AK30)) -> 56.144546 | J30: ='bop_dt 6'!J209 -> 0 | K30: ='bop_dt 6'!K209 -> 0 | L30: ='bop_dt 6'!L209 -> 0 | M30: ='bop_dt 6'!M209 -> 0 | N30: ='bop_dt 6'!N209 -> 0 | O30: ='bop_dt 6'!O209 -> 0 | P30: ='bop_dt 6'!P209 -> 0 | Q30: ='bop_dt 6'!Q209 -> 0 | ... W30: ='bop_dt 6'!W209 -> 0 | Y30: ='bop_dt 6'!Y209 -> 0 | Z30: ='bop_dt 6'!Z209 -> 0 | AA30: ='bop_dt 6'!AA209 -> 0 | AB30: ='bop_dt 6'!AB209 -> 0 | AD30: ='bop_dt 6'!AD209 -> 0 | AE30: ='bop_dt 6'!AE209 -> 0 | AF30: ='bop_dt 6'!AF209 -> 0 | AG30: ='bop_dt 6'!AG209 -> 0 | AH30: ='bop_dt 6'!AH209 -> 0 | AI30: ='bop_dt 6'!AI209 -> 14.657216 | AJ30: ='bop_dt 6'!AJ209 -> 17.689281 | AK30: ='bop_dt 6'!AK209 -> 23.798048 | AL30: ='bop_dt 6'!AL209 -> 37.383403 | AN30: К получению
A31: К выплате | B31: =IF(ABS(SUM(J31:M31))<0.05,"—",SUM(J31:M31)) -> — | C31: =IF(ABS(SUM(O31:R31))<0.05,"—",SUM(O31:R31)) -> — | D31: =IF(ABS(SUM(T31:W31))<0.05,"—",SUM(T31:W31)) -> — | E31: =IF(ABS(SUM(Y31:AB31))<0.05,"—",SUM(Y31:AB31)) -> — | F31: =IF(ABS(SUM(AD31:AG31))<0.05,"—",SUM(AD31:AG31)) -> — | G31: =IF(ABS(SUM(AD31:AF31))<0.05,"—",SUM(AD31:AF31)) -> — | H31: =IF(ABS(SUM(AI31:AK31))<0.05,"—",SUM(AI31:AK31)) -> 9.4402259 | J31: ='bop_dt 6'!J210 -> 0 | K31: ='bop_dt 6'!K210 -> 0 | L31: ='bop_dt 6'!L210 -> 0 | M31: ='bop_dt 6'!M210 -> 0 | N31: ='bop_dt 6'!N210 -> 0 | O31: ='bop_dt 6'!O210 -> 0 | P31: ='bop_dt 6'!P210 -> 0 | Q31: ='bop_dt 6'!Q210 -> 0 | ... W31: ='bop_dt 6'!W210 -> 0 | Y31: ='bop_dt 6'!Y210 -> 0 | Z31: ='bop_dt 6'!Z210 -> 0 | AA31: ='bop_dt 6'!AA210 -> 0 | AB31: ='bop_dt 6'!AB210 -> 0 | AD31: ='bop_dt 6'!AD210 -> 0 | AE31: ='bop_dt 6'!AE210 -> 0 | AF31: ='bop_dt 6'!AF210 -> 0 | AG31: ='bop_dt 6'!AG210 -> 0 | AH31: ='bop_dt 6'!AH210 -> 0 | AI31: ='bop_dt 6'!AI210 -> 4.2566149 | AJ31: ='bop_dt 6'!AJ210 -> 1.1469212 | AK31: ='bop_dt 6'!AK210 -> 4.0366898 | AL31: ='bop_dt 6'!AL210 -> 4.3275585 | AN31: К выплате
A32: Чистое кредитование (+)/ чистое заимствование (-) (сальдо по данным счета текущих операций и счета операций с капиталом) | B32: =IF(ABS(SUM(J32:M32))<0.05,"—",SUM(J32:M32)) -> — | C32: =IF(ABS(SUM(O32:R32))<0.05,"—",SUM(O32:R32)) -> — | D32: =IF(ABS(SUM(T32:W32))<0.05,"—",SUM(T32:W32)) -> — | E32: =IF(ABS(SUM(Y32:AB32))<0.05,"—",SUM(Y32:AB32)) -> — | F32: =IF(ABS(SUM(AD32:AG32))<0.05,"—",SUM(AD32:AG32)) -> — | G32: =IF(ABS(SUM(AD32:AF32))<0.05,"—",SUM(AD32:AF32)) -> — | H32: =IF(ABS(SUM(AI32:AK32))<0.05,"—",SUM(AI32:AK32)) -> 383.53792 | J32: =J6+J29 -> 0 | K32: =K6+K29 -> 0 | L32: =L6+L29 -> 0 | M32: =M6+M29 -> 0 | N32: ='bop_dt 6'!N223 -> 0 | O32: =O6+O29 -> 0 | P32: =P6+P29 -> 0 | Q32: =Q6+Q29 -> 0 | R32: =R6+R29 -> 0 | S32: ='bop_dt 6'!S223 -> 0 | T32: =T6+T29 -> 0 | U32: =U6+U29 -> 0 | V32: =V6+V29 -> 0 | W32: =W6+W29 -> 0 | Y32: =Y6+Y29 -> 0 | Z32: =Z6+Z29 -> 0 | AA32: =AA6+AA29 -> 0 | AB32: =AB6+AB29 -> 0 | AD32: =AD6+AD29 -> 0 | AE32: =AE6+AE29 -> 0 | AF32: =AF6+AF29 -> 0 | AG32: =AG6+AG29 -> 0 | AH32: ='bop_dt 6'!AH223 -> 0 | AI32: =AI6+AI29 -> -17.002439 | AJ32: =AJ6+AJ29 -> 208.02369 | AK32: =AK6+AK29 -> 192.51668 | AL32: =AL6+AL29 -> 70.479246 | AN32: Чистое кредитование (+)/ чистое заимствование (-) (сальдо по данным счета текущих операций и счета операций с капиталом)
A33: Финансовый счет | B33: =IF(ABS(SUM(J33:M33))<0.05,"—",SUM(J33:M33)) -> — | C33: =IF(ABS(SUM(O33:R33))<0.05,"—",SUM(O33:R33)) -> — | D33: =IF(ABS(SUM(T33:W33))<0.05,"—",SUM(T33:W33)) -> — | E33: =IF(ABS(SUM(Y33:AB33))<0.05,"—",SUM(Y33:AB33)) -> — | F33: =IF(ABS(SUM(AD33:AG33))<0.05,"—",SUM(AD33:AG33)) -> — | G33: =IF(ABS(SUM(AD33:AF33))<0.05,"—",SUM(AD33:AF33)) -> — | H33: =IF(ABS(SUM(AI33:AK33))<0.05,"—",SUM(AI33:AK33)) -> 215.6872 | J33: =J35+J38+J41+J44 -> 0 | K33: =K35+K38+K41+K44 -> 0 | L33: =L35+L38+L41+L44 -> 0 | M33: =M35+M38+M41+M44 -> 0 | N33: ='bop_dt 6'!N224 -> 0 | O33: =O35+O38+O41+O44 -> 0 | P33: =P35+P38+P41+P44 -> 0 | Q33: =Q35+Q38+Q41+Q44 -> 0 | R33: =R35+R38+R41+R44 -> 0 | S33: ='bop_dt 6'!S224 -> 0 | T33: =T35+T38+T41+T44 -> 0 | U33: =U35+U38+U41+U44 -> 0 | V33: =V35+V38+V41+V44 -> 0 | W33: =W35+W38+W41+W44 -> 0 | Y33: =Y35+Y38+Y41+Y44 -> 0 | Z33: =Z35+Z38+Z41+Z44 -> 0 | AA33: =AA35+AA38+AA41+AA44 -> 0 | AB33: =AB35+AB38+AB41+AB44 -> 0 | AD33: =AD35+AD38+AD41+AD44 -> 0 | AE33: =AE35+AE38+AE41+AE44 -> 0 | AF33: =AF35+AF38+AF41+AF44 -> 0 | AG33: =AG35+AG38+AG41+AG44 -> 0 | AH33: ='bop_dt 6'!AH224 -> 0 | AI33: =AI35+AI38+AI41+AI44 -> 418.03032 | AJ33: =AJ35+AJ38+AJ41+AJ44 -> -199.98639 | AK33: =AK35+AK38+AK41+AK44 -> -2.3567254 | AL33: =AL35+AL38+AL41+AL44 -> #VALUE! | AN33: Финансовый счет
A34: Чистое кредитование (+)/ чистое заимствование (-) (сальдо по данным финансового счета)* | B34: =IF(ABS(SUM(J34:M34))<0.05,"—",SUM(J34:M34)) -> — | C34: =IF(ABS(SUM(O34:R34))<0.05,"—",SUM(O34:R34)) -> — | D34: =IF(ABS(SUM(T34:W34))<0.05,"—",SUM(T34:W34)) -> — | E34: =IF(ABS(SUM(Y34:AB34))<0.05,"—",SUM(Y34:AB34)) -> — | F34: =IF(ABS(SUM(AD34:AG34))<0.05,"—",SUM(AD34:AG34)) -> — | G34: =IF(ABS(SUM(AD34:AF34))<0.05,"—",SUM(AD34:AF34)) -> — | H34: =IF(ABS(SUM(AI34:AK34))<0.05,"—",SUM(AI34:AK34)) -> 215.6872 | J34: =J35+J38+J41+J44 -> 0 | K34: =K35+K38+K41+K44 -> 0 | L34: =L35+L38+L41+L44 -> 0 | M34: =M35+M38+M41+M44 -> 0 | N34: =N35+N38+N41+N44 -> 0 | O34: =O35+O38+O41+O44 -> 0 | P34: =P35+P38+P41+P44 -> 0 | Q34: =Q35+Q38+Q41+Q44 -> 0 | ... W34: =W35+W38+W41+W44 -> 0 | Y34: =Y35+Y38+Y41+Y44 -> 0 | Z34: =Z35+Z38+Z41+Z44 -> 0 | AA34: =AA35+AA38+AA41+AA44 -> 0 | AB34: =AB35+AB38+AB41+AB44 -> 0 | AD34: =AD35+AD38+AD41+AD44 -> 0 | AE34: =AE35+AE38+AE41+AE44 -> 0 | AF34: =AF35+AF38+AF41+AF44 -> 0 | AG34: =AG35+AG38+AG41+AG44 -> 0 | AH34: =AH35+AH38+AH41+AH44 -> 0 | AI34: =AI35+AI38+AI41+AI44 -> 418.03032 | AJ34: =AJ35+AJ38+AJ41+AJ44 -> -199.98639 | AK34: =AK35+AK38+AK41+AK44 -> -2.3567254 | AL34: =AL35+AL38+AL41+AL44 -> #VALUE! | AN34: Чистое кредитование (+)/ чистое заимствование (-) (сальдо по данным финансового счета)*
A35: Прямые инвестиции | B35: =IF(ABS(SUM(J35:M35))<0.05,"—",SUM(J35:M35)) -> — | C35: =IF(ABS(SUM(O35:R35))<0.05,"—",SUM(O35:R35)) -> — | D35: =IF(ABS(SUM(T35:W35))<0.05,"—",SUM(T35:W35)) -> — | E35: =IF(ABS(SUM(Y35:AB35))<0.05,"—",SUM(Y35:AB35)) -> — | F35: =IF(ABS(SUM(AD35:AG35))<0.05,"—",SUM(AD35:AG35)) -> — | G35: =IF(ABS(SUM(AD35:AF35))<0.05,"—",SUM(AD35:AF35)) -> — | H35: =IF(ABS(SUM(AI35:AK35))<0.05,"—",SUM(AI35:AK35)) -> 419.6166 | J35: =J36-J37 -> 0 | K35: =K36-K37 -> 0 | L35: =L36-L37 -> 0 | M35: =M36-M37 -> 0 | N35: ='bop_dt 6'!N226 -> 0 | O35: =O36-O37 -> 0 | P35: =P36-P37 -> 0 | Q35: =Q36-Q37 -> 0 | R35: =R36-R37 -> 0 | S35: ='bop_dt 6'!S226 -> 0 | T35: =T36-T37 -> 0 | U35: =U36-U37 -> 0 | V35: =V36-V37 -> 0 | W35: =W36-W37 -> 0 | Y35: =Y36-Y37 -> 0 | Z35: =Z36-Z37 -> 0 | AA35: =AA36-AA37 -> 0 | AB35: =AB36-AB37 -> 0 | AD35: =AD36-AD37 -> 0 | AE35: =AE36-AE37 -> 0 | AF35: =AF36-AF37 -> 0 | AG35: =AG36-AG37 -> 0 | AH35: ='bop_dt 6'!AH226 -> 0 | AI35: =AI36-AI37 -> 345.1996 | AJ35: =AJ36-AJ37 -> 57.5515 | AK35: =AK36-AK37 -> 16.8655 | AL35: =AL36-AL37 -> 162.7886 | AN35: Прямые инвестиции
A36: Чистое приобретение финансовых активов | B36: =IF(ABS(SUM(J36:M36))<0.05,"—",SUM(J36:M36)) -> — | C36: =IF(ABS(SUM(O36:R36))<0.05,"—",SUM(O36:R36)) -> — | D36: =IF(ABS(SUM(T36:W36))<0.05,"—",SUM(T36:W36)) -> — | E36: =IF(ABS(SUM(Y36:AB36))<0.05,"—",SUM(Y36:AB36)) -> — | F36: =IF(ABS(SUM(AD36:AG36))<0.05,"—",SUM(AD36:AG36)) -> — | G36: =IF(ABS(SUM(AD36:AF36))<0.05,"—",SUM(AD36:AF36)) -> — | H36: =IF(ABS(SUM(AI36:AK36))<0.05,"—",SUM(AI36:AK36)) -> 98.8923 | J36: ='bop_dt 6'!J227 -> 0 | K36: ='bop_dt 6'!K227 -> 0 | L36: ='bop_dt 6'!L227 -> 0 | M36: ='bop_dt 6'!M227 -> 0 | N36: ='bop_dt 6'!N227 -> 0 | O36: ='bop_dt 6'!O227 -> 0 | P36: ='bop_dt 6'!P227 -> 0 | Q36: ='bop_dt 6'!Q227 -> 0 | ... W36: ='bop_dt 6'!W227 -> 0 | Y36: ='bop_dt 6'!Y227 -> 0 | Z36: ='bop_dt 6'!Z227 -> 0 | AA36: ='bop_dt 6'!AA227 -> 0 | AB36: ='bop_dt 6'!AB227 -> 0 | AD36: ='bop_dt 6'!AD227 -> 0 | AE36: ='bop_dt 6'!AE227 -> 0 | AF36: ='bop_dt 6'!AF227 -> 0 | AG36: ='bop_dt 6'!AG227 -> 0 | AH36: ='bop_dt 6'!AH227 -> 0 | AI36: ='bop_dt 6'!AI227 -> 80.2895 | AJ36: ='bop_dt 6'!AJ227 -> -117.0153 | AK36: ='bop_dt 6'!AK227 -> 135.6181 | AL36: ='bop_dt 6'!AL227 -> 81.9943 | AN36: Чистое приобретение финансовых активов
A37: Чистое принятие обязательств | B37: =IF(ABS(SUM(J37:M37))<0.05,"—",SUM(J37:M37)) -> — | C37: =IF(ABS(SUM(O37:R37))<0.05,"—",SUM(O37:R37)) -> — | D37: =IF(ABS(SUM(T37:W37))<0.05,"—",SUM(T37:W37)) -> — | E37: =IF(ABS(SUM(Y37:AB37))<0.05,"—",SUM(Y37:AB37)) -> — | F37: =IF(ABS(SUM(AD37:AG37))<0.05,"—",SUM(AD37:AG37)) -> — | G37: =IF(ABS(SUM(AD37:AF37))<0.05,"—",SUM(AD37:AF37)) -> — | H37: =IF(ABS(SUM(AI37:AK37))<0.05,"—",SUM(AI37:AK37)) -> -320.7243 | J37: ='bop_dt 6'!J232 -> 0 | K37: ='bop_dt 6'!K232 -> 0 | L37: ='bop_dt 6'!L232 -> 0 | M37: ='bop_dt 6'!M232 -> 0 | N37: ='bop_dt 6'!N232 -> 0 | O37: ='bop_dt 6'!O232 -> 0 | P37: ='bop_dt 6'!P232 -> 0 | Q37: ='bop_dt 6'!Q232 -> 0 | ... W37: ='bop_dt 6'!W232 -> 0 | Y37: ='bop_dt 6'!Y232 -> 0 | Z37: ='bop_dt 6'!Z232 -> 0 | AA37: ='bop_dt 6'!AA232 -> 0 | AB37: ='bop_dt 6'!AB232 -> 0 | AD37: ='bop_dt 6'!AD232 -> 0 | AE37: ='bop_dt 6'!AE232 -> 0 | AF37: ='bop_dt 6'!AF232 -> 0 | AG37: ='bop_dt 6'!AG232 -> 0 | AH37: ='bop_dt 6'!AH232 -> 0 | AI37: ='bop_dt 6'!AI232 -> -264.9101 | AJ37: ='bop_dt 6'!AJ232 -> -174.5668 | AK37: ='bop_dt 6'!AK232 -> 118.7526 | AL37: ='bop_dt 6'!AL232 -> -80.7943 | AN37: Чистое принятие обязательств
A38: Портфельные инвестиции | B38: =IF(ABS(SUM(J38:M38))<0.05,"—",SUM(J38:M38)) -> — | C38: =IF(ABS(SUM(O38:R38))<0.05,"—",SUM(O38:R38)) -> — | D38: =IF(ABS(SUM(T38:W38))<0.05,"—",SUM(T38:W38)) -> — | E38: =IF(ABS(SUM(Y38:AB38))<0.05,"—",SUM(Y38:AB38)) -> — | F38: =IF(ABS(SUM(AD38:AG38))<0.05,"—",SUM(AD38:AG38)) -> — | G38: =IF(ABS(SUM(AD38:AF38))<0.05,"—",SUM(AD38:AF38)) -> — | H38: =IF(ABS(SUM(AI38:AK38))<0.05,"—",SUM(AI38:AK38)) -> -15.224018 | J38: =J39-J40 -> 0 | K38: =K39-K40 -> 0 | L38: =L39-L40 -> 0 | M38: =M39-M40 -> 0 | N38: ='bop_dt 6'!N243 -> 0 | O38: =O39-O40 -> 0 | P38: =P39-P40 -> 0 | Q38: =Q39-Q40 -> 0 | R38: =R39-R40 -> 0 | S38: ='bop_dt 6'!S243 -> 0 | T38: =T39-T40 -> 0 | U38: =U39-U40 -> 0 | V38: =V39-V40 -> 0 | W38: =W39-W40 -> 0 | Y38: =Y39-Y40 -> 0 | Z38: =Z39-Z40 -> 0 | AA38: =AA39-AA40 -> 0 | AB38: =AB39-AB40 -> 0 | AD38: =AD39-AD40 -> 0 | AE38: =AE39-AE40 -> 0 | AF38: =AF39-AF40 -> 0 | AG38: =AG39-AG40 -> 0 | AH38: ='bop_dt 6'!AH243 -> 0 | AI38: =AI39-AI40 -> -15.049864 | AJ38: =AJ39-AJ40 -> -0.084644826 | AK38: =AK39-AK40 -> -0.089509284 | AL38: =AL39-AL40 -> #VALUE! | AN38: Портфельные инвестиции
A39: Чистое приобретение финансовых активов | B39: =IF(ABS(SUM(J39:M39))<0.05,"—",SUM(J39:M39)) -> — | C39: =IF(ABS(SUM(O39:R39))<0.05,"—",SUM(O39:R39)) -> — | D39: =IF(ABS(SUM(T39:W39))<0.05,"—",SUM(T39:W39)) -> — | E39: =IF(ABS(SUM(Y39:AB39))<0.05,"—",SUM(Y39:AB39)) -> — | F39: =IF(ABS(SUM(AD39:AG39))<0.05,"—",SUM(AD39:AG39)) -> — | G39: =IF(ABS(SUM(AD39:AF39))<0.05,"—",SUM(AD39:AF39)) -> — | H39: =IF(ABS(SUM(AI39:AK39))<0.05,"—",SUM(AI39:AK39)) -> -14.9582 | J39: ='bop_dt 6'!J244 -> 0 | K39: ='bop_dt 6'!K244 -> 0 | L39: ='bop_dt 6'!L244 -> 0 | M39: ='bop_dt 6'!M244 -> 0 | N39: ='bop_dt 6'!N244 -> 0 | O39: ='bop_dt 6'!O244 -> 0 | P39: ='bop_dt 6'!P244 -> 0 | Q39: ='bop_dt 6'!Q244 -> 0 | ... W39: ='bop_dt 6'!W244 -> 0 | Y39: ='bop_dt 6'!Y244 -> 0 | Z39: ='bop_dt 6'!Z244 -> 0 | AA39: ='bop_dt 6'!AA244 -> 0 | AB39: ='bop_dt 6'!AB244 -> 0 | AD39: ='bop_dt 6'!AD244 -> 0 | AE39: ='bop_dt 6'!AE244 -> 0 | AF39: ='bop_dt 6'!AF244 -> 0 | AG39: ='bop_dt 6'!AG244 -> 0 | AH39: ='bop_dt 6'!AH244 -> 0 | AI39: ='bop_dt 6'!AI244 -> -14.9582 | AJ39: ='bop_dt 6'!AJ244 -> 0 | AK39: ='bop_dt 6'!AK244 -> 0 | AL39: ='bop_dt 6'!AL244 -> — | AN39: Чистое приобретение финансовых активов
A40: Чистое принятие обязательств | B40: =IF(ABS(SUM(J40:M40))<0.05,"—",SUM(J40:M40)) -> — | C40: =IF(ABS(SUM(O40:R40))<0.05,"—",SUM(O40:R40)) -> — | D40: =IF(ABS(SUM(T40:W40))<0.05,"—",SUM(T40:W40)) -> — | E40: =IF(ABS(SUM(Y40:AB40))<0.05,"—",SUM(Y40:AB40)) -> — | F40: =IF(ABS(SUM(AD40:AG40))<0.05,"—",SUM(AD40:AG40)) -> — | G40: =IF(ABS(SUM(AD40:AF40))<0.05,"—",SUM(AD40:AF40)) -> — | H40: =IF(ABS(SUM(AI40:AK40))<0.05,"—",SUM(AI40:AK40)) -> 0.26581772 | J40: ='bop_dt 6'!J255 -> 0 | K40: ='bop_dt 6'!K255 -> 0 | L40: ='bop_dt 6'!L255 -> 0 | M40: ='bop_dt 6'!M255 -> 0 | N40: ='bop_dt 6'!N255 -> 0 | O40: ='bop_dt 6'!O255 -> 0 | P40: ='bop_dt 6'!P255 -> 0 | Q40: ='bop_dt 6'!Q255 -> 0 | ... W40: ='bop_dt 6'!W255 -> 0 | Y40: ='bop_dt 6'!Y255 -> 0 | Z40: ='bop_dt 6'!Z255 -> 0 | AA40: ='bop_dt 6'!AA255 -> 0 | AB40: ='bop_dt 6'!AB255 -> 0 | AD40: ='bop_dt 6'!AD255 -> 0 | AE40: ='bop_dt 6'!AE255 -> 0 | AF40: ='bop_dt 6'!AF255 -> 0 | AG40: ='bop_dt 6'!AG255 -> 0 | AH40: ='bop_dt 6'!AH255 -> 0 | AI40: ='bop_dt 6'!AI255 -> 0.091663607 | AJ40: ='bop_dt 6'!AJ255 -> 0.084644826 | AK40: ='bop_dt 6'!AK255 -> 0.089509284 | AL40: ='bop_dt 6'!AL255 -> -0.15372362 | AN40: Чистое принятие обязательств
...

Sheet bop_dt 6
A1: Таблица I.1. Платежный баланс Кыргызской Республики
A2: (аналитическое представление)
A3: (млн долларов США) | J3: 1 | K3: 2 | L3: 3 | M3: 4 | N3: 5 | O3: 6 | P3: 7 | Q3: 8 | R3: 9 | S3: 10 | T3: 11 | U3: 12 | V3: 13 | W3: 14 | X3: 15 | Y3: 16 | Z3: 17 | AA3: 18 | AB3: 19 | AC3: 20 | AD3: 21 | AE3: 22 | AF3: 23 | AG3: 24 | AH3: 25 | AI3: 26 | AJ3: 27 | AK3: 28
B5: 2015 | C5: 2016 | D5: 2017 | E5: 2018 | F5: 2019 | G5: 2018 | H5: 2019 | J5: 2015 | O5: 2016 | T5: 2017 | Y5: 2018 | AD5: 2019 | AI5: 2020
G6: 9 мес. | H6: 9 мес. | J6: I | K6: II | L6: III | M6: IV | O6: I | P6: II | Q6: III | R6: IV | T6: I | U6: II | V6: III | W6: IV | Y6: I | Z6: II | AA6: III | AB6: IV | AD6: I | AE6: II | AF6: III | AG6: IV | AI6: I | AJ6: II | AK6: III | AL6: IV
A7: Счет текущих операций | B7: =IF(ABS(SUM(J7:M7))<0.05,"—",SUM(J7:M7)) -> — | C7: =IF(ABS(SUM(O7:R7))<0.05,"—",SUM(O7:R7)) -> — | D7: =IF(ABS(SUM(T7:W7))<0.05,"—",SUM(T7:W7)) -> — | E7: =IF(ABS(SUM(Y7:AB7))<0.05,"—",SUM(Y7:AB7)) -> — | F7: =IF(ABS(SUM(AD7:AG7))<0.05,"—",SUM(AD7:AG7)) -> — | G7: =IF(ABS(SUM(AD7:AF7))<0.05,"—",SUM(AD7:AF7)) -> — | H7: =IF(ABS(SUM(AI7:AK7))<0.05,"—",SUM(AI7:AK7)) -> 336.8336 | J7: 0 | K7: 0 | L7: 0 | M7: 0 | O7: 0 | P7: 0 | Q7: 0 | R7: 0 | T7: 0 | U7: 0 | V7: 0 | W7: 0 | Y7: 0 | Z7: 0 | AA7: 0 | AB7: 0 | AD7: 0 | AE7: 0 | AF7: 0 | AG7: 0 | AI7: -27.403041 | AJ7: 191.48133 | AK7: 172.75532 | AL7: 37.423401 | AN7: Счет текущих операций
A8: Товары и услуги | B8: =IF(ABS(SUM(J8:M8))<0.05,"—",SUM(J8:M8)) -> — | C8: =IF(ABS(SUM(O8:R8))<0.05,"—",SUM(O8:R8)) -> — | D8: =IF(ABS(SUM(T8:W8))<0.05,"—",SUM(T8:W8)) -> — | E8: =IF(ABS(SUM(Y8:AB8))<0.05,"—",SUM(Y8:AB8)) -> — | F8: =IF(ABS(SUM(AD8:AG8))<0.05,"—",SUM(AD8:AG8)) -> — | G8: =IF(ABS(SUM(AD8:AF8))<0.05,"—",SUM(AD8:AF8)) -> — | H8: =IF(ABS(SUM(AI8:AK8))<0.05,"—",SUM(AI8:AK8)) -> -1057.5499 | J8: 0 | K8: 0 | L8: 0 | M8: 0 | O8: 0 | P8: 0 | Q8: 0 | R8: 0 | T8: 0 | U8: 0 | V8: 0 | W8: 0 | Y8: 0 | Z8: 0 | AA8: 0 | AB8: 0 | AD8: 0 | AE8: 0 | AF8: 0 | AG8: 0 | AI8: -450.3614 | AJ8: -185.01453 | AK8: -422.174 | AL8: -557.88203 | AN8: Товары и услуги
A9: экспорт | B9: =IF(ABS(SUM(J9:M9))<0.05,"—",SUM(J9:M9)) -> — | C9: =IF(ABS(SUM(O9:R9))<0.05,"—",SUM(O9:R9)) -> — | D9: =IF(ABS(SUM(T9:W9))<0.05,"—",SUM(T9:W9)) -> — | E9: =IF(ABS(SUM(Y9:AB9))<0.05,"—",SUM(Y9:AB9)) -> — | F9: =IF(ABS(SUM(AD9:AG9))<0.05,"—",SUM(AD9:AG9)) -> — | G9: =IF(ABS(SUM(AD9:AF9))<0.05,"—",SUM(AD9:AF9)) -> — | H9: =IF(ABS(SUM(AI9:AK9))<0.05,"—",SUM(AI9:AK9)) -> 1891.1628 | J9: 0 | K9: 0 | L9: 0 | M9: 0 | O9: 0 | P9: 0 | Q9: 0 | R9: 0 | T9: 0 | U9: 0 | V9: 0 | W9: 0 | Y9: 0 | Z9: 0 | AA9: 0 | AB9: 0 | AD9: 0 | AE9: 0 | AF9: 0 | AG9: 0 | AI9: 658.54838 | AJ9: 587.11518 | AK9: 645.49925 | AL9: 544.25498 | AN9: экспорт
A10: импорт | B10: =IF(ABS(SUM(J10:M10))<0.05,"—",SUM(J10:M10)) -> — | C10: =IF(ABS(SUM(O10:R10))<0.05,"—",SUM(O10:R10)) -> — | D10: =IF(ABS(SUM(T10:W10))<0.05,"—",SUM(T10:W10)) -> — | E10: =IF(ABS(SUM(Y10:AB10))<0.05,"—",SUM(Y10:AB10)) -> — | F10: =IF(ABS(SUM(AD10:AG10))<0.05,"—",SUM(AD10:AG10)) -> — | G10: =IF(ABS(SUM(AD10:AF10))<0.05,"—",SUM(AD10:AF10)) -> — | H10: =IF(ABS(SUM(AI10:AK10))<0.05,"—",SUM(AI10:AK10)) -> 2948.7127 | J10: 0 | K10: 0 | L10: 0 | M10: 0 | O10: 0 | P10: 0 | Q10: 0 | R10: 0 | T10: 0 | U10: 0 | V10: 0 | W10: 0 | Y10: 0 | Z10: 0 | AA10: 0 | AB10: 0 | AD10: 0 | AE10: 0 | AF10: 0 | AG10: 0 | AI10: 1108.9098 | AJ10: 772.12971 | AK10: 1067.6732 | AL10: 1102.137 | AN10: импорт
A11: Товары | B11: =IF(ABS(SUM(J11:M11))<0.05,"—",SUM(J11:M11)) -> — | C11: =IF(ABS(SUM(O11:R11))<0.05,"—",SUM(O11:R11)) -> — | D11: =IF(ABS(SUM(T11:W11))<0.05,"—",SUM(T11:W11)) -> — | E11: =IF(ABS(SUM(Y11:AB11))<0.05,"—",SUM(Y11:AB11)) -> — | F11: =IF(ABS(SUM(AD11:AG11))<0.05,"—",SUM(AD11:AG11)) -> — | G11: =IF(ABS(SUM(AD11:AF11))<0.05,"—",SUM(AD11:AF11)) -> — | H11: =IF(ABS(SUM(AI11:AK11))<0.05,"—",SUM(AI11:AK11)) -> -930.87379 | J11: 0 | K11: 0 | L11: 0 | M11: 0 | O11: 0 | P11: 0 | Q11: 0 | R11: 0 | T11: 0 | U11: 0 | V11: 0 | W11: 0 | Y11: 0 | Z11: 0 | AA11: 0 | AB11: 0 | AD11: 0 | AE11: 0 | AF11: 0 | AG11: 0 | AI11: -443.17896 | AJ11: -121.14136 | AK11: -366.55347 | AL11: -508.70025 | AN11: Товары
A12: экспорт | B12: =IF(ABS(SUM(J12:M12))<0.05,"—",SUM(J12:M12)) -> — | C12: =IF(ABS(SUM(O12:R12))<0.05,"—",SUM(O12:R12)) -> — | D12: =IF(ABS(SUM(T12:W12))<0.05,"—",SUM(T12:W12)) -> — | E12: =IF(ABS(SUM(Y12:AB12))<0.05,"—",SUM(Y12:AB12)) -> — | F12: =IF(ABS(SUM(AD12:AG12))<0.05,"—",SUM(AD12:AG12)) -> — | G12: =IF(ABS(SUM(AD12:AF12))<0.05,"—",SUM(AD12:AF12)) -> — | H12: =IF(ABS(SUM(AI12:AK12))<0.05,"—",SUM(AI12:AK12)) -> 1562.5739 | J12: 0 | K12: 0 | L12: 0 | M12: 0 | O12: 0 | P12: 0 | Q12: 0 | R12: 0 | T12: 0 | U12: 0 | V12: 0 | W12: 0 | Y12: 0 | Z12: 0 | AA12: 0 | AB12: 0 | AD12: 0 | AE12: 0 | AF12: 0 | AG12: 0 | AI12: 493.86465 | AJ12: 517.66479 | AK12: 551.04444 | AL12: 444.60381 | AN12: экспорт
A13: импорт | B13: =IF(ABS(SUM(J13:M13))<0.05,"—",SUM(J13:M13)) -> — | C13: =IF(ABS(SUM(O13:R13))<0.05,"—",SUM(O13:R13)) -> — | D13: =IF(ABS(SUM(T13:W13))<0.05,"—",SUM(T13:W13)) -> — | E13: =IF(ABS(SUM(Y13:AB13))<0.05,"—",SUM(Y13:AB13)) -> — | F13: =IF(ABS(SUM(AD13:AG13))<0.05,"—",SUM(AD13:AG13)) -> — | G13: =IF(ABS(SUM(AD13:AF13))<0.05,"—",SUM(AD13:AF13)) -> — | H13: =IF(ABS(SUM(AI13:AK13))<0.05,"—",SUM(AI13:AK13)) -> 2493.4477 | J13: 0 | K13: 0 | L13: 0 | M13: 0 | O13: 0 | P13: 0 | Q13: 0 | R13: 0 | T13: 0 | U13: 0 | V13: 0 | W13: 0 | Y13: 0 | Z13: 0 | AA13: 0 | AB13: 0 | AD13: 0 | AE13: 0 | AF13: 0 | AG13: 0 | AI13: 937.04361 | AJ13: 638.80616 | AK13: 917.59791 | AL13: 953.30406 | AN13: импорт
A14: Экспорт/импорт товаров по методологии платежного баланса | B14: =IF(ABS(SUM(J14:M14))<0.05,"—",SUM(J14:M14)) -> — | C14: =IF(ABS(SUM(O14:R14))<0.05,"—",SUM(O14:R14)) -> — | D14: =IF(ABS(SUM(T14:W14))<0.05,"—",SUM(T14:W14)) -> — | E14: =IF(ABS(SUM(Y14:AB14))<0.05,"—",SUM(Y14:AB14)) -> — | F14: =IF(ABS(SUM(AD14:AG14))<0.05,"—",SUM(AD14:AG14)) -> — | G14: =IF(ABS(SUM(AD14:AF14))<0.05,"—",SUM(AD14:AF14)) -> — | H14: =IF(ABS(SUM(AI14:AK14))<0.05,"—",SUM(AI14:AK14)) -> -1738.5629 | J14: 0 | K14: 0 | L14: 0 | M14: 0 | O14: 0 | P14: 0 | Q14: 0 | R14: 0 | T14: 0 | U14: 0 | V14: 0 | W14: 0 | Y14: 0 | Z14: 0 | AA14: 0 | AB14: 0 | AD14: 0 | AE14: 0 | AF14: 0 | AG14: 0 | AI14: -656.07914 | AJ14: -446.31312 | AK14: -636.17062 | AL14: -688.00869 | AN14: Экспорт/импорт товаров по методологии платежного баланса
A15: экспорт | B15: =IF(ABS(SUM(J15:M15))<0.05,"—",SUM(J15:M15)) -> — | C15: =IF(ABS(SUM(O15:R15))<0.05,"—",SUM(O15:R15)) -> — | D15: =IF(ABS(SUM(T15:W15))<0.05,"—",SUM(T15:W15)) -> — | E15: =IF(ABS(SUM(Y15:AB15))<0.05,"—",SUM(Y15:AB15)) -> — | F15: =IF(ABS(SUM(AD15:AG15))<0.05,"—",SUM(AD15:AG15)) -> — | G15: =IF(ABS(SUM(AD15:AF15))<0.05,"—",SUM(AD15:AF15)) -> — | H15: =IF(ABS(SUM(AI15:AK15))<0.05,"—",SUM(AI15:AK15)) -> 754.88479 | J15: 0 | K15: 0 | L15: 0 | M15: 0 | O15: 0 | P15: 0 | Q15: 0 | R15: 0 | T15: 0 | U15: 0 | V15: 0 | W15: 0 | Y15: 0 | Z15: 0 | AA15: 0 | AB15: 0 | AD15: 0 | AE15: 0 | AF15: 0 | AG15: 0 | AI15: 280.96447 | AJ15: 192.49303 | AK15: 281.42729 | AL15: 265.29537 | AN15: экспорт
A16: импорт | B16: =IF(ABS(SUM(J16:M16))<0.05,"—",SUM(J16:M16)) -> — | C16: =IF(ABS(SUM(O16:R16))<0.05,"—",SUM(O16:R16)) -> — | D16: =IF(ABS(SUM(T16:W16))<0.05,"—",SUM(T16:W16)) -> — | E16: =IF(ABS(SUM(Y16:AB16))<0.05,"—",SUM(Y16:AB16)) -> — | F16: =IF(ABS(SUM(AD16:AG16))<0.05,"—",SUM(AD16:AG16)) -> — | G16: =IF(ABS(SUM(AD16:AF16))<0.05,"—",SUM(AD16:AF16)) -> — | H16: =IF(ABS(SUM(AI16:AK16))<0.05,"—",SUM(AI16:AK16)) -> 2493.4477 | J16: 0 | K16: 0 | L16: 0 | M16: 0 | O16: 0 | P16: 0 | Q16: 0 | R16: 0 | T16: 0 | U16: 0 | V16: 0 | W16: 0 | Y16: 0 | Z16: 0 | AA16: 0 | AB16: 0 | AD16: 0 | AE16: 0 | AF16: 0 | AG16: 0 | AI16: 937.04361 | AJ16: 638.80616 | AK16: 917.59791 | AL16: 953.30406 | AN16: импорт
A17: в т.ч. Реэкспорт | B17: =IF(ABS(SUM(J17:M17))<0.05,"—",SUM(J17:M17)) -> — | C17: =IF(ABS(SUM(O17:R17))<0.05,"—",SUM(O17:R17)) -> — | D17: =IF(ABS(SUM(T17:W17))<0.05,"—",SUM(T17:W17)) -> — | E17: =IF(ABS(SUM(Y17:AB17))<0.05,"—",SUM(Y17:AB17)) -> — | F17: =IF(ABS(SUM(AD17:AG17))<0.05,"—",SUM(AD17:AG17)) -> — | G17: =IF(ABS(SUM(AD17:AF17))<0.05,"—",SUM(AD17:AF17)) -> — | H17: =IF(ABS(SUM(AI17:AK17))<0.05,"—",SUM(AI17:AK17)) -> 54.953916 | J17: 0 | K17: 0 | L17: 0 | M17: 0 | O17: 0 | P17: 0 | Q17: 0 | R17: 0 | T17: 0 | U17: 0 | V17: 0 | W17: 0 | Y17: 0 | Z17: 0 | AA17: 0 | AB17: 0 | AD17: 0 | AE17: 0 | AF17: 0 | AG17: 0 | AI17: 16.6274 | AJ17: 20.647081 | AK17: 17.679435 | AL17: 12.758607 | AN17: в т.ч. Реэкспорт
A18: Чистый экспорт товаров в рамках перепродажи товаров за границей | B18: =IF(ABS(SUM(J18:M18))<0.05,"—",SUM(J18:M18)) -> — | C18: =IF(ABS(SUM(O18:R18))<0.05,"—",SUM(O18:R18)) -> — | D18: =IF(ABS(SUM(T18:W18))<0.05,"—",SUM(T18:W18)) -> — | E18: =IF(ABS(SUM(Y18:AB18))<0.05,"—",SUM(Y18:AB18)) -> — | F18: =IF(ABS(SUM(AD18:AG18))<0.05,"—",SUM(AD18:AG18)) -> — | G18: =IF(ABS(SUM(AD18:AF18))<0.05,"—",SUM(AD18:AF18)) -> — | H18: =IF(ABS(SUM(AI18:AK18))<0.05,"—",SUM(AI18:AK18)) -> — | J18: 0 | K18: 0 | L18: 0 | M18: 0 | O18: 0 | P18: 0 | Q18: 0 | R18: 0 | T18: 0 | U18: 0 | V18: 0 | W18: 0 | Y18: 0 | Z18: 0 | AA18: 0 | AB18: 0 | AD18: 0 | AE18: 0 | AF18: 0 | AG18: 0 | AI18: 0 | AJ18: 0 | AK18: 0 | AL18: — | AN18: Чистый экспорт товаров в рамках перепродажи товаров за границей
A19: Немонетарное золото | B19: =IF(ABS(SUM(J19:M19))<0.05,"—",SUM(J19:M19)) -> — | C19: =IF(ABS(SUM(O19:R19))<0.05,"—",SUM(O19:R19)) -> — | D19: =IF(ABS(SUM(T19:W19))<0.05,"—",SUM(T19:W19)) -> — | E19: =IF(ABS(SUM(Y19:AB19))<0.05,"—",SUM(Y19:AB19)) -> — | F19: =IF(ABS(SUM(AD19:AG19))<0.05,"—",SUM(AD19:AG19)) -> — | G19: =IF(ABS(SUM(AD19:AF19))<0.05,"—",SUM(AD19:AF19)) -> — | H19: =IF(ABS(SUM(AI19:AK19))<0.05,"—",SUM(AI19:AK19)) -> 807.68909 | J19: 0 | K19: 0 | L19: 0 | M19: 0 | O19: 0 | P19: 0 | Q19: 0 | R19: 0 | T19: 0 | U19: 0 | V19: 0 | W19: 0 | Y19: 0 | Z19: 0 | AA19: 0 | AB19: 0 | AD19: 0 | AE19: 0 | AF19: 0 | AG19: 0 | AI19: 212.90018 | AJ19: 325.17176 | AK19: 269.61716 | AL19: 179.30844 | AN19: Немонетарное золото
A20: экспорт | B20: =IF(ABS(SUM(J20:M20))<0.05,"—",SUM(J20:M20)) -> — | C20: =IF(ABS(SUM(O20:R20))<0.05,"—",SUM(O20:R20)) -> — | D20: =IF(ABS(SUM(T20:W20))<0.05,"—",SUM(T20:W20)) -> — | E20: =IF(ABS(SUM(Y20:AB20))<0.05,"—",SUM(Y20:AB20)) -> — | F20: =IF(ABS(SUM(AD20:AG20))<0.05,"—",SUM(AD20:AG20)) -> — | G20: =IF(ABS(SUM(AD20:AF20))<0.05,"—",SUM(AD20:AF20)) -> — | H20: =IF(ABS(SUM(AI20:AK20))<0.05,"—",SUM(AI20:AK20)) -> 807.68909 | J20: 0 | K20: 0 | L20: 0 | M20: 0 | O20: 0 | P20: 0 | Q20: 0 | R20: 0 | T20: 0 | U20: 0 | V20: 0 | W20: 0 | Y20: 0 | Z20: 0 | AA20: 0 | AB20: 0 | AD20: 0 | AE20: 0 | AF20: 0 | AG20: 0 | AI20: 212.90018 | AJ20: 325.17176 | AK20: 269.61716 | AL20: 179.30844 | AN20: экспорт
A21: импорт | B21: =IF(ABS(SUM(J21:M21))<0.05,"—",SUM(J21:M21)) -> — | C21: =IF(ABS(SUM(O21:R21))<0.05,"—",SUM(O21:R21)) -> — | D21: =IF(ABS(SUM(T21:W21))<0.05,"—",SUM(T21:W21)) -> — | E21: =IF(ABS(SUM(Y21:AB21))<0.05,"—",SUM(Y21:AB21)) -> — | F21: =IF(ABS(SUM(AD21:AG21))<0.05,"—",SUM(AD21:AG21)) -> — | G21: =IF(ABS(SUM(AD21:AF21))<0.05,"—",SUM(AD21:AF21)) -> — | H21: =IF(ABS(SUM(AI21:AK21))<0.05,"—",SUM(AI21:AK21)) -> — | J21: 0 | K21: 0 | L21: 0 | M21: 0 | O21: 0 | P21: 0 | Q21: 0 | R21: 0 | T21: 0 | U21: 0 | V21: 0 | W21: 0 | Y21: 0 | Z21: 0 | AA21: 0 | AB21: 0 | AD21: 0 | AE21: 0 | AF21: 0 | AG21: 0 | AI21: 0 | AJ21: 0 | AK21: 0 | AL21: — | AN21: импорт
A22: Услуги | B22: =IF(ABS(SUM(J22:M22))<0.05,"—",SUM(J22:M22)) -> — | C22: =IF(ABS(SUM(O22:R22))<0.05,"—",SUM(O22:R22)) -> — | D22: =IF(ABS(SUM(T22:W22))<0.05,"—",SUM(T22:W22)) -> — | E22: =IF(ABS(SUM(Y22:AB22))<0.05,"—",SUM(Y22:AB22)) -> — | F22: =IF(ABS(SUM(AD22:AG22))<0.05,"—",SUM(AD22:AG22)) -> — | G22: =IF(ABS(SUM(AD22:AF22))<0.05,"—",SUM(AD22:AF22)) -> — | H22: =IF(ABS(SUM(AI22:AK22))<0.05,"—",SUM(AI22:AK22)) -> -126.67614 | J22: 0 | K22: 0 | L22: 0 | M22: 0 | O22: 0 | P22: 0 | Q22: 0 | R22: 0 | T22: 0 | U22: 0 | V22: 0 | W22: 0 | Y22: 0 | Z22: 0 | AA22: 0 | AB22: 0 | AD22: 0 | AE22: 0 | AF22: 0 | AG22: 0 | AI22: -7.182446 | AJ22: -63.873165 | AK22: -55.620529 | AL22: -49.181778 | AN22: Услуги
A23: экспорт | B23: =IF(ABS(SUM(J23:M23))<0.05,"—",SUM(J23:M23)) -> — | C23: =IF(ABS(SUM(O23:R23))<0.05,"—",SUM(O23:R23)) -> — | D23: =IF(ABS(SUM(T23:W23))<0.05,"—",SUM(T23:W23)) -> — | E23: =IF(ABS(SUM(Y23:AB23))<0.05,"—",SUM(Y23:AB23)) -> — | F23: =IF(ABS(SUM(AD23:AG23))<0.05,"—",SUM(AD23:AG23)) -> — | G23: =IF(ABS(SUM(AD23:AF23))<0.05,"—",SUM(AD23:AF23)) -> — | H23: =IF(ABS(SUM(AI23:AK23))<0.05,"—",SUM(AI23:AK23)) -> 328.58892 | J23: 0 | K23: 0 | L23: 0 | M23: 0 | O23: 0 | P23: 0 | Q23: 0 | R23: 0 | T23: 0 | U23: 0 | V23: 0 | W23: 0 | Y23: 0 | Z23: 0 | AA23: 0 | AB23: 0 | AD23: 0 | AE23: 0 | AF23: 0 | AG23: 0 | AI23: 164.68372 | AJ23: 69.450388 | AK23: 94.45481 | AL23: 99.651168 | AN23: экспорт
A24: импорт | B24: =IF(ABS(SUM(J24:M24))<0.05,"—",SUM(J24:M24)) -> — | C24: =IF(ABS(SUM(O24:R24))<0.05,"—",SUM(O24:R24)) -> — | D24: =IF(ABS(SUM(T24:W24))<0.05,"—",SUM(T24:W24)) -> — | E24: =IF(ABS(SUM(Y24:AB24))<0.05,"—",SUM(Y24:AB24)) -> — | F24: =IF(ABS(SUM(AD24:AG24))<0.05,"—",SUM(AD24:AG24)) -> — | G24: =IF(ABS(SUM(AD24:AF24))<0.05,"—",SUM(AD24:AF24)) -> — | H24: =IF(ABS(SUM(AI24:AK24))<0.05,"—",SUM(AI24:AK24)) -> 455.26506 | J24: 0 | K24: 0 | L24: 0 | M24: 0 | O24: 0 | P24: 0 | Q24: 0 | R24: 0 | T24: 0 | U24: 0 | V24: 0 | W24: 0 | Y24: 0 | Z24: 0 | AA24: 0 | AB24: 0 | AD24: 0 | AE24: 0 | AF24: 0 | AG24: 0 | AI24: 171.86617 | AJ24: 133.32355 | AK24: 150.07534 | AL24: 148.83295 | AN24: импорт
A25: Услуги по обработке материальных ресурсов, принадлежащих другим сторонам | B25: =IF(ABS(SUM(J25:M25))<0.05,"—",SUM(J25:M25)) -> — | C25: =IF(ABS(SUM(O25:R25))<0.05,"—",SUM(O25:R25)) -> — | D25: =IF(ABS(SUM(T25:W25))<0.05,"—",SUM(T25:W25)) -> — | E25: =IF(ABS(SUM(Y25:AB25))<0.05,"—",SUM(Y25:AB25)) -> — | F25: =IF(ABS(SUM(AD25:AG25))<0.05,"—",SUM(AD25:AG25)) -> — | G25: =IF(ABS(SUM(AD25:AF25))<0.05,"—",SUM(AD25:AF25)) -> — | H25: =IF(ABS(SUM(AI25:AK25))<0.05,"—",SUM(AI25:AK25)) -> — | J25: 0 | K25: 0 | L25: 0 | M25: 0 | O25: 0 | P25: 0 | Q25: 0 | R25: 0 | T25: 0 | U25: 0 | V25: 0 | W25: 0 | Y25: 0 | Z25: 0 | AA25: 0 | AB25: 0 | AD25: 0 | AE25: 0 | AF25: 0 | AG25: 0 | AI25: 0 | AJ25: 0 | AK25: 0 | AL25: — | AN25: Услуги по обработке материальных ресурсов, принадлежащих другим сторонам
A26: экспорт | B26: =IF(ABS(SUM(J26:M26))<0.05,"—",SUM(J26:M26)) -> — | C26: =IF(ABS(SUM(O26:R26))<0.05,"—",SUM(O26:R26)) -> — | D26: =IF(ABS(SUM(T26:W26))<0.05,"—",SUM(T26:W26)) -> — | E26: =IF(ABS(SUM(Y26:AB26))<0.05,"—",SUM(Y26:AB26)) -> — | F26: =IF(ABS(SUM(AD26:AG26))<0.05,"—",SUM(AD26:AG26)) -> — | G26: =IF(ABS(SUM(AD26:AF26))<0.05,"—",SUM(AD26:AF26)) -> — | H26: =IF(ABS(SUM(AI26:AK26))<0.05,"—",SUM(AI26:AK26)) -> — | J26: 0 | K26: 0 | L26: 0 | M26: 0 | O26: 0 | P26: 0 | Q26: 0 | R26: 0 | T26: 0 | U26: 0 | V26: 0 | W26: 0 | Y26: 0 | Z26: 0 | AA26: 0 | AB26: 0 | AD26: 0 | AE26: 0 | AF26: 0 | AG26: 0 | AI26: 0 | AJ26: 0 | AK26: 0 | AL26: — | AN26: экспорт
A27: импорт | B27: =IF(ABS(SUM(J27:M27))<0.05,"—",SUM(J27:M27)) -> — | C27: =IF(ABS(SUM(O27:R27))<0.05,"—",SUM(O27:R27)) -> — | D27: =IF(ABS(SUM(T27:W27))<0.05,"—",SUM(T27:W27)) -> — | E27: =IF(ABS(SUM(Y27:AB27))<0.05,"—",SUM(Y27:AB27)) -> — | F27: =IF(ABS(SUM(AD27:AG27))<0.05,"—",SUM(AD27:AG27)) -> — | G27: =IF(ABS(SUM(AD27:AF27))<0.05,"—",SUM(AD27:AF27)) -> — | H27: =IF(ABS(SUM(AI27:AK27))<0.05,"—",SUM(AI27:AK27)) -> — | J27: 0 | K27: 0 | L27: 0 | M27: 0 | O27: 0 | P27: 0 | Q27: 0 | R27: 0 | T27: 0 | U27: 0 | V27: 0 | W27: 0 | Y27: 0 | Z27: 0 | AA27: 0 | AB27: 0 | AD27: 0 | AE27: 0 | AF27: 0 | AG27: 0 | AI27: 0 | AJ27: 0 | AK27: 0 | AL27: — | AN27: импорт
A28: Товары для переработки в Кыргызской Республике (товары, возвращенные после переработки -экспорт, товары, полученные для переработки - импорт) | B28: =IF(ABS(SUM(J28:M28))<0.05,"—",SUM(J28:M28)) -> — | C28: =IF(ABS(SUM(O28:R28))<0.05,"—",SUM(O28:R28)) -> — | D28: =IF(ABS(SUM(T28:W28))<0.05,"—",SUM(T28:W28)) -> — | E28: =IF(ABS(SUM(Y28:AB28))<0.05,"—",SUM(Y28:AB28)) -> — | F28: =IF(ABS(SUM(AD28:AG28))<0.05,"—",SUM(AD28:AG28)) -> — | G28: =IF(ABS(SUM(AD28:AF28))<0.05,"—",SUM(AD28:AF28)) -> — | H28: =IF(ABS(SUM(AI28:AK28))<0.05,"—",SUM(AI28:AK28)) -> -0.057863 | J28: 0 | K28: 0 | L28: 0 | M28: 0 | O28: 0 | P28: 0 | Q28: 0 | R28: 0 | T28: 0 | U28: 0 | V28: 0 | W28: 0 | Y28: 0 | Z28: 0 | AA28: 0 | AB28: 0 | AD28: 0 | AE28: 0 | AF28: 0 | AG28: 0 | AI28: -0.105991 | AJ28: 0.011379 | AK28: 0.036749 | AL28: 0.446554 | AN28: Товары для переработки в Кыргызской Республике (товары, возвращенные после переработки -экспорт, товары, полученные для переработки - импорт)
A29: экспорт | B29: =IF(ABS(SUM(J29:M29))<0.05,"—",SUM(J29:M29)) -> — | C29: =IF(ABS(SUM(O29:R29))<0.05,"—",SUM(O29:R29)) -> — | D29: =IF(ABS(SUM(T29:W29))<0.05,"—",SUM(T29:W29)) -> — | E29: =IF(ABS(SUM(Y29:AB29))<0.05,"—",SUM(Y29:AB29)) -> — | F29: =IF(ABS(SUM(AD29:AG29))<0.05,"—",SUM(AD29:AG29)) -> — | G29: =IF(ABS(SUM(AD29:AF29))<0.05,"—",SUM(AD29:AF29)) -> — | H29: =IF(ABS(SUM(AI29:AK29))<0.05,"—",SUM(AI29:AK29)) -> 0.145319 | J29: 0 | K29: 0 | L29: 0 | M29: 0 | O29: 0 | P29: 0 | Q29: 0 | R29: 0 | T29: 0 | U29: 0 | V29: 0 | W29: 0 | Y29: 0 | Z29: 0 | AA29: 0 | AB29: 0 | AD29: 0 | AE29: 0 | AF29: 0 | AG29: 0 | AI29: 0.025847 | AJ29: 0.018579 | AK29: 0.100893 | AL29: 0.49888 | AN29: экспорт
