Workbook

Sheet 1.общ.депозиты
A1: Раздел "Статистика" / "Банковская статистика" / "Вновь принятые коммерческими банками депозиты, за период"
A3: Таблица 1. Динамика вновь принятых депозитов в действующих коммерческих банках
A5: (тыс. сомов / проценты)
A6: Период | B6: Общий объем | C6: Средневз. ставка | D6: в том числе:
D7: в нац.валюте | F7: в иностр.валюте
D8: объем | E8: ставка | F8: объем | G8: ставка
A9: Январь 1996 г. | B9: ='2.общ.по срокам'!B9 -> 44120.1 | C9: ='2.общ.по срокам'!C9 -> 30.051715 | D9: ='6.по срокам в нацвал'!B9 -> 34495.6 | E9: ='6.по срокам в нацвал'!C9 -> 32.269946 | F9: ='10.по срокам в инвал'!B9 -> 9624.5 | G9: ='10.по срокам в инвал'!C9 -> 22.101252
A10: Февраль | B10: ='2.общ.по срокам'!B10 -> 44864.9 | C10: ='2.общ.по срокам'!C10 -> 29.080911 | D10: ='6.по срокам в нацвал'!B10 -> 35005.7 | E10: ='6.по срокам в нацвал'!C10 -> 30.598378 | F10: ='10.по срокам в инвал'!B10 -> 9859.2 | G10: ='10.по срокам в инвал'!C10 -> 23.693052
A11: Март | B11: ='2.общ.по срокам'!B11 -> 47498.9 | C11: ='2.общ.по срокам'!C11 -> 26.537801 | D11: ='6.по срокам в нацвал'!B11 -> 31495.5 | E11: ='6.по срокам в нацвал'!C11 -> 28.254392 | F11: ='10.по срокам в инвал'!B11 -> 16003.4 | G11: ='10.по срокам в инвал'!C11 -> 23.159463
A12: Апрель | B12: ='2.общ.по срокам'!B12 -> 51267.3 | C12: ='2.общ.по срокам'!C12 -> 26.000049 | D12: ='6.по срокам в нацвал'!B12 -> 35798.9 | E12: ='6.по срокам в нацвал'!C12 -> 29.333887 | F12: ='10.по срокам в инвал'!B12 -> 15468.4 | G12: ='10.по срокам в инвал'!C12 -> 18.284466
A13: Май | B13: ='2.общ.по срокам'!B13 -> 60538.8 | C13: ='2.общ.по срокам'!C13 -> 27.689793 | D13: ='6.по срокам в нацвал'!B13 -> 43233.9 | E13: ='6.по срокам в нацвал'!C13 -> 32.05947 | F13: ='10.по срокам в инвал'!B13 -> 17304.9 | G13: ='10.по срокам в инвал'!C13 -> 16.772758
A14: Июнь | B14: ='2.общ.по срокам'!B14 -> 50133.5 | C14: ='2.общ.по срокам'!C14 -> 22.57934 | D14: ='6.по срокам в нацвал'!B14 -> 20848.8 | E14: ='6.по срокам в нацвал'!C14 -> 30.84791 | F14: ='10.по срокам в инвал'!B14 -> 29284.7 | G14: ='10.по срокам в инвал'!C14 -> 16.692656
A15: Июль | B15: ='2.общ.по срокам'!B15 -> 50764.3 | C15: ='2.общ.по срокам'!C15 -> 24.129365 | D15: ='6.по срокам в нацвал'!B15 -> 33992.2 | E15: ='6.по срокам в нацвал'!C15 -> 30.36971 | F15: ='10.по срокам в инвал'!B15 -> 16772.1 | G15: ='10.по срокам в инвал'!C15 -> 11.481989
A16: Август | B16: ='2.общ.по срокам'!B16 -> 84460.6 | C16: ='2.общ.по срокам'!C16 -> 18.738324 | D16: ='6.по срокам в нацвал'!B16 -> 29397.7 | E16: ='6.по срокам в нацвал'!C16 -> 32.652997 | F16: ='10.по срокам в инвал'!B16 -> 55062.9 | G16: ='10.по срокам в инвал'!C16 -> 11.309377
A17: Сентябрь | B17: ='2.общ.по срокам'!B17 -> 60079.8 | C17: ='2.общ.по срокам'!C17 -> 25.757067 | D17: ='6.по срокам в нацвал'!B17 -> 31982.7 | E17: ='6.по срокам в нацвал'!C17 -> 32.981176 | F17: ='10.по срокам в инвал'!B17 -> 28097.1 | G17: ='10.по срокам в инвал'!C17 -> 17.533922
A18: Октябрь | B18: ='2.общ.по срокам'!B18 -> 90226.5 | C18: ='2.общ.по срокам'!C18 -> 24.966312 | D18: ='6.по срокам в нацвал'!B18 -> 44505.9 | E18: ='6.по срокам в нацвал'!C18 -> 38.831866 | F18: ='10.по срокам в инвал'!B18 -> 45720.6 | G18: ='10.по срокам в инвал'!C18 -> 11.469137
A19: Ноябрь | B19: ='2.общ.по срокам'!B19 -> 77709.3 | C19: ='2.общ.по срокам'!C19 -> 21.521011 | D19: ='6.по срокам в нацвал'!B19 -> 47523.2 | E19: ='6.по срокам в нацвал'!C19 -> 25.520296 | F19: ='10.по срокам в инвал'!B19 -> 30186.1 | G19: ='10.по срокам в инвал'!C19 -> 15.224774
A20: Декабрь | B20: ='2.общ.по срокам'!B20 -> 69039.9 | C20: ='2.общ.по срокам'!C20 -> 20.399741 | D20: ='6.по срокам в нацвал'!B20 -> 39096.3 | E20: ='6.по срокам в нацвал'!C20 -> 24.757752 | F20: ='10.по срокам в инвал'!B20 -> 29943.6 | G20: ='10.по срокам в инвал'!C20 -> 14.70964
... A380: Декабрь | B380: ='2.общ.по срокам'!B380 -> 0 | C380: ='2.общ.по срокам'!C380 -> #DIV/0! | D380: ='6.по срокам в нацвал'!B380 -> 0 | E380: ='6.по срокам в нацвал'!C380 -> #DIV/0! | F380: ='10.по срокам в инвал'!B380 -> 0 | G380: ='10.по срокам в инвал'!C380 -> #DIV/0!
A381: *- предварительные данные

Sheet 2.общ.по срокам
A1: Раздел "Статистика" / "Банковская статистика" / "Вновь принятые коммерческими банками депозиты, за период"
A3: Таблица 2. Общий объем и средневзвешенные ставки депозитов, вновь принятыми коммерческими банками (за период)*
A5: (тыс. сомов / проценты)
A6: Период | B6: Общий объем | C6: Средневз. cтавка | D6: До востребования | F6: Срочные депозиты | H6: в том числе, по срокам:
H7: 0 - 1 месяца | J7: 1 - 3 месяца | L7: 3 - 6 месяцев | N7: 6 - 12 месяцев | P7: 1 - 3 года | R7: более 3 лет
D8: объем | E8: средневзв. ставка | F8: объем | G8: средневзв. ставка | H8: объем | I8: средневзв. ставка | J8: объем | K8: средневзв. ставка | L8: объем | M8: средневзв. ставка | N8: объем | O8: средневзв. ставка | P8: объем | Q8: средневзв. ставка | R8: объем | S8: средневзв. ставка
A9: Январь 1996 г. | B9: ='3.физ-всего'!B9+'4.юрид-всего'!B9 -> 44120.1 | C9: =('3.физ-всего'!B9*'3.физ-всего'!C9+'4.юрид-всего'!B9*'4.юрид-всего'!C9)/('3.физ-всего'!B9+'4.юрид-всего'!B9) -> 30.051715 | D9: ='3.физ-всего'!D9+'4.юрид-всего'!D9 -> 9281 | E9: =('3.физ-всего'!D9*'3.физ-всего'!E9+'4.юрид-всего'!D9*'4.юрид-всего'!E9)/('3.физ-всего'!D9+'4.юрид-всего'!D9) -> 27.565855 | F9: =H9+J9+L9+N9+P9+R9 -> 34839.1 | G9: =(H9*I9+J9*K9+L9*M9+N9*O9+P9*Q9+R9*S9)/(H9+J9+L9+N9+P9+R9) -> 30.713938 | H9: ='3.физ-всего'!H9+'4.юрид-всего'!H9 -> 2291 | I9: =('3.физ-всего'!H9*'3.физ-всего'!I9+'4.юрид-всего'!H9*'4.юрид-всего'!I9)/('3.физ-всего'!H9+'4.юрид-всего'!H9) -> 7.2378874 | J9: ='3.физ-всего'!J9+'4.юрид-всего'!J9 -> 12145.6 | K9: =('3.физ-всего'!J9*'3.физ-всего'!K9+'4.юрид-всего'!J9*'4.юрид-всего'!K9)/('3.физ-всего'!J9+'4.юрид-всего'!J9) -> 30.215864 | L9: ='3.физ-всего'!L9+'4.юрид-всего'!L9 -> 16147.3 | M9: =('3.физ-всего'!L9*'3.физ-всего'!M9+'4.юрид-всего'!L9*'4.юрид-всего'!M9)/('3.физ-всего'!L9+'4.юрид-всего'!L9) -> 32.691825 | N9: ='3.физ-всего'!N9+'4.юрид-всего'!N9 -> 3854 | O9: =('3.физ-всего'!N9*'3.физ-всего'!O9+'4.юрид-всего'!N9*'4.юрид-всего'!O9)/('3.физ-всего'!N9+'4.юрид-всего'!N9) -> 36.987208 | P9: ='3.физ-всего'!P9+'4.юрид-всего'!P9 -> 401.2 | Q9: =('3.физ-всего'!P9*'3.физ-всего'!Q9+'4.юрид-всего'!P9*'4.юрид-всего'!Q9)/('3.физ-всего'!P9+'4.юрид-всего'!P9) -> 39.981954
A10: Февраль | B10: ='3.физ-всего'!B10+'4.юрид-всего'!B10 -> 44864.9 | C10: =('3.физ-всего'!B10*'3.физ-всего'!C10+'4.юрид-всего'!B10*'4.юрид-всего'!C10)/('3.физ-всего'!B10+'4.юрид-всего'!B10) -> 29.080911 | D10: ='3.физ-всего'!D10+'4.юрид-всего'!D10 -> 10774.3 | E10: =('3.физ-всего'!D10*'3.физ-всего'!E10+'4.юрид-всего'!D10*'4.юрид-всего'!E10)/('3.физ-всего'!D10+'4.юрид-всего'!D10) -> 21.689084 | F10: =H10+J10+L10+N10+P10+R10 -> 34090.6 | G10: =(H10*I10+J10*K10+L10*M10+N10*O10+P10*Q10+R10*S10)/(H10+J10+L10+N10+P10+R10) -> 31.417091 | H10: ='3.физ-всего'!H10+'4.юрид-всего'!H10 -> 695.5 | I10: =('3.физ-всего'!H10*'3.физ-всего'!I10+'4.юрид-всего'!H10*'4.юрид-всего'!I10)/('3.физ-всего'!H10+'4.юрид-всего'!H10) -> 27.881524 | J10: ='3.физ-всего'!J10+'4.юрид-всего'!J10 -> 14593 | K10: =('3.физ-всего'!J10*'3.физ-всего'!K10+'4.юрид-всего'!J10*'4.юрид-всего'!K10)/('3.физ-всего'!J10+'4.юрид-всего'!J10) -> 26.031555 | L10: ='3.физ-всего'!L10+'4.юрид-всего'!L10 -> 14365.6 | M10: =('3.физ-всего'!L10*'3.физ-всего'!M10+'4.юрид-всего'!L10*'4.юрид-всего'!M10)/('3.физ-всего'!L10+'4.юрид-всего'!L10) -> 36.22843 | N10: ='3.физ-всего'!N10+'4.юрид-всего'!N10 -> 4050.5 | O10: =('3.физ-всего'!N10*'3.физ-всего'!O10+'4.юрид-всего'!N10*'4.юрид-всего'!O10)/('3.физ-всего'!N10+'4.юрид-всего'!N10) -> 33.713393 | P10: ='3.физ-всего'!P10+'4.юрид-всего'!P10 -> 386 | Q10: =('3.физ-всего'!P10*'3.физ-всего'!Q10+'4.юрид-всего'!P10*'4.юрид-всего'!Q10)/('3.физ-всего'!P10+'4.юрид-всего'!P10) -> 38.233575
A11: Март | B11: ='3.физ-всего'!B11+'4.юрид-всего'!B11 -> 47498.9 | C11: =('3.физ-всего'!B11*'3.физ-всего'!C11+'4.юрид-всего'!B11*'4.юрид-всего'!C11)/('3.физ-всего'!B11+'4.юрид-всего'!B11) -> 26.537801 | D11: ='3.физ-всего'!D11+'4.юрид-всего'!D11 -> 12078.4 | E11: =('3.физ-всего'!D11*'3.физ-всего'!E11+'4.юрид-всего'!D11*'4.юрид-всего'!E11)/('3.физ-всего'!D11+'4.юрид-всего'!D11) -> 19.656685 | F11: =H11+J11+L11+N11+P11+R11 -> 35420.5 | G11: =(H11*I11+J11*K11+L11*M11+N11*O11+P11*Q11+R11*S11)/(H11+J11+L11+N11+P11+R11) -> 28.884263 | H11: ='3.физ-всего'!H11+'4.юрид-всего'!H11 -> 2892.7 | I11: =('3.физ-всего'!H11*'3.физ-всего'!I11+'4.юрид-всего'!H11*'4.юрид-всего'!I11)/('3.физ-всего'!H11+'4.юрид-всего'!H11) -> 43.150171 | J11: ='3.физ-всего'!J11+'4.юрид-всего'!J11 -> 13505 | K11: =('3.физ-всего'!J11*'3.физ-всего'!K11+'4.юрид-всего'!J11*'4.юрид-всего'!K11)/('3.физ-всего'!J11+'4.юрид-всего'!J11) -> 24.040816 | L11: ='3.физ-всего'!L11+'4.юрид-всего'!L11 -> 14574.9 | M11: =('3.физ-всего'!L11*'3.физ-всего'!M11+'4.юрид-всего'!L11*'4.юрид-всего'!M11)/('3.физ-всего'!L11+'4.юрид-всего'!L11) -> 30.058273 | N11: ='3.физ-всего'!N11+'4.юрид-всего'!N11 -> 4221.3 | O11: =('3.физ-всего'!N11*'3.физ-всего'!O11+'4.юрид-всего'!N11*'4.юрид-всего'!O11)/('3.физ-всего'!N11+'4.юрид-всего'!N11) -> 30.725701 | P11: ='3.физ-всего'!P11+'4.юрид-всего'!P11 -> 226.6 | Q11: =('3.физ-всего'!P11*'3.физ-всего'!Q11+'4.юрид-всего'!P11*'4.юрид-всего'!Q11)/('3.физ-всего'!P11+'4.юрид-всего'!P11) -> 25.616064
A12: Апрель | B12: ='3.физ-всего'!B12+'4.юрид-всего'!B12 -> 51267.3 | C12: =('3.физ-всего'!B12*'3.физ-всего'!C12+'4.юрид-всего'!B12*'4.юрид-всего'!C12)/('3.физ-всего'!B12+'4.юрид-всего'!B12) -> 26.000049 | D12: ='3.физ-всего'!D12+'4.юрид-всего'!D12 -> 12672.3 | E12: =('3.физ-всего'!D12*'3.физ-всего'!E12+'4.юрид-всего'!D12*'4.юрид-всего'!E12)/('3.физ-всего'!D12+'4.юрид-всего'!D12) -> 22.143074 | F12: =H12+J12+L12+N12+P12+R12 -> 38595 | G12: =(H12*I12+J12*K12+L12*M12+N12*O12+P12*Q12+R12*S12)/(H12+J12+L12+N12+P12+R12) -> 27.26645 | H12: ='3.физ-всего'!H12+'4.юрид-всего'!H12 -> 3966.5 | I12: =('3.физ-всего'!H12*'3.физ-всего'!I12+'4.юрид-всего'!H12*'4.юрид-всего'!I12)/('3.физ-всего'!H12+'4.юрид-всего'!H12) -> 23.004039 | J12: ='3.физ-всего'!J12+'4.юрид-всего'!J12 -> 15075 | K12: =('3.физ-всего'!J12*'3.физ-всего'!K12+'4.юрид-всего'!J12*'4.юрид-всего'!K12)/('3.физ-всего'!J12+'4.юрид-всего'!J12) -> 27.637965 | L12: ='3.физ-всего'!L12+'4.юрид-всего'!L12 -> 13203.1 | M12: =('3.физ-всего'!L12*'3.физ-всего'!M12+'4.юрид-всего'!L12*'4.юрид-всего'!M12)/('3.физ-всего'!L12+'4.юрид-всего'!L12) -> 28.16965 | N12: ='3.физ-всего'!N12+'4.юрид-всего'!N12 -> 5969.1 | O12: =('3.физ-всего'!N12*'3.физ-всего'!O12+'4.юрид-всего'!N12*'4.юрид-всего'!O12)/('3.физ-всего'!N12+'4.юрид-всего'!N12) -> 26.54338 | P12: ='3.физ-всего'!P12+'4.юрид-всего'!P12 -> 381.3 | Q12: =('3.физ-всего'!P12*'3.физ-всего'!Q12+'4.юрид-всего'!P12*'4.юрид-всего'!Q12)/('3.физ-всего'!P12+'4.юрид-всего'!P12) -> 36.962995
A13: Май | B13: ='3.физ-всего'!B13+'4.юрид-всего'!B13 -> 60538.8 | C13: =('3.физ-всего'!B13*'3.физ-всего'!C13+'4.юрид-всего'!B13*'4.юрид-всего'!C13)/('3.физ-всего'!B13+'4.юрид-всего'!B13) -> 27.689793 | D13: ='3.физ-всего'!D13+'4.юрид-всего'!D13 -> 12246.6 | E13: =('3.физ-всего'!D13*'3.физ-всего'!E13+'4.юрид-всего'!D13*'4.юрид-всего'!E13)/('3.физ-всего'!D13+'4.юрид-всего'!D13) -> 23.410391 | F13: =H13+J13+L13+N13+P13+R13 -> 48292.2 | G13: =(H13*I13+J13*K13+L13*M13+N13*O13+P13*Q13+R13*S13)/(H13+J13+L13+N13+P13+R13) -> 28.775022 | H13: ='3.физ-всего'!H13+'4.юрид-всего'!H13 -> 1080.6 | I13: =('3.физ-всего'!H13*'3.физ-всего'!I13+'4.юрид-всего'!H13*'4.юрид-всего'!I13)/('3.физ-всего'!H13+'4.юрид-всего'!H13) -> 31.388567 | J13: ='3.физ-всего'!J13+'4.юрид-всего'!J13 -> 14679.3 | K13: =('3.физ-всего'!J13*'3.физ-всего'!K13+'4.юрид-всего'!J13*'4.юрид-всего'!K13)/('3.физ-всего'!J13+'4.юрид-всего'!J13) -> 24.869605 | L13: ='3.физ-всего'!L13+'4.юрид-всего'!L13 -> 14962 | M13: =('3.физ-всего'!L13*'3.физ-всего'!M13+'4.юрид-всего'!L13*'4.юрид-всего'!M13)/('3.физ-всего'!L13+'4.юрид-всего'!L13) -> 30.635506 | N13: ='3.физ-всего'!N13+'4.юрид-всего'!N13 -> 17337.5 | O13: =('3.физ-всего'!N13*'3.физ-всего'!O13+'4.юрид-всего'!N13*'4.юрид-всего'!O13)/('3.физ-всего'!N13+'4.юрид-всего'!N13) -> 30.205622 | P13: ='3.физ-всего'!P13+'4.юрид-всего'!P13 -> 232.8 | Q13: =('3.физ-всего'!P13*'3.физ-всего'!Q13+'4.юрид-всего'!P13*'4.юрид-всего'!Q13)/('3.физ-всего'!P13+'4.юрид-всего'!P13) -> 36.786254
A14: Июнь | B14: ='3.физ-всего'!B14+'4.юрид-всего'!B14 -> 50133.5 | C14: =('3.физ-всего'!B14*'3.физ-всего'!C14+'4.юрид-всего'!B14*'4.юрид-всего'!C14)/('3.физ-всего'!B14+'4.юрид-всего'!B14) -> 22.57934 | D14: ='3.физ-всего'!D14+'4.юрид-всего'!D14 -> 11851.4 | E14: =('3.физ-всего'!D14*'3.физ-всего'!E14+'4.юрид-всего'!D14*'4.юрид-всего'!E14)/('3.физ-всего'!D14+'4.юрид-всего'!D14) -> 17.045625 | F14: =H14+J14+L14+N14+P14+R14 -> 38282.1 | G14: =(H14*I14+J14*K14+L14*M14+N14*O14+P14*Q14+R14*S14)/(H14+J14+L14+N14+P14+R14) -> 24.292471 | H14: ='3.физ-всего'!H14+'4.юрид-всего'!H14 -> 1062.8 | I14: =('3.физ-всего'!H14*'3.физ-всего'!I14+'4.юрид-всего'!H14*'4.юрид-всего'!I14)/('3.физ-всего'!H14+'4.юрид-всего'!H14) -> 7.073297 | J14: ='3.физ-всего'!J14+'4.юрид-всего'!J14 -> 22184.6 | K14: =('3.физ-всего'!J14*'3.физ-всего'!K14+'4.юрид-всего'!J14*'4.юрид-всего'!K14)/('3.физ-всего'!J14+'4.юрид-всего'!J14) -> 22.694388 | L14: ='3.физ-всего'!L14+'4.юрид-всего'!L14 -> 9337.3 | M14: =('3.физ-всего'!L14*'3.физ-всего'!M14+'4.юрид-всего'!L14*'4.юрид-всего'!M14)/('3.физ-всего'!L14+'4.юрид-всего'!L14) -> 24.853945 | N14: ='3.физ-всего'!N14+'4.юрид-всего'!N14 -> 5458.2 | O14: =('3.физ-всего'!N14*'3.физ-всего'!O14+'4.юрид-всего'!N14*'4.юрид-всего'!O14)/('3.физ-всего'!N14+'4.юрид-всего'!N14) -> 33.159696 | P14: ='3.физ-всего'!P14+'4.юрид-всего'!P14 -> 239.2 | Q14: =('3.физ-всего'!P14*'3.физ-всего'!Q14+'4.юрид-всего'!P14*'4.юрид-всего'!Q14)/('3.физ-всего'!P14+'4.юрид-всего'!P14) -> 24.759197
A15: Июль | B15: ='3.физ-всего'!B15+'4.юрид-всего'!B15 -> 50764.3 | C15: =('3.физ-всего'!B15*'3.физ-всего'!C15+'4.юрид-всего'!B15*'4.юрид-всего'!C15)/('3.физ-всего'!B15+'4.юрид-всего'!B15) -> 24.129365 | D15: ='3.физ-всего'!D15+'4.юрид-всего'!D15 -> 13175.4 | E15: =('3.физ-всего'!D15*'3.физ-всего'!E15+'4.юрид-всего'!D15*'4.юрид-всего'!E15)/('3.физ-всего'!D15+'4.юрид-всего'!D15) -> 12.477743 | F15: =H15+J15+L15+N15+P15+R15 -> 37588.9 | G15: =(H15*I15+J15*K15+L15*M15+N15*O15+P15*Q15+R15*S15)/(H15+J15+L15+N15+P15+R15) -> 28.213411 | H15: ='3.физ-всего'!H15+'4.юрид-всего'!H15 -> 3808.1 | I15: =('3.физ-всего'!H15*'3.физ-всего'!I15+'4.юрид-всего'!H15*'4.юрид-всего'!I15)/('3.физ-всего'!H15+'4.юрид-всего'!H15) -> 3.0807489 | J15: ='3.физ-всего'!J15+'4.юрид-всего'!J15 -> 14782.2 | K15: =('3.физ-всего'!J15*'3.физ-всего'!K15+'4.юрид-всего'!J15*'4.юрид-всего'!K15)/('3.физ-всего'!J15+'4.юрид-всего'!J15) -> 31.170908 | L15: ='3.физ-всего'!L15+'4.юрид-всего'!L15 -> 11316.1 | M15: =('3.физ-всего'!L15*'3.физ-всего'!M15+'4.юрид-всего'!L15*'4.юрид-всего'!M15)/('3.физ-всего'!L15+'4.юрид-всего'!L15) -> 31.290608 | N15: ='3.физ-всего'!N15+'4.юрид-всего'!N15 -> 7205.5 | O15: =('3.физ-всего'!N15*'3.физ-всего'!O15+'4.юрид-всего'!N15*'4.юрид-всего'!O15)/('3.физ-всего'!N15+'4.юрид-всего'!N15) -> 29.901914 | P15: ='3.физ-всего'!P15+'4.юрид-всего'!P15 -> 477 | Q15: =('3.физ-всего'!P15*'3.физ-всего'!Q15+'4.юрид-всего'!P15*'4.юрид-всего'!Q15)/('3.физ-всего'!P15+'4.юрид-всего'!P15) -> 38.697694
A16: Август | B16: ='3.физ-всего'!B16+'4.юрид-всего'!B16 -> 84460.6 | C16: =('3.физ-всего'!B16*'3.физ-всего'!C16+'4.юрид-всего'!B16*'4.юрид-всего'!C16)/('3.физ-всего'!B16+'4.юрид-всего'!B16) -> 18.738324 | D16: ='3.физ-всего'!D16+'4.юрид-всего'!D16 -> 43051.7 | E16: =('3.физ-всего'!D16*'3.физ-всего'!E16+'4.юрид-всего'!D16*'4.юрид-всего'!E16)/('3.физ-всего'!D16+'4.юрид-всего'!D16) -> 8.2210795 | F16: =H16+J16+L16+N16+P16+R16 -> 41408.9 | G16: =(H16*I16+J16*K16+L16*M16+N16*O16+P16*Q16+R16*S16)/(H16+J16+L16+N16+P16+R16) -> 29.672815 | H16: ='3.физ-всего'!H16+'4.юрид-всего'!H16 -> 5350.1 | I16: =('3.физ-всего'!H16*'3.физ-всего'!I16+'4.юрид-всего'!H16*'4.юрид-всего'!I16)/('3.физ-всего'!H16+'4.юрид-всего'!H16) -> 9.5698622 | J16: ='3.физ-всего'!J16+'4.юрид-всего'!J16 -> 10884.9 | K16: =('3.физ-всего'!J16*'3.физ-всего'!K16+'4.юрид-всего'!J16*'4.юрид-всего'!K16)/('3.физ-всего'!J16+'4.юрид-всего'!J16) -> 29.503 | L16: ='3.физ-всего'!L16+'4.юрид-всего'!L16 -> 19978.9 | M16: =('3.физ-всего'!L16*'3.физ-всего'!M16+'4.юрид-всего'!L16*'4.юрид-всего'!M16)/('3.физ-всего'!L16+'4.юрид-всего'!L16) -> 35.106358 | N16: ='3.физ-всего'!N16+'4.юрид-всего'!N16 -> 4478.9 | O16: =('3.физ-всего'!N16*'3.физ-всего'!O16+'4.юрид-всего'!N16*'4.юрид-всего'!O16)/('3.физ-всего'!N16+'4.юрид-всего'!N16) -> 30.5331 | P16: ='3.физ-всего'!P16+'4.юрид-всего'!P16 -> 716.1 | Q16: =('3.физ-всего'!P16*'3.физ-всего'!Q16+'4.юрид-всего'!P16*'4.юрид-всего'!Q16)/('3.физ-всего'!P16+'4.юрид-всего'!P16) -> 25.472141
A17: Сентябрь | B17: ='3.физ-всего'!B17+'4.юрид-всего'!B17 -> 60079.8 | C17: =('3.физ-всего'!B17*'3.физ-всего'!C17+'4.юрид-всего'!B17*'4.юрид-всего'!C17)/('3.физ-всего'!B17+'4.юрид-всего'!B17) -> 25.757067 | D17: ='3.физ-всего'!D17+'4.юрид-всего'!D17 -> 10956.6 | E17: =('3.физ-всего'!D17*'3.физ-всего'!E17+'4.юрид-всего'!D17*'4.юрид-всего'!E17)/('3.физ-всего'!D17+'4.юрид-всего'!D17) -> 13.32431 | F17: =H17+J17+L17+N17+P17+R17 -> 49123.2 | G17: =(H17*I17+J17*K17+L17*M17+N17*O17+P17*Q17+R17*S17)/(H17+J17+L17+N17+P17+R17) -> 28.53011 | H17: ='3.физ-всего'!H17+'4.юрид-всего'!H17 -> 1413.6 | I17: =('3.физ-всего'!H17*'3.физ-всего'!I17+'4.юрид-всего'!H17*'4.юрид-всего'!I17)/('3.физ-всего'!H17+'4.юрид-всего'!H17) -> 3.7814092 | J17: ='3.физ-всего'!J17+'4.юрид-всего'!J17 -> 23652 | K17: =('3.физ-всего'!J17*'3.физ-всего'!K17+'4.юрид-всего'!J17*'4.юрид-всего'!K17)/('3.физ-всего'!J17+'4.юрид-всего'!J17) -> 24.879736 | L17: ='3.физ-всего'!L17+'4.юрид-всего'!L17 -> 16333.4 | M17: =('3.физ-всего'!L17*'3.физ-всего'!M17+'4.юрид-всего'!L17*'4.юрид-всего'!M17)/('3.физ-всего'!L17+'4.юрид-всего'!L17) -> 37.567138 | N17: ='3.физ-всего'!N17+'4.юрид-всего'!N17 -> 7596.4 | O17: =('3.физ-всего'!N17*'3.физ-всего'!O17+'4.юрид-всего'!N17*'4.юрид-всего'!O17)/('3.физ-всего'!N17+'4.юрид-всего'!N17) -> 25.062715 | P17: ='3.физ-всего'!P17+'4.юрид-всего'!P17 -> 127.8 | Q17: =('3.физ-всего'!P17*'3.физ-всего'!Q17+'4.юрид-всего'!P17*'4.юрид-всего'!Q17)/('3.физ-всего'!P17+'4.юрид-всего'!P17) -> 28.98169
A18: Октябрь | B18: ='3.физ-всего'!B18+'4.юрид-всего'!B18 -> 90226.5 | C18: =('3.физ-всего'!B18*'3.физ-всего'!C18+'4.юрид-всего'!B18*'4.юрид-всего'!C18)/('3.физ-всего'!B18+'4.юрид-всего'!B18) -> 24.966312 | D18: ='3.физ-всего'!D18+'4.юрид-всего'!D18 -> 37173.6 | E18: =('3.физ-всего'!D18*'3.физ-всего'!E18+'4.юрид-всего'!D18*'4.юрид-всего'!E18)/('3.физ-всего'!D18+'4.юрид-всего'!D18) -> 9.8071629 | F18: =H18+J18+L18+N18+P18+R18 -> 53052.9 | G18: =(H18*I18+J18*K18+L18*M18+N18*O18+P18*Q18+R18*S18)/(H18+J18+L18+N18+P18+R18) -> 35.588167 | H18: ='3.физ-всего'!H18+'4.юрид-всего'!H18 -> 2901.2 | I18: =('3.физ-всего'!H18*'3.физ-всего'!I18+'4.юрид-всего'!H18*'4.юрид-всего'!I18)/('3.физ-всего'!H18+'4.юрид-всего'!H18) -> 22.826072 | J18: ='3.физ-всего'!J18+'4.юрид-всего'!J18 -> 17291.1 | K18: =('3.физ-всего'!J18*'3.физ-всего'!K18+'4.юрид-всего'!J18*'4.юрид-всего'!K18)/('3.физ-всего'!J18+'4.юрид-всего'!J18) -> 28.075066 | L18: ='3.физ-всего'!L18+'4.юрид-всего'!L18 -> 29475.8 | M18: =('3.физ-всего'!L18*'3.физ-всего'!M18+'4.юрид-всего'!L18*'4.юрид-всего'!M18)/('3.физ-всего'!L18+'4.юрид-всего'!L18) -> 43.243029 | N18: ='3.физ-всего'!N18+'4.юрид-всего'!N18 -> 3135.4 | O18: =('3.физ-всего'!N18*'3.физ-всего'!O18+'4.юрид-всего'!N18*'4.юрид-всего'!O18)/('3.физ-всего'!N18+'4.юрид-всего'!N18) -> 18.623047 | P18: ='3.физ-всего'!P18+'4.юрид-всего'!P18 -> 249.4 | Q18: =('3.физ-всего'!P18*'3.физ-всего'!Q18+'4.юрид-всего'!P18*'4.юрид-всего'!Q18)/('3.физ-всего'!P18+'4.юрид-всего'!P18) -> 13.512751
A19: Ноябрь | B19: ='3.физ-всего'!B19+'4.юрид-всего'!B19 -> 77709.3 | C19: =('3.физ-всего'!B19*'3.физ-всего'!C19+'4.юрид-всего'!B19*'4.юрид-всего'!C19)/('3.физ-всего'!B19+'4.юрид-всего'!B19) -> 21.521011 | D19: ='3.физ-всего'!D19+'4.юрид-всего'!D19 -> 22973.7 | E19: =('3.физ-всего'!D19*'3.физ-всего'!E19+'4.юрид-всего'!D19*'4.юрид-всего'!E19)/('3.физ-всего'!D19+'4.юрид-всего'!D19) -> 13.248201 | F19: =H19+J19+L19+N19+P19+R19 -> 54735.6 | G19: =(H19*I19+J19*K19+L19*M19+N19*O19+P19*Q19+R19*S19)/(H19+J19+L19+N19+P19+R19) -> 24.993286 | H19: ='3.физ-всего'!H19+'4.юрид-всего'!H19 -> 10723.2 | I19: =('3.физ-всего'!H19*'3.физ-всего'!I19+'4.юрид-всего'!H19*'4.юрид-всего'!I19)/('3.физ-всего'!H19+'4.юрид-всего'!H19) -> 15.977973 | J19: ='3.физ-всего'!J19+'4.юрид-всего'!J19 -> 27986.5 | K19: =('3.физ-всего'!J19*'3.физ-всего'!K19+'4.юрид-всего'!J19*'4.юрид-всего'!K19)/('3.физ-всего'!J19+'4.юрид-всего'!J19) -> 24.887472 | L19: ='3.физ-всего'!L19+'4.юрид-всего'!L19 -> 15312.1 | M19: =('3.физ-всего'!L19*'3.физ-всего'!M19+'4.юрид-всего'!L19*'4.юрид-всего'!M19)/('3.физ-всего'!L19+'4.юрид-всего'!L19) -> 31.694986 | N19: ='3.физ-всего'!N19+'4.юрид-всего'!N19 -> 692.7 | O19: =('3.физ-всего'!N19*'3.физ-всего'!O19+'4.юрид-всего'!N19*'4.юрид-всего'!O19)/('3.физ-всего'!N19+'4.юрид-всего'!N19) -> 20.168096 | P19: ='3.физ-всего'!P19+'4.юрид-всего'!P19 -> 21.1 | Q19: =('3.физ-всего'!P19*'3.физ-всего'!Q19+'4.юрид-всего'!P19*'4.юрид-всего'!Q19)/('3.физ-всего'!P19+'4.юрид-всего'!P19) -> 42.037915
A20: Декабрь | B20: ='3.физ-всего'!B20+'4.юрид-всего'!B20 -> 69039.9 | C20: =('3.физ-всего'!B20*'3.физ-всего'!C20+'4.юрид-всего'!B20*'4.юрид-всего'!C20)/('3.физ-всего'!B20+'4.юрид-всего'!B20) -> 20.399741 | D20: ='3.физ-всего'!D20+'4.юрид-всего'!D20 -> 28713.1 | E20: =('3.физ-всего'!D20*'3.физ-всего'!E20+'4.юрид-всего'!D20*'4.юрид-всего'!E20)/('3.физ-всего'!D20+'4.юрид-всего'!D20) -> 8.7380841 | F20: =H20+J20+L20+N20+P20+R20 -> 40326.8 | G20: =(H20*I20+J20*K20+L20*M20+N20*O20+P20*Q20+R20*S20)/(H20+J20+L20+N20+P20+R20) -> 28.702961 | H20: ='3.физ-всего'!H20+'4.юрид-всего'!H20 -> 2858.3 | I20: =('3.физ-всего'!H20*'3.физ-всего'!I20+'4.юрид-всего'!H20*'4.юрид-всего'!I20)/('3.физ-всего'!H20+'4.юрид-всего'!H20) -> 18.706749 | J20: ='3.физ-всего'!J20+'4.юрид-всего'!J20 -> 16350.8 | K20: =('3.физ-всего'!J20*'3.физ-всего'!K20+'4.юрид-всего'!J20*'4.юрид-всего'!K20)/('3.физ-всего'!J20+'4.юрид-всего'!J20) -> 30.043679 | L20: ='3.физ-всего'!L20+'4.юрид-всего'!L20 -> 16919.7 | M20: =('3.физ-всего'!L20*'3.физ-всего'!M20+'4.юрид-всего'!L20*'4.юрид-всего'!M20)/('3.физ-всего'!L20+'4.юрид-всего'!L20) -> 27.948651 | N20: ='3.физ-всего'!N20+'4.юрид-всего'!N20 -> 4170.9 | O20: =('3.физ-всего'!N20*'3.физ-всего'!O20+'4.юрид-всего'!N20*'4.юрид-всего'!O20)/('3.физ-всего'!N20+'4.юрид-всего'!N20) -> 33.256528 | P20: ='3.физ-всего'!P20+'4.юрид-всего'!P20 -> 27.1 | Q20: =('3.физ-всего'!P20*'3.физ-всего'!Q20+'4.юрид-всего'!P20*'4.юрид-всего'!Q20)/('3.физ-всего'!P20+'4.юрид-всего'!P20) -> 44.223616
... A110: Июнь | B110: ='3.физ-всего'!B110+'4.юрид-всего'!B110 -> 7186362.3 | C110: =('3.физ-всего'!B110*'3.физ-всего'!C110+'4.юрид-всего'!B110*'4.юрид-всего'!C110)/('3.физ-всего'!B110+'4.юрид-всего'!B110) -> 0.44774262 | D110: ='3.физ-всего'!D110+'4.юрид-всего'!D110 -> 6808872.9 | E110: =('3.физ-всего'!D110*'3.физ-всего'!E110+'4.юрид-всего'!D110*'4.юрид-всего'!E110)/('3.физ-всего'!D110+'4.юрид-всего'!D110) -> 0.11246479 | F110: =H110+J110+L110+N110+P110+R110 -> 377489.4 | G110: =(H110*I110+J110*K110+L110*M110+N110*O110+P110*Q110+R110*S110)/(H110+J110+L110+N110+P110+R110) -> 6.4952346 | H110: ='3.физ-всего'!H110+'4.юрид-всего'!H110 -> 14992.8 | I110: =('3.физ-всего'!H110*'3.физ-всего'!I110+'4.юрид-всего'!H110*'4.юрид-всего'!I110)/('3.физ-всего'!H110+'4.юрид-всего'!H110) -> 0.98127301 | J110: ='3.физ-всего'!J110+'4.юрид-всего'!J110 -> 50101.1 | K110: =('3.физ-всего'!J110*'3.физ-всего'!K110+'4.юрид-всего'!J110*'4.юрид-всего'!K110)/('3.физ-всего'!J110+'4.юрид-всего'!J110) -> 4.342131 | L110: ='3.физ-всего'!L110+'4.юрид-всего'!L110 -> 42255.1 | M110: =('3.физ-всего'!L110*'3.физ-всего'!M110+'4.юрид-всего'!L110*'4.юрид-всего'!M110)/('3.физ-всего'!L110+'4.юрид-всего'!L110) -> 7.0670127 | N110: ='3.физ-всего'!N110+'4.юрид-всего'!N110 -> 30045.8 | O110: =('3.физ-всего'!N110*'3.физ-всего'!O110+'4.юрид-всего'!N110*'4.юрид-всего'!O110)/('3.физ-всего'!N110+'4.юрид-всего'!N110) -> 9.5463517 | P110: ='3.физ-всего'!P110+'4.юрид-всего'!P110 -> 240094.6 | Q110: =('3.физ-всего'!P110*'3.физ-всего'!Q110+'4.юрид-всего'!P110*'4.юрид-всего'!Q110)/('3.физ-всего'!P110+'4.юрид-всего'!P110) -> 6.8063985
A111: Июль | B111: ='3.физ-всего'!B111+'4.юрид-всего'!B111 -> 10822018 | C111: =('3.физ-всего'!B111*'3.физ-всего'!C111+'4.юрид-всего'!B111*'4.юрид-всего'!C111)/('3.физ-всего'!B111+'4.юрид-всего'!B111) -> 0.30889517 | D111: ='3.физ-всего'!D111+'4.юрид-всего'!D111 -> 10526255 | E111: =('3.физ-всего'!D111*'3.физ-всего'!E111+'4.юрид-всего'!D111*'4.юрид-всего'!E111)/('3.физ-всего'!D111+'4.юрид-всего'!D111) -> 0.10330682 | F111: =H111+J111+L111+N111+P111+R111 -> 295762.8 | G111: =(H111*I111+J111*K111+L111*M111+N111*O111+P111*Q111+R111*S111)/(H111+J111+L111+N111+P111+R111) -> 7.6258242 | H111: ='3.физ-всего'!H111+'4.юрид-всего'!H111 -> 13375.4 | I111: =('3.физ-всего'!H111*'3.физ-всего'!I111+'4.юрид-всего'!H111*'4.юрид-всего'!I111)/('3.физ-всего'!H111+'4.юрид-всего'!H111) -> 4.6248727 | J111: ='3.физ-всего'!J111+'4.юрид-всего'!J111 -> 79334.4 | K111: =('3.физ-всего'!J111*'3.физ-всего'!K111+'4.юрид-всего'!J111*'4.юрид-всего'!K111)/('3.физ-всего'!J111+'4.юрид-всего'!J111) -> 3.9179416 | L111: ='3.физ-всего'!L111+'4.юрид-всего'!L111 -> 45797.9 | M111: =('3.физ-всего'!L111*'3.физ-всего'!M111+'4.юрид-всего'!L111*'4.юрид-всего'!M111)/('3.физ-всего'!L111+'4.юрид-всего'!L111) -> 6.0345491 | N111: ='3.физ-всего'!N111+'4.юрид-всего'!N111 -> 71258 | O111: =('3.физ-всего'!N111*'3.физ-всего'!O111+'4.юрид-всего'!N111*'4.юрид-всего'!O111)/('3.физ-всего'!N111+'4.юрид-всего'!N111) -> 9.3701001 | P111: ='3.физ-всего'!P111+'4.юрид-всего'!P111 -> 85996.3 | Q111: =('3.физ-всего'!P111*'3.физ-всего'!Q111+'4.юрид-всего'!P111*'4.юрид-всего'!Q111)/('3.физ-всего'!P111+'4.юрид-всего'!P111) -> 10.915286 | R111: ='3.физ-всего'!R111+'4.юрид-всего'!R111 -> 0.8 | S111: =('3.физ-всего'!R111*'3.физ-всего'!S111+'4.юрид-всего'!R111*'4.юрид-всего'!S111)/('3.физ-всего'!R111+'4.юрид-всего'!R111) -> 12
A112: Август | B112: ='3.физ-всего'!B112+'4.юрид-всего'!B112 -> 12010770 | C112: =('3.физ-всего'!B112*'3.физ-всего'!C112+'4.юрид-всего'!B112*'4.юрид-всего'!C112)/('3.физ-всего'!B112+'4.юрид-всего'!B112) -> 0.2336798 | D112: ='3.физ-всего'!D112+'4.юрид-всего'!D112 -> 11687927 | E112: =('3.физ-всего'!D112*'3.физ-всего'!E112+'4.юрид-всего'!D112*'4.юрид-всего'!E112)/('3.физ-всего'!D112+'4.юрид-всего'!D112) -> 0.055744169 | F112: =H112+J112+L112+N112+P112+R112 -> 322843.6 | G112: =(H112*I112+J112*K112+L112*M112+N112*O112+P112*Q112+R112*S112)/(H112+J112+L112+N112+P112+R112) -> 6.6754945 | H112: ='3.физ-всего'!H112+'4.юрид-всего'!H112 -> 12599.4 | I112: =('3.физ-всего'!H112*'3.физ-всего'!I112+'4.юрид-всего'!H112*'4.юрид-всего'!I112)/('3.физ-всего'!H112+'4.юрид-всего'!H112) -> 4.6357622 | J112: ='3.физ-всего'!J112+'4.юрид-всего'!J112 -> 78786 | K112: =('3.физ-всего'!J112*'3.физ-всего'!K112+'4.юрид-всего'!J112*'4.юрид-всего'!K112)/('3.физ-всего'!J112+'4.юрид-всего'!J112) -> 4.9885981 | L112: ='3.физ-всего'!L112+'4.юрид-всего'!L112 -> 46124.5 | M112: =('3.физ-всего'!L112*'3.физ-всего'!M112+'4.юрид-всего'!L112*'4.юрид-всего'!M112)/('3.физ-всего'!L112+'4.юрид-всего'!L112) -> 5.9439689 | N112: ='3.физ-всего'!N112+'4.юрид-всего'!N112 -> 44731.9 | O112: =('3.физ-всего'!N112*'3.физ-всего'!O112+'4.юрид-всего'!N112*'4.юрид-всего'!O112)/('3.физ-всего'!N112+'4.юрид-всего'!N112) -> 9.9050951 | P112: ='3.физ-всего'!P112+'4.юрид-всего'!P112 -> 140601.8 | Q112: =('3.физ-всего'!P112*'3.физ-всего'!Q112+'4.юрид-всего'!P112*'4.юрид-всего'!Q112)/('3.физ-всего'!P112+'4.юрид-всего'!P112) -> 7.0160186
A113: Сентябрь | B113: ='3.физ-всего'!B113+'4.юрид-всего'!B113 -> 11792089 | C113: =('3.физ-всего'!B113*'3.физ-всего'!C113+'4.юрид-всего'!B113*'4.юрид-всего'!C113)/('3.физ-всего'!B113+'4.юрид-всего'!B113) -> 0.32325857 | D113: ='3.физ-всего'!D113+'4.юрид-всего'!D113 -> 11298965 | E113: =('3.физ-всего'!D113*'3.физ-всего'!E113+'4.юрид-всего'!D113*'4.юрид-всего'!E113)/('3.физ-всего'!D113+'4.юрид-всего'!D113) -> 0.082070654 | F113: =H113+J113+L113+N113+P113+R113 -> 493124.5 | G113: =(H113*I113+J113*K113+L113*M113+N113*O113+P113*Q113+R113*S113)/(H113+J113+L113+N113+P113+R113) -> 5.8495987 | H113: ='3.физ-всего'!H113+'4.юрид-всего'!H113 -> 109492.5 | I113: =('3.физ-всего'!H113*'3.физ-всего'!I113+'4.юрид-всего'!H113*'4.юрид-всего'!I113)/('3.физ-всего'!H113+'4.юрид-всего'!H113) -> 2.6485366 | J113: ='3.физ-всего'!J113+'4.юрид-всего'!J113 -> 72538.7 | K113: =('3.физ-всего'!J113*'3.физ-всего'!K113+'4.юрид-всего'!J113*'4.юрид-всего'!K113)/('3.физ-всего'!J113+'4.юрид-всего'!J113) -> 3.8736384 | L113: ='3.физ-всего'!L113+'4.юрид-всего'!L113 -> 47898.2 | M113: =('3.физ-всего'!L113*'3.физ-всего'!M113+'4.юрид-всего'!L113*'4.юрид-всего'!M113)/('3.физ-всего'!L113+'4.юрид-всего'!L113) -> 8.6470853 | N113: ='3.физ-всего'!N113+'4.юрид-всего'!N113 -> 59130.2 | O113: =('3.физ-всего'!N113*'3.физ-всего'!O113+'4.юрид-всего'!N113*'4.юрид-всего'!O113)/('3.физ-всего'!N113+'4.юрид-всего'!N113) -> 7.8887279 | P113: ='3.физ-всего'!P113+'4.юрид-всего'!P113 -> 140941.6 | Q113: =('3.физ-всего'!P113*'3.физ-всего'!Q113+'4.юрид-всего'!P113*'4.юрид-всего'!Q113)/('3.физ-всего'!P113+'4.юрид-всего'!P113) -> 10.166987 | R113: ='3.физ-всего'!R113+'4.юрид-всего'!R113 -> 63123.3 | S113: =('3.физ-всего'!R113*'3.физ-всего'!S113+'4.юрид-всего'!R113*'4.юрид-всего'!S113)/('3.физ-всего'!R113+'4.юрид-всего'!R113) -> 5.7031239e-05
A114: Октябрь | B114: ='3.физ-всего'!B114+'4.юрид-всего'!B114 -> 12491343 | C114: =('3.физ-всего'!B114*'3.физ-всего'!C114+'4.юрид-всего'!B114*'4.юрид-всего'!C114)/('3.физ-всего'!B114+'4.юрид-всего'!B114) -> 0.44789463 | D114: ='3.физ-всего'!D114+'4.юрид-всего'!D114 -> 11645180 | E114: =('3.физ-всего'!D114*'3.физ-всего'!E114+'4.юрид-всего'!D114*'4.юрид-всего'!E114)/('3.физ-всего'!D114+'4.юрид-всего'!D114) -> 0.10094098 | F114: =H114+J114+L114+N114+P114+R114 -> 846163.2 | G114: =(H114*I114+J114*K114+L114*M114+N114*O114+P114*Q114+R114*S114)/(H114+J114+L114+N114+P114+R114) -> 5.2227864 | H114: ='3.физ-всего'!H114+'4.юрид-всего'!H114 -> 167684.8 | I114: =('3.физ-всего'!H114*'3.физ-всего'!I114+'4.юрид-всего'!H114*'4.юрид-всего'!I114)/('3.физ-всего'!H114+'4.юрид-всего'!H114) -> 1.6953882 | J114: ='3.физ-всего'!J114+'4.юрид-всего'!J114 -> 170073.4 | K114: =('3.физ-всего'!J114*'3.физ-всего'!K114+'4.юрид-всего'!J114*'4.юрид-всего'!K114)/('3.физ-всего'!J114+'4.юрид-всего'!J114) -> 3.2894521 | L114: ='3.физ-всего'!L114+'4.юрид-всего'!L114 -> 166610.6 | M114: =('3.физ-всего'!L114*'3.физ-всего'!M114+'4.юрид-всего'!L114*'4.юрид-всего'!M114)/('3.физ-всего'!L114+'4.юрид-всего'!L114) -> 5.9496984 | N114: ='3.физ-всего'!N114+'4.юрид-всего'!N114 -> 106012.2 | O114: =('3.физ-всего'!N114*'3.физ-всего'!O114+'4.юрид-всего'!N114*'4.юрид-всего'!O114)/('3.физ-всего'!N114+'4.юрид-всего'!N114) -> 7.388982 | P114: ='3.физ-всего'!P114+'4.юрид-всего'!P114 -> 235781.7 | Q114: =('3.физ-всего'!P114*'3.физ-всего'!Q114+'4.юрид-всего'!P114*'4.юрид-всего'!Q114)/('3.физ-всего'!P114+'4.юрид-всего'!P114) -> 7.6383343 | R114: ='3.физ-всего'!R114+'4.юрид-всего'!R114 -> 0.5 | S114: =('3.физ-всего'!R114*'3.физ-всего'!S114+'4.юрид-всего'!R114*'4.юрид-всего'!S114)/('3.физ-всего'!R114+'4.юрид-всего'!R114) -> 12
A115: Ноябрь | B115: ='3.физ-всего'!B115+'4.юрид-всего'!B115 -> 13252588 | C115: =('3.физ-всего'!B115*'3.физ-всего'!C115+'4.юрид-всего'!B115*'4.юрид-всего'!C115)/('3.физ-всего'!B115+'4.юрид-всего'!B115) -> 0.17619582 | D115: ='3.физ-всего'!D115+'4.юрид-всего'!D115 -> 12848765 | E115: =('3.физ-всего'!D115*'3.физ-всего'!E115+'4.юрид-всего'!D115*'4.юрид-всего'!E115)/('3.физ-всего'!D115+'4.юрид-всего'!D115) -> 0.01375013 | F115: =H115+J115+L115+N115+P115+R115 -> 403822.6 | G115: =(H115*I115+J115*K115+L115*M115+N115*O115+P115*Q115+R115*S115)/(H115+J115+L115+N115+P115+R115) -> 5.3448677 | H115: ='3.физ-всего'!H115+'4.юрид-всего'!H115 -> 125485.1 | I115: =('3.физ-всего'!H115*'3.физ-всего'!I115+'4.юрид-всего'!H115*'4.юрид-всего'!I115)/('3.физ-всего'!H115+'4.юрид-всего'!H115) -> 2.7670497 | J115: ='3.физ-всего'!J115+'4.юрид-всего'!J115 -> 74452.1 | K115: =('3.физ-всего'!J115*'3.физ-всего'!K115+'4.юрид-всего'!J115*'4.юрид-всего'!K115)/('3.физ-всего'!J115+'4.юрид-всего'!J115) -> 3.965842 | L115: ='3.физ-всего'!L115+'4.юрид-всего'!L115 -> 58535 | M115: =('3.физ-всего'!L115*'3.физ-всего'!M115+'4.юрид-всего'!L115*'4.юрид-всего'!M115)/('3.физ-всего'!L115+'4.юрид-всего'!L115) -> 6.0870633 | N115: ='3.физ-всего'!N115+'4.юрид-всего'!N115 -> 44649.3 | O115: =('3.физ-всего'!N115*'3.физ-всего'!O115+'4.юрид-всего'!N115*'4.юрид-всего'!O115)/('3.физ-всего'!N115+'4.юрид-всего'!N115) -> 9.5076702 | P115: ='3.физ-всего'!P115+'4.юрид-всего'!P115 -> 100700.8 | Q115: =('3.физ-всего'!P115*'3.физ-всего'!Q115+'4.юрид-всего'!P115*'4.юрид-всего'!Q115)/('3.физ-всего'!P115+'4.юрид-всего'!P115) -> 7.2995341 | R115: ='3.физ-всего'!R115+'4.юрид-всего'!R115 -> 0.3 | S115: =('3.физ-всего'!R115*'3.физ-всего'!S115+'4.юрид-всего'!R115*'4.юрид-всего'!S115)/('3.физ-всего'!R115+'4.юрид-всего'!R115) -> 12
A116: Декабрь | B116: ='3.физ-всего'!B116+'4.юрид-всего'!B116 -> 14854000 | C116: =('3.физ-всего'!B116*'3.физ-всего'!C116+'4.юрид-всего'!B116*'4.юрид-всего'!C116)/('3.физ-всего'!B116+'4.юрид-всего'!B116) -> 0.24472759 | D116: ='3.физ-всего'!D116+'4.юрид-всего'!D116 -> 14154988 | E116: =('3.физ-всего'!D116*'3.физ-всего'!E116+'4.юрид-всего'!D116*'4.юрид-всего'!E116)/('3.физ-всего'!D116+'4.юрид-всего'!D116) -> 0.017533398 | F116: =H116+J116+L116+N116+P116+R116 -> 699012 | G116: =(H116*I116+J116*K116+L116*M116+N116*O116+P116*Q116+R116*S116)/(H116+J116+L116+N116+P116+R116) -> 4.8454082 | H116: ='3.физ-всего'!H116+'4.юрид-всего'!H116 -> 158887.9 | I116: =('3.физ-всего'!H116*'3.физ-всего'!I116+'4.юрид-всего'!H116*'4.юрид-всего'!I116)/('3.физ-всего'!H116+'4.юрид-всего'!H116) -> 2.46083 | J116: ='3.физ-всего'!J116+'4.юрид-всего'!J116 -> 126142.6 | K116: =('3.физ-всего'!J116*'3.физ-всего'!K116+'4.юрид-всего'!J116*'4.юрид-всего'!K116)/('3.физ-всего'!J116+'4.юрид-всего'!J116) -> 3.8065781 | L116: ='3.физ-всего'!L116+'4.юрид-всего'!L116 -> 66566.5 | M116: =('3.физ-всего'!L116*'3.физ-всего'!M116+'4.юрид-всего'!L116*'4.юрид-всего'!M116)/('3.физ-всего'!L116+'4.юрид-всего'!L116) -> 7.5456316 | N116: ='3.физ-всего'!N116+'4.юрид-всего'!N116 -> 58228.8 | O116: =('3.физ-всего'!N116*'3.физ-всего'!O116+'4.юрид-всего'!N116*'4.юрид-всего'!O116)/('3.физ-всего'!N116+'4.юрид-всего'!N116) -> 8.9746048 | P116: ='3.физ-всего'!P116+'4.юрид-всего'!P116 -> 227720.7 | Q116: =('3.физ-всего'!P116*'3.физ-всего'!Q116+'4.юрид-всего'!P116*'4.юрид-всего'!Q116)/('3.физ-всего'!P116+'4.юрид-всего'!P116) -> 6.5471357 | R116: ='3.физ-всего'!R116+'4.юрид-всего'!R116 -> 61465.5 | S116: =('3.физ-всего'!R116*'3.физ-всего'!S116+'4.юрид-всего'!R116*'4.юрид-всего'!S116)/('3.физ-всего'!R116+'4.юрид-всего'!R116) -> 0.00074187959
A117: Январь 2005 г. | B117: ='3.физ-всего'!B117+'4.юрид-всего'!B117 -> 8854900.8 | C117: =('3.физ-всего'!B117*'3.физ-всего'!C117+'4.юрид-всего'!B117*'4.юрид-всего'!C117)/('3.физ-всего'!B117+'4.юрид-всего'!B117) -> 0.49379472 | D117: ='3.физ-всего'!D117+'4.юрид-всего'!D117 -> 7919923.9 | E117: =('3.физ-всего'!D117*'3.физ-всего'!E117+'4.юрид-всего'!D117*'4.юрид-всего'!E117)/('3.физ-всего'!D117+'4.юрид-всего'!D117) -> 0.0111707 | F117: =H117+J117+L117+N117+P117+R117 -> 934976.9 | G117: =(H117*I117+J117*K117+L117*M117+N117*O117+P117*Q117+R117*S117)/(H117+J117+L117+N117+P117+R117) -> 4.5819658 | H117: ='3.физ-всего'!H117+'4.юрид-всего'!H117 -> 126965.3 | I117: =('3.физ-всего'!H117*'3.физ-всего'!I117+'4.юрид-всего'!H117*'4.юрид-всего'!I117)/('3.физ-всего'!H117+'4.юрид-всего'!H117) -> 3.6816516 | J117: ='3.физ-всего'!J117+'4.юрид-всего'!J117 -> 72767.1 | K117: =('3.физ-всего'!J117*'3.физ-всего'!K117+'4.юрид-всего'!J117*'4.юрид-всего'!K117)/('3.физ-всего'!J117+'4.юрид-всего'!J117) -> 4.0885152 | L117: ='3.физ-всего'!L117+'4.юрид-всего'!L117 -> 111258.9 | M117: =('3.физ-всего'!L117*'3.физ-всего'!M117+'4.юрид-всего'!L117*'4.юрид-всего'!M117)/('3.физ-всего'!L117+'4.юрид-всего'!L117) -> 9.3513869 | N117: ='3.физ-всего'!N117+'4.юрид-всего'!N117 -> 50974.9 | O117: =('3.физ-всего'!N117*'3.физ-всего'!O117+'4.юрид-всего'!N117*'4.юрид-всего'!O117)/('3.физ-всего'!N117+'4.юрид-всего'!N117) -> 9.2653579 | P117: ='3.физ-всего'!P117+'4.юрид-всего'!P117 -> 573010.4 | Q117: =('3.физ-всего'!P117*'3.физ-всего'!Q117+'4.юрид-всего'!P117*'4.юрид-всего'!Q117)/('3.физ-всего'!P117+'4.юрид-всего'!P117) -> 3.5014224 | R117: ='3.физ-всего'!R117+'4.юрид-всего'!R117 -> 0.3 | S117: =('3.физ-всего'!R117*'3.физ-всего'!S117+'4.юрид-всего'!R117*'4.юрид-всего'!S117)/('3.физ-всего'!R117+'4.юрид-всего'!R117) -> 12
A118: Февраль | B118: ='3.физ-всего'!B118+'4.юрид-всего'!B118 -> 10691606 | C118: =('3.физ-всего'!B118*'3.физ-всего'!C118+'4.юрид-всего'!B118*'4.юрид-всего'!C118)/('3.физ-всего'!B118+'4.юрид-всего'!B118) -> 0.25187512 | D118: ='3.физ-всего'!D118+'4.юрид-всего'!D118 -> 10345418 | E118: =('3.физ-всего'!D118*'3.физ-всего'!E118+'4.юрид-всего'!D118*'4.юрид-всего'!E118)/('3.физ-всего'!D118+'4.юрид-всего'!D118) -> 0.0105407 | F118: =H118+J118+L118+N118+P118+R118 -> 346187.9 | G118: =(H118*I118+J118*K118+L118*M118+N118*O118+P118*Q118+R118*S118)/(H118+J118+L118+N118+P118+R118) -> 7.46387 | H118: ='3.физ-всего'!H118+'4.юрид-всего'!H118 -> 11301.5 | I118: =('3.физ-всего'!H118*'3.физ-всего'!I118+'4.юрид-всего'!H118*'4.юрид-всего'!I118)/('3.физ-всего'!H118+'4.юрид-всего'!H118) -> 1.4539355 | J118: ='3.физ-всего'!J118+'4.юрид-всего'!J118 -> 77613.6 | K118: =('3.физ-всего'!J118*'3.физ-всего'!K118+'4.юрид-всего'!J118*'4.юрид-всего'!K118)/('3.физ-всего'!J118+'4.юрид-всего'!J118) -> 3.4383263 | L118: ='3.физ-всего'!L118+'4.юрид-всего'!L118 -> 79383.6 | M118: =('3.физ-всего'!L118*'3.физ-всего'!M118+'4.юрид-всего'!L118*'4.юрид-всего'!M118)/('3.физ-всего'!L118+'4.юрид-всего'!L118) -> 6.2830775 | N118: ='3.физ-всего'!N118+'4.юрид-всего'!N118 -> 66937.7 | O118: =('3.физ-всего'!N118*'3.физ-всего'!O118+'4.юрид-всего'!N118*'4.юрид-всего'!O118)/('3.физ-всего'!N118+'4.юрид-всего'!N118) -> 8.7691556 | P118: ='3.физ-всего'!P118+'4.юрид-всего'!P118 -> 110951.2 | Q118: =('3.физ-всего'!P118*'3.физ-всего'!Q118+'4.юрид-всего'!P118*'4.юрид-всего'!Q118)/('3.физ-всего'!P118+'4.юрид-всего'!P118) -> 10.949363 | R118: ='3.физ-всего'!R118+'4.юрид-всего'!R118 -> 0.3 | S118: =('3.физ-всего'!R118*'3.физ-всего'!S118+'4.юрид-всего'!R118*'4.юрид-всего'!S118)/('3.физ-всего'!R118+'4.юрид-всего'!R118) -> 12
A119: Март | B119: ='3.физ-всего'!B119+'4.юрид-всего'!B119 -> 12266439 | C119: =('3.физ-всего'!B119*'3.физ-всего'!C119+'4.юрид-всего'!B119*'4.юрид-всего'!C119)/('3.физ-всего'!B119+'4.юрид-всего'!B119) -> 0.24162238 | D119: ='3.физ-всего'!D119+'4.юрид-всего'!D119 -> 11398437 | E119: =('3.физ-всего'!D119*'3.физ-всего'!E119+'4.юрид-всего'!D119*'4.юрид-всего'!E119)/('3.физ-всего'!D119+'4.юрид-всего'!D119) -> 0.012365061 | F119: =H119+J119+L119+N119+P119+R119 -> 868002.3 | G119: =(H119*I119+J119*K119+L119*M119+N119*O119+P119*Q119+R119*S119)/(H119+J119+L119+N119+P119+R119) -> 3.2521847 | H119: ='3.физ-всего'!H119+'4.юрид-всего'!H119 -> 45700.2 | I119: =('3.физ-всего'!H119*'3.физ-всего'!I119+'4.юрид-всего'!H119*'4.юрид-всего'!I119)/('3.физ-всего'!H119+'4.юрид-всего'!H119) -> 1.8096179 | J119: ='3.физ-всего'!J119+'4.юрид-всего'!J119 -> 61349.7 | K119: =('3.физ-всего'!J119*'3.физ-всего'!K119+'4.юрид-всего'!J119*'4.юрид-всего'!K119)/('3.физ-всего'!J119+'4.юрид-всего'!J119) -> 3.6129583 | L119: ='3.физ-всего'!L119+'4.юрид-всего'!L119 -> 46623.7 | M119: =('3.физ-всего'!L119*'3.физ-всего'!M119+'4.юрид-всего'!L119*'4.юрид-всего'!M119)/('3.физ-всего'!L119+'4.юрид-всего'!L119) -> 8.9453941 | N119: ='3.физ-всего'!N119+'4.юрид-всего'!N119 -> 52957.4 | O119: =('3.физ-всего'!N119*'3.физ-всего'!O119+'4.юрид-всего'!N119*'4.юрид-всего'!O119)/('3.физ-всего'!N119+'4.юрид-всего'!N119) -> 8.2707278 | P119: ='3.физ-всего'!P119+'4.юрид-всего'!P119 -> 600759.9 | Q119: =('3.физ-всего'!P119*'3.физ-всего'!Q119+'4.юрид-всего'!P119*'4.юрид-всего'!Q119)/('3.физ-всего'!P119+'4.юрид-всего'!P119) -> 2.7689624 | R119: ='3.физ-всего'!R119+'4.юрид-всего'!R119 -> 60611.4 | S119: =('3.физ-всего'!R119*'3.физ-всего'!S119+'4.юрид-всего'!R119*'4.юрид-всего'!S119)/('3.физ-всего'!R119+'4.юрид-всего'!R119) -> 7.9193023e-05
A120: Апрель | B120: ='3.физ-всего'!B120+'4.юрид-всего'!B120 -> 14580227 | C120: =('3.физ-всего'!B120*'3.физ-всего'!C120+'4.юрид-всего'!B120*'4.юрид-всего'!C120)/('3.физ-всего'!B120+'4.юрид-всего'!B120) -> 0.24237296 | D120: ='3.физ-всего'!D120+'4.юрид-всего'!D120 -> 14064667 | E120: =('3.физ-всего'!D120*'3.физ-всего'!E120+'4.юрид-всего'!D120*'4.юрид-всего'!E120)/('3.физ-всего'!D120+'4.юрид-всего'!D120) -> 0.011872425 | F120: =H120+J120+L120+N120+P120+R120 -> 515559.9 | G120: =(H120*I120+J120*K120+L120*M120+N120*O120+P120*Q120+R120*S120)/(H120+J120+L120+N120+P120+R120) -> 6.5305139 | H120: ='3.физ-всего'!H120+'4.юрид-всего'!H120 -> 20816.6 | I120: =('3.физ-всего'!H120*'3.физ-всего'!I120+'4.юрид-всего'!H120*'4.юрид-всего'!I120)/('3.физ-всего'!H120+'4.юрид-всего'!H120) -> 2.2293516 | J120: ='3.физ-всего'!J120+'4.юрид-всего'!J120 -> 161651 | K120: =('3.физ-всего'!J120*'3.физ-всего'!K120+'4.юрид-всего'!J120*'4.юрид-всего'!K120)/('3.физ-всего'!J120+'4.юрид-всего'!J120) -> 3.8577046 | L120: ='3.физ-всего'!L120+'4.юрид-всего'!L120 -> 60442.6 | M120: =('3.физ-всего'!L120*'3.физ-всего'!M120+'4.юрид-всего'!L120*'4.юрид-всего'!M120)/('3.физ-всего'!L120+'4.юрид-всего'!L120) -> 6.9732468 | N120: ='3.физ-всего'!N120+'4.юрид-всего'!N120 -> 65064.7 | O120: =('3.физ-всего'!N120*'3.физ-всего'!O120+'4.юрид-всего'!N120*'4.юрид-всего'!O120)/('3.физ-всего'!N120+'4.юрид-всего'!N120) -> 10.160284 | P120: ='3.физ-всего'!P120+'4.юрид-всего'!P120 -> 207584.7 | Q120: =('3.физ-всего'!P120*'3.физ-всего'!Q120+'4.юрид-всего'!P120*'4.юрид-всего'!Q120)/('3.физ-всего'!P120+'4.юрид-всего'!P120) -> 7.7765902 | R120: ='3.физ-всего'!R120+'4.юрид-всего'!R120 -> 0.3 | S120: =('3.физ-всего'!R120*'3.физ-всего'!S120+'4.юрид-всего'!R120*'4.юрид-всего'!S120)/('3.физ-всего'!R120+'4.юрид-всего'!R120) -> 12
A121: Май | B121: ='3.физ-всего'!B121+'4.юрид-всего'!B121 -> 9694579.6 | C121: =('3.физ-всего'!B121*'3.физ-всего'!C121+'4.юрид-всего'!B121*'4.юрид-всего'!C121)/('3.физ-всего'!B121+'4.юрид-всего'!B121) -> 0.21343434 | D121: ='3.физ-всего'!D121+'4.юрид-всего'!D121 -> 9402590.5 | E121: =('3.физ-всего'!D121*'3.физ-всего'!E121+'4.юрид-всего'!D121*'4.юрид-всего'!E121)/('3.физ-всего'!D121+'4.юрид-всего'!D121) -> 0.021996625 | F121: =H121+J121+L121+N121+P121+R121 -> 291989.1 | G121: =(H121*I121+J121*K121+L121*M121+N121*O121+P121*Q121+R121*S121)/(H121+J121+L121+N121+P121+R121) -> 6.3780839 | H121: ='3.физ-всего'!H121+'4.юрид-всего'!H121 -> 8355.5 | I121: =('3.физ-всего'!H121*'3.физ-всего'!I121+'4.юрид-всего'!H121*'4.юрид-всего'!I121)/('3.физ-всего'!H121+'4.юрид-всего'!H121) -> 2.0156049 | J121: ='3.физ-всего'!J121+'4.юрид-всего'!J121 -> 156424.3 | K121: =('3.физ-всего'!J121*'3.физ-всего'!K121+'4.юрид-всего'!J121*'4.юрид-всего'!K121)/('3.физ-всего'!J121+'4.юрид-всего'!J121) -> 4.0853234 | L121: ='3.физ-всего'!L121+'4.юрид-всего'!L121 -> 47757.5 | M121: =('3.физ-всего'!L121*'3.физ-всего'!M121+'4.юрид-всего'!L121*'4.юрид-всего'!M121)/('3.физ-всего'!L121+'4.юрид-всего'!L121) -> 7.3367781 | N121: ='3.физ-всего'!N121+'4.юрид-всего'!N121 -> 41156.1 | O121: =('3.физ-всего'!N121*'3.физ-всего'!O121+'4.юрид-всего'!N121*'4.юрид-всего'!O121)/('3.физ-всего'!N121+'4.юрид-всего'!N121) -> 9.8158445 | P121: ='3.физ-всего'!P121+'4.юрид-всего'!P121 -> 38169 | Q121: =('3.физ-всего'!P121*'3.физ-всего'!Q121+'4.юрид-всего'!P121*'4.юрид-всего'!Q121)/('3.физ-всего'!P121+'4.юрид-всего'!P121) -> 11.810911 | R121: ='3.физ-всего'!R121+'4.юрид-всего'!R121 -> 126.7 | S121: =('3.физ-всего'!R121*'3.физ-всего'!S121+'4.юрид-всего'!R121*'4.юрид-всего'!S121)/('3.физ-всего'!R121+'4.юрид-всего'!R121) -> 10
A122: Июнь | B122: ='3.физ-всего'!B122+'4.юрид-всего'!B122 -> 7806894.1 | C122: =('3.физ-всего'!B122*'3.физ-всего'!C122+'4.юрид-всего'!B122*'4.юрид-всего'!C122)/('3.физ-всего'!B122+'4.юрид-всего'!B122) -> 0.27343483 | D122: ='3.физ-всего'!D122+'4.юрид-всего'!D122 -> 7354716.5 | E122: =('3.физ-всего'!D122*'3.физ-всего'!E122+'4.юрид-всего'!D122*'4.юрид-всего'!E122)/('3.физ-всего'!D122+'4.юрид-всего'!D122) -> 0.025249469 | F122: =H122+J122+L122+N122+P122+R122 -> 452177.6 | G122: =(H122*I122+J122*K122+L122*M122+N122*O122+P122*Q122+R122*S122)/(H122+J122+L122+N122+P122+R122) -> 4.310196 | H122: ='3.физ-всего'!H122+'4.юрид-всего'!H122 -> 27077.8 | I122: =('3.физ-всего'!H122*'3.физ-всего'!I122+'4.юрид-всего'!H122*'4.юрид-всего'!I122)/('3.физ-всего'!H122+'4.юрид-всего'!H122) -> 1.3579043 | J122: ='3.физ-всего'!J122+'4.юрид-всего'!J122 -> 195918.2 | K122: =('3.физ-всего'!J122*'3.физ-всего'!K122+'4.юрид-всего'!J122*'4.юрид-всего'!K122)/('3.физ-всего'!J122+'4.юрид-всего'!J122) -> 2.4382082 | L122: ='3.физ-всего'!L122+'4.юрид-всего'!L122 -> 84742.9 | M122: =('3.физ-всего'!L122*'3.физ-всего'!M122+'4.юрид-всего'!L122*'4.юрид-всего'!M122)/('3.физ-всего'!L122+'4.юрид-всего'!L122) -> 7.4365878 | N122: ='3.физ-всего'!N122+'4.юрид-всего'!N122 -> 40310.5 | O122: =('3.физ-всего'!N122*'3.физ-всего'!O122+'4.юрид-всего'!N122*'4.юрид-всего'!O122)/('3.физ-всего'!N122+'4.юрид-всего'!N122) -> 8.6228722 | P122: ='3.физ-всего'!P122+'4.юрид-всего'!P122 -> 44364.9 | Q122: =('3.физ-всего'!P122*'3.физ-всего'!Q122+'4.юрид-всего'!P122*'4.юрид-всего'!Q122)/('3.физ-всего'!P122+'4.юрид-всего'!P122) -> 10.294677 | R122: ='3.физ-всего'!R122+'4.юрид-всего'!R122 -> 59763.3 | S122: =('3.физ-всего'!R122*'3.физ-всего'!S122+'4.юрид-всего'!R122*'4.юрид-всего'!S122)/('3.физ-всего'!R122+'4.юрид-всего'!R122) -> 5.0198031e-05
A123: Июль | B123: ='3.физ-всего'!B123+'4.юрид-всего'!B123 -> 5145279.4 | C123: =('3.физ-всего'!B123*'3.физ-всего'!C123+'4.юрид-всего'!B123*'4.юрид-всего'!C123)/('3.физ-всего'!B123+'4.юрид-всего'!B123) -> 0.57822794 | D123: ='3.физ-всего'!D123+'4.юрид-всего'!D123 -> 4725280 | E123: =('3.физ-всего'!D123*'3.физ-всего'!E123+'4.юрид-всего'!D123*'4.юрид-всего'!E123)/('3.физ-всего'!D123+'4.юрид-всего'!D123) -> 0.059260407 | F123: =H123+J123+L123+N123+P123+R123 -> 419999.4 | G123: =(H123*I123+J123*K123+L123*M123+N123*O123+P123*Q123+R123*S123)/(H123+J123+L123+N123+P123+R123) -> 6.4169669 | H123: ='3.физ-всего'!H123+'4.юрид-всего'!H123 -> 20338.5 | I123: =('3.физ-всего'!H123*'3.физ-всего'!I123+'4.юрид-всего'!H123*'4.юрид-всего'!I123)/('3.физ-всего'!H123+'4.юрид-всего'!H123) -> 0.5135187 | J123: ='3.физ-всего'!J123+'4.юрид-всего'!J123 -> 198282 | K123: =('3.физ-всего'!J123*'3.физ-всего'!K123+'4.юрид-всего'!J123*'4.юрид-всего'!K123)/('3.физ-всего'!J123+'4.юрид-всего'!J123) -> 5.6539142 | L123: ='3.физ-всего'!L123+'4.юрид-всего'!L123 -> 55209.7 | M123: =('3.физ-всего'!L123*'3.физ-всего'!M123+'4.юрид-всего'!L123*'4.юрид-всего'!M123)/('3.физ-всего'!L123+'4.юрид-всего'!L123) -> 6.0490585 | N123: ='3.физ-всего'!N123+'4.юрид-всего'!N123 -> 62962.4 | O123: =('3.физ-всего'!N123*'3.физ-всего'!O123+'4.юрид-всего'!N123*'4.юрид-всего'!O123)/('3.физ-всего'!N123+'4.юрид-всего'!N123) -> 7.9053506 | P123: ='3.физ-всего'!P123+'4.юрид-всего'!P123 -> 82141.8 | Q123: =('3.физ-всего'!P123*'3.физ-всего'!Q123+'4.юрид-всего'!P123*'4.юрид-всего'!Q123)/('3.физ-всего'!P123+'4.юрид-всего'!P123) -> 8.8972289 | R123: ='3.физ-всего'!R123+'4.юрид-всего'!R123 -> 1065 | S123: =('3.физ-всего'!R123*'3.физ-всего'!S123+'4.юрид-всего'!R123*'4.юрид-всего'!S123)/('3.физ-всего'!R123+'4.юрид-всего'!R123) -> 1.0025352
A124: Август | B124: ='3.физ-всего'!B124+'4.юрид-всего'!B124 -> 3821973.4 | C124: =('3.физ-всего'!B124*'3.физ-всего'!C124+'4.юрид-всего'!B124*'4.юрид-всего'!C124)/('3.физ-всего'!B124+'4.юрид-всего'!B124) -> 0.73371658 | D124: ='3.физ-всего'!D124+'4.юрид-всего'!D124 -> 3413237.3 | E124: =('3.физ-всего'!D124*'3.физ-всего'!E124+'4.юрид-всего'!D124*'4.юрид-всего'!E124)/('3.физ-всего'!D124+'4.юрид-всего'!D124) -> 0.072071912 | F124: =H124+J124+L124+N124+P124+R124 -> 408736.1 | G124: =(H124*I124+J124*K124+L124*M124+N124*O124+P124*Q124+R124*S124)/(H124+J124+L124+N124+P124+R124) -> 6.2589204 | H124: ='3.физ-всего'!H124+'4.юрид-всего'!H124 -> 38770 | I124: =('3.физ-всего'!H124*'3.физ-всего'!I124+'4.юрид-всего'!H124*'4.юрид-всего'!I124)/('3.физ-всего'!H124+'4.юрид-всего'!H124) -> 3.2414873 | J124: ='3.физ-всего'!J124+'4.юрид-всего'!J124 -> 66804.7 | K124: =('3.физ-всего'!J124*'3.физ-всего'!K124+'4.юрид-всего'!J124*'4.юрид-всего'!K124)/('3.физ-всего'!J124+'4.юрид-всего'!J124) -> 4.6788593 | L124: ='3.физ-всего'!L124+'4.юрид-всего'!L124 -> 125908.8 | M124: =('3.физ-всего'!L124*'3.физ-всего'!M124+'4.юрид-всего'!L124*'4.юрид-всего'!M124)/('3.физ-всего'!L124+'4.юрид-всего'!L124) -> 5.1164641 | N124: ='3.физ-всего'!N124+'4.юрид-всего'!N124 -> 66454.8 | O124: =('3.физ-всего'!N124*'3.физ-всего'!O124+'4.юрид-всего'!N124*'4.юрид-всего'!O124)/('3.физ-всего'!N124+'4.юрид-всего'!N124) -> 9.6988938 | P124: ='3.физ-всего'!P124+'4.юрид-всего'!P124 -> 110789.3 | Q124: =('3.физ-всего'!P124*'3.физ-всего'!Q124+'4.юрид-всего'!P124*'4.юрид-всего'!Q124)/('3.физ-всего'!P124+'4.юрид-всего'!P124) -> 7.502291 | R124: ='3.физ-всего'!R124+'4.юрид-всего'!R124 -> 8.5 | S124: =('3.физ-всего'!R124*'3.физ-всего'!S124+'4.юрид-всего'!R124*'4.юрид-всего'!S124)/('3.физ-всего'!R124+'4.юрид-всего'!R124) -> 10
... A176: Декабрь | B176: ='3.физ-всего'!B176+'4.юрид-всего'!B176 -> 8890531 | C176: =('3.физ-всего'!B176*'3.физ-всего'!C176+'4.юрид-всего'!B176*'4.юрид-всего'!C176)/('3.физ-всего'!B176+'4.юрид-всего'!B176) -> 2.3396294 | D176: ='3.физ-всего'!D176+'4.юрид-всего'!D176 -> 6320772.6 | E176: =('3.физ-всего'!D176*'3.физ-всего'!E176+'4.юрид-всего'!D176*'4.юрид-всего'!E176)/('3.физ-всего'!D176+'4.юрид-всего'!D176) -> 0.27429923 | F176: =H176+J176+L176+N176+P176+R176 -> 2569758.4 | G176: =(H176*I176+J176*K176+L176*M176+N176*O176+P176*Q176+R176*S176)/(H176+J176+L176+N176+P176+R176) -> 7.4196721 | H176: ='3.физ-всего'!H176+'4.юрид-всего'!H176 -> 82742.4 | I176: =('3.физ-всего'!H176*'3.физ-всего'!I176+'4.юрид-всего'!H176*'4.юрид-всего'!I176)/('3.физ-всего'!H176+'4.юрид-всего'!H176) -> 2.3030222 | J176: ='3.физ-всего'!J176+'4.юрид-всего'!J176 -> 892003.6 | K176: =('3.физ-всего'!J176*'3.физ-всего'!K176+'4.юрид-всего'!J176*'4.юрид-всего'!K176)/('3.физ-всего'!J176+'4.юрид-всего'!J176) -> 4.0029561 | L176: ='3.физ-всего'!L176+'4.юрид-всего'!L176 -> 285457 | M176: =('3.физ-всего'!L176*'3.физ-всего'!M176+'4.юрид-всего'!L176*'4.юрид-всего'!M176)/('3.физ-всего'!L176+'4.юрид-всего'!L176) -> 7.7357653 | N176: ='3.физ-всего'!N176+'4.юрид-всего'!N176 -> 986723.4 | O176: =('3.физ-всего'!N176*'3.физ-всего'!O176+'4.юрид-всего'!N176*'4.юрид-всего'!O176)/('3.физ-всего'!N176+'4.юрид-всего'!N176) -> 9.0184253 | P176: ='3.физ-всего'!P176+'4.юрид-всего'!P176 -> 321362.4 | Q176: =('3.физ-всего'!P176*'3.физ-всего'!Q176+'4.юрид-всего'!P176*'4.юрид-всего'!Q176)/('3.физ-всего'!P176+'4.юрид-всего'!P176) -> 13.055207 | R176: ='3.физ-всего'!R176+'4.юрид-всего'!R176 -> 1469.6 | S176: =('3.физ-всего'!R176*'3.физ-всего'!S176+'4.юрид-всего'!R176*'4.юрид-всего'!S176)/('3.физ-всего'!R176+'4.юрид-всего'!R176) -> 2.1664126
A177: Январь 2010 г. | B177: ='3.физ-всего'!B177+'4.юрид-всего'!B177+'5.нерез-всего'!B9 -> 7364367.1 | C177: =('3.физ-всего'!B177*'3.физ-всего'!C177+'4.юрид-всего'!B177*'4.юрид-всего'!C177+'5.нерез-всего'!B9*'5.нерез-всего'!C9)/('3.физ-всего'!B177+'4.юрид-всего'!B177+'5.нерез-всего'!B9) -> 2.1847937 | D177: ='3.физ-всего'!D177+'4.юрид-всего'!D177+'5.нерез-всего'!D9 -> 5781609.7 | E177: =('3.физ-всего'!D177*'3.физ-всего'!E177+'4.юрид-всего'!D177*'4.юрид-всего'!E177+'5.нерез-всего'!D9*'5.нерез-всего'!E9)/('3.физ-всего'!D177+'4.юрид-всего'!D177+'5.нерез-всего'!D9) -> 0.16483901 | F177: =H177+J177+L177+N177+P177+R177 -> 1582757.4 | G177: =(H177*I177+J177*K177+L177*M177+N177*O177+P177*Q177+R177*S177)/(H177+J177+L177+N177+P177+R177) -> 9.5634291 | H177: ='3.физ-всего'!H177+'4.юрид-всего'!H177+'5.нерез-всего'!H9 -> 40289.6 | I177: =('3.физ-всего'!H177*'3.физ-всего'!I177+'4.юрид-всего'!H177*'4.юрид-всего'!I177+'5.нерез-всего'!H9*'5.нерез-всего'!I9)/('3.физ-всего'!H177+'4.юрид-всего'!H177+'5.нерез-всего'!H9) -> 3.086776 | J177: ='3.физ-всего'!J177+'4.юрид-всего'!J177+'5.нерез-всего'!J9 -> 246659.6 | K177: =('3.физ-всего'!J177*'3.физ-всего'!K177+'4.юрид-всего'!J177*'4.юрид-всего'!K177+'5.нерез-всего'!J9*'5.нерез-всего'!K9)/('3.физ-всего'!J177+'4.юрид-всего'!J177+'5.нерез-всего'!J9) -> 5.7144794 | L177: ='3.физ-всего'!L177+'4.юрид-всего'!L177+'5.нерез-всего'!L9 -> 228294.3 | M177: =('3.физ-всего'!L177*'3.физ-всего'!M177+'4.юрид-всего'!L177*'4.юрид-всего'!M177+'5.нерез-всего'!L9*'5.нерез-всего'!M9)/('3.физ-всего'!L177+'4.юрид-всего'!L177+'5.нерез-всего'!L9) -> 8.6031548 | N177: ='3.физ-всего'!N177+'4.юрид-всего'!N177+'5.нерез-всего'!N9 -> 583655.8 | O177: =('3.физ-всего'!N177*'3.физ-всего'!O177+'4.юрид-всего'!N177*'4.юрид-всего'!O177+'5.нерез-всего'!N9*'5.нерез-всего'!O9)/('3.физ-всего'!N177+'4.юрид-всего'!N177+'5.нерез-всего'!N9) -> 9.3314251 | P177: ='3.физ-всего'!P177+'4.юрид-всего'!P177+'5.нерез-всего'!P9 -> 444083.7 | Q177: =('3.физ-всего'!P177*'3.физ-всего'!Q177+'4.юрид-всего'!P177*'4.юрид-всего'!Q177+'5.нерез-всего'!P9*'5.нерез-всего'!Q9)/('3.физ-всего'!P177+'4.юрид-всего'!P177+'5.нерез-всего'!P9) -> 12.949609 | R177: ='3.физ-всего'!R177+'4.юрид-всего'!R177+'5.нерез-всего'!R9 -> 39774.4 | S177: =('3.физ-всего'!R177*'3.физ-всего'!S177+'4.юрид-всего'!R177*'4.юрид-всего'!S177+'5.нерез-всего'!R9*'5.нерез-всего'!S9)/('3.физ-всего'!R177+'4.юрид-всего'!R177+'5.нерез-всего'!R9) -> 11.102364
A178: Февраль | B178: ='3.физ-всего'!B178+'4.юрид-всего'!B178+'5.нерез-всего'!B10 -> 7717825.3 | C178: =('3.физ-всего'!B178*'3.физ-всего'!C178+'4.юрид-всего'!B178*'4.юрид-всего'!C178+'5.нерез-всего'!B10*'5.нерез-всего'!C10)/('3.физ-всего'!B178+'4.юрид-всего'!B178+'5.нерез-всего'!B10) -> 1.9394408 | D178: ='3.физ-всего'!D178+'4.юрид-всего'!D178+'5.нерез-всего'!D10 -> 6159045 | E178: =('3.физ-всего'!D178*'3.физ-всего'!E178+'4.юрид-всего'!D178*'4.юрид-всего'!E178+'5.нерез-всего'!D10*'5.нерез-всего'!E10)/('3.физ-всего'!D178+'4.юрид-всего'!D178+'5.нерез-всего'!D10) -> 0.22661627 | F178: =H178+J178+L178+N178+P178+R178 -> 1558780.3 | G178: =(H178*I178+J178*K178+L178*M178+N178*O178+P178*Q178+R178*S178)/(H178+J178+L178+N178+P178+R178) -> 8.7071444 | H178: ='3.физ-всего'!H178+'4.юрид-всего'!H178+'5.нерез-всего'!H10 -> 31372.1 | I178: =('3.физ-всего'!H178*'3.физ-всего'!I178+'4.юрид-всего'!H178*'4.юрид-всего'!I178+'5.нерез-всего'!H10*'5.нерез-всего'!I10)/('3.физ-всего'!H178+'4.юрид-всего'!H178+'5.нерез-всего'!H10) -> 3.4619749 | J178: ='3.физ-всего'!J178+'4.юрид-всего'!J178+'5.нерез-всего'!J10 -> 163803.3 | K178: =('3.физ-всего'!J178*'3.физ-всего'!K178+'4.юрид-всего'!J178*'4.юрид-всего'!K178+'5.нерез-всего'!J10*'5.нерез-всего'!K10)/('3.физ-всего'!J178+'4.юрид-всего'!J178+'5.нерез-всего'!J10) -> 5.1077559 | L178: ='3.физ-всего'!L178+'4.юрид-всего'!L178+'5.нерез-всего'!L10 -> 296378.8 | M178: =('3.физ-всего'!L178*'3.физ-всего'!M178+'4.юрид-всего'!L178*'4.юрид-всего'!M178+'5.нерез-всего'!L10*'5.нерез-всего'!M10)/('3.физ-всего'!L178+'4.юрид-всего'!L178+'5.нерез-всего'!L10) -> 6.1253651 | N178: ='3.физ-всего'!N178+'4.юрид-всего'!N178+'5.нерез-всего'!N10 -> 755394 | O178: =('3.физ-всего'!N178*'3.физ-всего'!O178+'4.юрид-всего'!N178*'4.юрид-всего'!O178+'5.нерез-всего'!N10*'5.нерез-всего'!O10)/('3.физ-всего'!N178+'4.юрид-всего'!N178+'5.нерез-всего'!N10) -> 9.3337675 | P178: ='3.физ-всего'!P178+'4.юрид-всего'!P178+'5.нерез-всего'!P10 -> 311741 | Q178: =('3.физ-всего'!P178*'3.физ-всего'!Q178+'4.юрид-всего'!P178*'4.юрид-всего'!Q178+'5.нерез-всего'!P10*'5.нерез-всего'!Q10)/('3.физ-всего'!P178+'4.юрид-всего'!P178+'5.нерез-всего'!P10) -> 12.061111 | R178: ='3.физ-всего'!R178+'4.юрид-всего'!R178+'5.нерез-всего'!R10 -> 91.1 | S178: =('3.физ-всего'!R178*'3.физ-всего'!S178+'4.юрид-всего'!R178*'4.юрид-всего'!S178+'5.нерез-всего'!R10*'5.нерез-всего'!S10)/('3.физ-всего'!R178+'4.юрид-всего'!R178+'5.нерез-всего'!R10) -> 13.228869
A179: Март | B179: ='3.физ-всего'!B179+'4.юрид-всего'!B179+'5.нерез-всего'!B11 -> 11797167 | C179: =('3.физ-всего'!B179*'3.физ-всего'!C179+'4.юрид-всего'!B179*'4.юрид-всего'!C179+'5.нерез-всего'!B11*'5.нерез-всего'!C11)/('3.физ-всего'!B179+'4.юрид-всего'!B179+'5.нерез-всего'!B11) -> 1.7361647 | D179: ='3.физ-всего'!D179+'4.юрид-всего'!D179+'5.нерез-всего'!D11 -> 9242942.6 | E179: =('3.физ-всего'!D179*'3.физ-всего'!E179+'4.юрид-всего'!D179*'4.юрид-всего'!E179+'5.нерез-всего'!D11*'5.нерез-всего'!E11)/('3.физ-всего'!D179+'4.юрид-всего'!D179+'5.нерез-всего'!D11) -> 0.23153756 | F179: =H179+J179+L179+N179+P179+R179 -> 2554224.1 | G179: =(H179*I179+J179*K179+L179*M179+N179*O179+P179*Q179+R179*S179)/(H179+J179+L179+N179+P179+R179) -> 7.1809422 | H179: ='3.физ-всего'!H179+'4.юрид-всего'!H179+'5.нерез-всего'!H11 -> 76051.9 | I179: =('3.физ-всего'!H179*'3.физ-всего'!I179+'4.юрид-всего'!H179*'4.юрид-всего'!I179+'5.нерез-всего'!H11*'5.нерез-всего'!I11)/('3.физ-всего'!H179+'4.юрид-всего'!H179+'5.нерез-всего'!H11) -> 3.9150284 | J179: ='3.физ-всего'!J179+'4.юрид-всего'!J179+'5.нерез-всего'!J11 -> 232418.1 | K179: =('3.физ-всего'!J179*'3.физ-всего'!K179+'4.юрид-всего'!J179*'4.юрид-всего'!K179+'5.нерез-всего'!J11*'5.нерез-всего'!K11)/('3.физ-всего'!J179+'4.юрид-всего'!J179+'5.нерез-всего'!J11) -> 4.5240161 | L179: ='3.физ-всего'!L179+'4.юрид-всего'!L179+'5.нерез-всего'!L11 -> 220322.8 | M179: =('3.физ-всего'!L179*'3.физ-всего'!M179+'4.юрид-всего'!L179*'4.юрид-всего'!M179+'5.нерез-всего'!L11*'5.нерез-всего'!M11)/('3.физ-всего'!L179+'4.юрид-всего'!L179+'5.нерез-всего'!L11) -> 8.1423693 | N179: ='3.физ-всего'!N179+'4.юрид-всего'!N179+'5.нерез-всего'!N11 -> 695510.8 | O179: =('3.физ-всего'!N179*'3.физ-всего'!O179+'4.юрид-всего'!N179*'4.юрид-всего'!O179+'5.нерез-всего'!N11*'5.нерез-всего'!O11)/('3.физ-всего'!N179+'4.юрид-всего'!N179+'5.нерез-всего'!N11) -> 8.1080801 | P179: ='3.физ-всего'!P179+'4.юрид-всего'!P179+'5.нерез-всего'!P11 -> 611981.8 | Q179: =('3.физ-всего'!P179*'3.физ-всего'!Q179+'4.юрид-всего'!P179*'4.юрид-всего'!Q179+'5.нерез-всего'!P11*'5.нерез-всего'!Q11)/('3.физ-всего'!P179+'4.юрид-всего'!P179+'5.нерез-всего'!P11) -> 8.588955 | R179: ='3.физ-всего'!R179+'4.юрид-всего'!R179+'5.нерез-всего'!R11 -> 717938.7 | S179: =('3.физ-всего'!R179*'3.физ-всего'!S179+'4.юрид-всего'!R179*'4.юрид-всего'!S179+'5.нерез-всего'!R11*'5.нерез-всего'!S11)/('3.физ-всего'!R179+'4.юрид-всего'!R179+'5.нерез-всего'!R11) -> 5.993598
A180: Апрель | B180: ='3.физ-всего'!B180+'4.юрид-всего'!B180+'5.нерез-всего'!B12 -> 8952498.8 | C180: =('3.физ-всего'!B180*'3.физ-всего'!C180+'4.юрид-всего'!B180*'4.юрид-всего'!C180+'5.нерез-всего'!B12*'5.нерез-всего'!C12)/('3.физ-всего'!B180+'4.юрид-всего'!B180+'5.нерез-всего'!B12) -> 1.650194 | D180: ='3.физ-всего'!D180+'4.юрид-всего'!D180+'5.нерез-всего'!D12 -> 7330990.7 | E180: =('3.физ-всего'!D180*'3.физ-всего'!E180+'4.юрид-всего'!D180*'4.юрид-всего'!E180+'5.нерез-всего'!D12*'5.нерез-всего'!E12)/('3.физ-всего'!D180+'4.юрид-всего'!D180+'5.нерез-всего'!D12) -> 0.35260828 | F180: =H180+J180+L180+N180+P180+R180 -> 1621508.1 | G180: =(H180*I180+J180*K180+L180*M180+N180*O180+P180*Q180+R180*S180)/(H180+J180+L180+N180+P180+R180) -> 7.5167009 | H180: ='3.физ-всего'!H180+'4.юрид-всего'!H180+'5.нерез-всего'!H12 -> 52607.5 | I180: =('3.физ-всего'!H180*'3.физ-всего'!I180+'4.юрид-всего'!H180*'4.юрид-всего'!I180+'5.нерез-всего'!H12*'5.нерез-всего'!I12)/('3.физ-всего'!H180+'4.юрид-всего'!H180+'5.нерез-всего'!H12) -> 1.6917151 | J180: ='3.физ-всего'!J180+'4.юрид-всего'!J180+'5.нерез-всего'!J12 -> 163491.1 | K180: =('3.физ-всего'!J180*'3.физ-всего'!K180+'4.юрид-всего'!J180*'4.юрид-всего'!K180+'5.нерез-всего'!J12*'5.нерез-всего'!K12)/('3.физ-всего'!J180+'4.юрид-всего'!J180+'5.нерез-всего'!J12) -> 4.0628003 | L180: ='3.физ-всего'!L180+'4.юрид-всего'!L180+'5.нерез-всего'!L12 -> 194769.3 | M180: =('3.физ-всего'!L180*'3.физ-всего'!M180+'4.юрид-всего'!L180*'4.юрид-всего'!M180+'5.нерез-всего'!L12*'5.нерез-всего'!M12)/('3.физ-всего'!L180+'4.юрид-всего'!L180+'5.нерез-всего'!L12) -> 8.4188722 | N180: ='3.физ-всего'!N180+'4.юрид-всего'!N180+'5.нерез-всего'!N12 -> 855687.6 | O180: =('3.физ-всего'!N180*'3.физ-всего'!O180+'4.юрид-всего'!N180*'4.юрид-всего'!O180+'5.нерез-всего'!N12*'5.нерез-всего'!O12)/('3.физ-всего'!N180+'4.юрид-всего'!N180+'5.нерез-всего'!N12) -> 6.5938184 | P180: ='3.физ-всего'!P180+'4.юрид-всего'!P180+'5.нерез-всего'!P12 -> 354791.9 | Q180: =('3.физ-всего'!P180*'3.физ-всего'!Q180+'4.юрид-всего'!P180*'4.юрид-всего'!Q180+'5.нерез-всего'!P12*'5.нерез-всего'!Q12)/('3.физ-всего'!P180+'4.юрид-всего'!P180+'5.нерез-всего'!P12) -> 11.699303 | R180: ='3.физ-всего'!R180+'4.юрид-всего'!R180+'5.нерез-всего'!R12 -> 160.7 | S180: =('3.физ-всего'!R180*'3.физ-всего'!S180+'4.юрид-всего'!R180*'4.юрид-всего'!S180+'5.нерез-всего'!R12*'5.нерез-всего'!S12)/('3.физ-всего'!R180+'4.юрид-всего'!R180+'5.нерез-всего'!R12) -> 14.675289
A181: Май | B181: ='3.физ-всего'!B181+'4.юрид-всего'!B181+'5.нерез-всего'!B13 -> 8387738.4 | C181: =('3.физ-всего'!B181*'3.физ-всего'!C181+'4.юрид-всего'!B181*'4.юрид-всего'!C181+'5.нерез-всего'!B13*'5.нерез-всего'!C13)/('3.физ-всего'!B181+'4.юрид-всего'!B181+'5.нерез-всего'!B13) -> 1.2809414 | D181: ='3.физ-всего'!D181+'4.юрид-всего'!D181+'5.нерез-всего'!D13 -> 7433911.4 | E181: =('3.физ-всего'!D181*'3.физ-всего'!E181+'4.юрид-всего'!D181*'4.юрид-всего'!E181+'5.нерез-всего'!D13*'5.нерез-всего'!E13)/('3.физ-всего'!D181+'4.юрид-всего'!D181+'5.нерез-всего'!D13) -> 0.42905898 | F181: =H181+J181+L181+N181+P181+R181 -> 953827 | G181: =(H181*I181+J181*K181+L181*M181+N181*O181+P181*Q181+R181*S181)/(H181+J181+L181+N181+P181+R181) -> 7.92032 | H181: ='3.физ-всего'!H181+'4.юрид-всего'!H181+'5.нерез-всего'!H13 -> 90329.5 | I181: =('3.физ-всего'!H181*'3.физ-всего'!I181+'4.юрид-всего'!H181*'4.юрид-всего'!I181+'5.нерез-всего'!H13*'5.нерез-всего'!I13)/('3.физ-всего'!H181+'4.юрид-всего'!H181+'5.нерез-всего'!H13) -> 2.5332286 | J181: ='3.физ-всего'!J181+'4.юрид-всего'!J181+'5.нерез-всего'!J13 -> 184100.2 | K181: =('3.физ-всего'!J181*'3.физ-всего'!K181+'4.юрид-всего'!J181*'4.юрид-всего'!K181+'5.нерез-всего'!J13*'5.нерез-всего'!K13)/('3.физ-всего'!J181+'4.юрид-всего'!J181+'5.нерез-всего'!J13) -> 4.3810544 | L181: ='3.физ-всего'!L181+'4.юрид-всего'!L181+'5.нерез-всего'!L13 -> 162879.5 | M181: =('3.физ-всего'!L181*'3.физ-всего'!M181+'4.юрид-всего'!L181*'4.юрид-всего'!M181+'5.нерез-всего'!L13*'5.нерез-всего'!M13)/('3.физ-всего'!L181+'4.юрид-всего'!L181+'5.нерез-всего'!L13) -> 7.7491565 | N181: ='3.физ-всего'!N181+'4.юрид-всего'!N181+'5.нерез-всего'!N13 -> 225565.9 | O181: =('3.физ-всего'!N181*'3.физ-всего'!O181+'4.юрид-всего'!N181*'4.юрид-всего'!O181+'5.нерез-всего'!N13*'5.нерез-всего'!O13)/('3.физ-всего'!N181+'4.юрид-всего'!N181+'5.нерез-всего'!N13) -> 7.4956072 | P181: ='3.физ-всего'!P181+'4.юрид-всего'!P181+'5.нерез-всего'!P13 -> 290725.8 | Q181: =('3.физ-всего'!P181*'3.физ-всего'!Q181+'4.юрид-всего'!P181*'4.юрид-всего'!Q181+'5.нерез-всего'!P13*'5.нерез-всего'!Q13)/('3.физ-всего'!P181+'4.юрид-всего'!P181+'5.нерез-всего'!P13) -> 12.257608 | R181: ='3.физ-всего'!R181+'4.юрид-всего'!R181+'5.нерез-всего'!R13 -> 226.1 | S181: =('3.физ-всего'!R181*'3.физ-всего'!S181+'4.юрид-всего'!R181*'4.юрид-всего'!S181+'5.нерез-всего'!R13*'5.нерез-всего'!S13)/('3.физ-всего'!R181+'4.юрид-всего'!R181+'5.нерез-всего'!R13) -> 11.950022
A182: Июнь | B182: ='3.физ-всего'!B182+'4.юрид-всего'!B182+'5.нерез-всего'!B14 -> 9101929.9 | C182: =('3.физ-всего'!B182*'3.физ-всего'!C182+'4.юрид-всего'!B182*'4.юрид-всего'!C182+'5.нерез-всего'!B14*'5.нерез-всего'!C14)/('3.физ-всего'!B182+'4.юрид-всего'!B182+'5.нерез-всего'!B14) -> 1.3896475 | D182: ='3.физ-всего'!D182+'4.юрид-всего'!D182+'5.нерез-всего'!D14 -> 8035302.4 | E182: =('3.физ-всего'!D182*'3.физ-всего'!E182+'4.юрид-всего'!D182*'4.юрид-всего'!E182+'5.нерез-всего'!D14*'5.нерез-всего'!E14)/('3.физ-всего'!D182+'4.юрид-всего'!D182+'5.нерез-всего'!D14) -> 0.41316134 | F182: =H182+J182+L182+N182+P182+R182 -> 1066627.5 | G182: =(H182*I182+J182*K182+L182*M182+N182*O182+P182*Q182+R182*S182)/(H182+J182+L182+N182+P182+R182) -> 8.7458811 | H182: ='3.физ-всего'!H182+'4.юрид-всего'!H182+'5.нерез-всего'!H14 -> 85491.7 | I182: =('3.физ-всего'!H182*'3.физ-всего'!I182+'4.юрид-всего'!H182*'4.юрид-всего'!I182+'5.нерез-всего'!H14*'5.нерез-всего'!I14)/('3.физ-всего'!H182+'4.юрид-всего'!H182+'5.нерез-всего'!H14) -> 1.8113274 | J182: ='3.физ-всего'!J182+'4.юрид-всего'!J182+'5.нерез-всего'!J14 -> 128502.2 | K182: =('3.физ-всего'!J182*'3.физ-всего'!K182+'4.юрид-всего'!J182*'4.юрид-всего'!K182+'5.нерез-всего'!J14*'5.нерез-всего'!K14)/('3.физ-всего'!J182+'4.юрид-всего'!J182+'5.нерез-всего'!J14) -> 4.3320526 | L182: ='3.физ-всего'!L182+'4.юрид-всего'!L182+'5.нерез-всего'!L14 -> 184513.2 | M182: =('3.физ-всего'!L182*'3.физ-всего'!M182+'4.юрид-всего'!L182*'4.юрид-всего'!M182+'5.нерез-всего'!L14*'5.нерез-всего'!M14)/('3.физ-всего'!L182+'4.юрид-всего'!L182+'5.нерез-всего'!L14) -> 7.1242884 | N182: ='3.физ-всего'!N182+'4.юрид-всего'!N182+'5.нерез-всего'!N14 -> 404417.2 | O182: =('3.физ-всего'!N182*'3.физ-всего'!O182+'4.юрид-всего'!N182*'4.юрид-всего'!O182+'5.нерез-всего'!N14*'5.нерез-всего'!O14)/('3.физ-всего'!N182+'4.юрид-всего'!N182+'5.нерез-всего'!N14) -> 9.9580234 | P182: ='3.физ-всего'!P182+'4.юрид-всего'!P182+'5.нерез-всего'!P14 -> 262829.8 | Q182: =('3.физ-всего'!P182*'3.физ-всего'!Q182+'4.юрид-всего'!P182*'4.юрид-всего'!Q182+'5.нерез-всего'!P14*'5.нерез-всего'!Q14)/('3.физ-всего'!P182+'4.юрид-всего'!P182+'5.нерез-всего'!P14) -> 12.424581 | R182: ='3.физ-всего'!R182+'4.юрид-всего'!R182+'5.нерез-всего'!R14 -> 873.4 | S182: =('3.физ-всего'!R182*'3.физ-всего'!S182+'4.юрид-всего'!R182*'4.юрид-всего'!S182+'5.нерез-всего'!R14*'5.нерез-всего'!S14)/('3.физ-всего'!R182+'4.юрид-всего'!R182+'5.нерез-всего'!R14) -> 11.214074
A183: Июль | B183: ='3.физ-всего'!B183+'4.юрид-всего'!B183+'5.нерез-всего'!B15 -> 9807523.8 | C183: =('3.физ-всего'!B183*'3.физ-всего'!C183+'4.юрид-всего'!B183*'4.юрид-всего'!C183+'5.нерез-всего'!B15*'5.нерез-всего'!C15)/('3.физ-всего'!B183+'4.юрид-всего'!B183+'5.нерез-всего'!B15) -> 1.2912657 | D183: ='3.физ-всего'!D183+'4.юрид-всего'!D183+'5.нерез-всего'!D15 -> 8659325.1 | E183: =('3.физ-всего'!D183*'3.физ-всего'!E183+'4.юрид-всего'!D183*'4.юрид-всего'!E183+'5.нерез-всего'!D15*'5.нерез-всего'!E15)/('3.физ-всего'!D183+'4.юрид-всего'!D183+'5.нерез-всего'!D15) -> 0.37870844 | F183: =H183+J183+L183+N183+P183+R183 -> 1148198.7 | G183: =(H183*I183+J183*K183+L183*M183+N183*O183+P183*Q183+R183*S183)/(H183+J183+L183+N183+P183+R183) -> 8.1734627 | H183: ='3.физ-всего'!H183+'4.юрид-всего'!H183+'5.нерез-всего'!H15 -> 60464.7 | I183: =('3.физ-всего'!H183*'3.физ-всего'!I183+'4.юрид-всего'!H183*'4.юрид-всего'!I183+'5.нерез-всего'!H15*'5.нерез-всего'!I15)/('3.физ-всего'!H183+'4.юрид-всего'!H183+'5.нерез-всего'!H15) -> 2.9840262 | J183: ='3.физ-всего'!J183+'4.юрид-всего'!J183+'5.нерез-всего'!J15 -> 282082.4 | K183: =('3.физ-всего'!J183*'3.физ-всего'!K183+'4.юрид-всего'!J183*'4.юрид-всего'!K183+'5.нерез-всего'!J15*'5.нерез-всего'!K15)/('3.физ-всего'!J183+'4.юрид-всего'!J183+'5.нерез-всего'!J15) -> 3.486426 | L183: ='3.физ-всего'!L183+'4.юрид-всего'!L183+'5.нерез-всего'!L15 -> 231755.7 | M183: =('3.физ-всего'!L183*'3.физ-всего'!M183+'4.юрид-всего'!L183*'4.юрид-всего'!M183+'5.нерез-всего'!L15*'5.нерез-всего'!M15)/('3.физ-всего'!L183+'4.юрид-всего'!L183+'5.нерез-всего'!L15) -> 6.9773297 | N183: ='3.физ-всего'!N183+'4.юрид-всего'!N183+'5.нерез-всего'!N15 -> 268055.1 | O183: =('3.физ-всего'!N183*'3.физ-всего'!O183+'4.юрид-всего'!N183*'4.юрид-всего'!O183+'5.нерез-всего'!N15*'5.нерез-всего'!O15)/('3.физ-всего'!N183+'4.юрид-всего'!N183+'5.нерез-всего'!N15) -> 10.958158 | P183: ='3.физ-всего'!P183+'4.юрид-всего'!P183+'5.нерез-всего'!P15 -> 304885.3 | Q183: =('3.физ-всего'!P183*'3.физ-всего'!Q183+'4.юрид-всего'!P183*'4.юрид-всего'!Q183+'5.нерез-всего'!P15*'5.нерез-всего'!Q15)/('3.физ-всего'!P183+'4.юрид-всего'!P183+'5.нерез-всего'!P15) -> 11.993388 | R183: ='3.физ-всего'!R183+'4.юрид-всего'!R183+'5.нерез-всего'!R15 -> 955.5 | S183: =('3.физ-всего'!R183*'3.физ-всего'!S183+'4.юрид-всего'!R183*'4.юрид-всего'!S183+'5.нерез-всего'!R15*'5.нерез-всего'!S15)/('3.физ-всего'!R183+'4.юрид-всего'!R183+'5.нерез-всего'!R15) -> 10.295856
A184: Август | B184: ='3.физ-всего'!B184+'4.юрид-всего'!B184+'5.нерез-всего'!B16 -> 11099103 | C184: =('3.физ-всего'!B184*'3.физ-всего'!C184+'4.юрид-всего'!B184*'4.юрид-всего'!C184+'5.нерез-всего'!B16*'5.нерез-всего'!C16)/('3.физ-всего'!B184+'4.юрид-всего'!B184+'5.нерез-всего'!B16) -> 1.2807038 | D184: ='3.физ-всего'!D184+'4.юрид-всего'!D184+'5.нерез-всего'!D16 -> 10163384 | E184: =('3.физ-всего'!D184*'3.физ-всего'!E184+'4.юрид-всего'!D184*'4.юрид-всего'!E184+'5.нерез-всего'!D16*'5.нерез-всего'!E16)/('3.физ-всего'!D184+'4.юрид-всего'!D184+'5.нерез-всего'!D16) -> 0.59078512 | F184: =H184+J184+L184+N184+P184+R184 -> 935718.7 | G184: =(H184*I184+J184*K184+L184*M184+N184*O184+P184*Q184+R184*S184)/(H184+J184+L184+N184+P184+R184) -> 8.7743112 | H184: ='3.физ-всего'!H184+'4.юрид-всего'!H184+'5.нерез-всего'!H16 -> 46904.9 | I184: =('3.физ-всего'!H184*'3.физ-всего'!I184+'4.юрид-всего'!H184*'4.юрид-всего'!I184+'5.нерез-всего'!H16*'5.нерез-всего'!I16)/('3.физ-всего'!H184+'4.юрид-всего'!H184+'5.нерез-всего'!H16) -> 2.3385222 | J184: ='3.физ-всего'!J184+'4.юрид-всего'!J184+'5.нерез-всего'!J16 -> 158763.4 | K184: =('3.физ-всего'!J184*'3.физ-всего'!K184+'4.юрид-всего'!J184*'4.юрид-всего'!K184+'5.нерез-всего'!J16*'5.нерез-всего'!K16)/('3.физ-всего'!J184+'4.юрид-всего'!J184+'5.нерез-всего'!J16) -> 4.055395 | L184: ='3.физ-всего'!L184+'4.юрид-всего'!L184+'5.нерез-всего'!L16 -> 176373 | M184: =('3.физ-всего'!L184*'3.физ-всего'!M184+'4.юрид-всего'!L184*'4.юрид-всего'!M184+'5.нерез-всего'!L16*'5.нерез-всего'!M16)/('3.физ-всего'!L184+'4.юрид-всего'!L184+'5.нерез-всего'!L16) -> 6.8926881 | N184: ='3.физ-всего'!N184+'4.юрид-всего'!N184+'5.нерез-всего'!N16 -> 244493.7 | O184: =('3.физ-всего'!N184*'3.физ-всего'!O184+'4.юрид-всего'!N184*'4.юрид-всего'!O184+'5.нерез-всего'!N16*'5.нерез-всего'!O16)/('3.физ-всего'!N184+'4.юрид-всего'!N184+'5.нерез-всего'!N16) -> 10.852618 | P184: ='3.физ-всего'!P184+'4.юрид-всего'!P184+'5.нерез-всего'!P16 -> 308833.6 | Q184: =('3.физ-всего'!P184*'3.физ-всего'!Q184+'4.юрид-всего'!P184*'4.юрид-всего'!Q184+'5.нерез-всего'!P16*'5.нерез-всего'!Q16)/('3.физ-всего'!P184+'4.юрид-всего'!P184+'5.нерез-всего'!P16) -> 11.612238 | R184: ='3.физ-всего'!R184+'4.юрид-всего'!R184+'5.нерез-всего'!R16 -> 350.1 | S184: =('3.физ-всего'!R184*'3.физ-всего'!S184+'4.юрид-всего'!R184*'4.юрид-всего'!S184+'5.нерез-всего'!R16*'5.нерез-всего'!S16)/('3.физ-всего'!R184+'4.юрид-всего'!R184+'5.нерез-всего'!R16) -> 4.0577349
A185: Сентябрь | B185: ='3.физ-всего'!B185+'4.юрид-всего'!B185+'5.нерез-всего'!B17 -> 13071525 | C185: =('3.физ-всего'!B185*'3.физ-всего'!C185+'4.юрид-всего'!B185*'4.юрид-всего'!C185+'5.нерез-всего'!B17*'5.нерез-всего'!C17)/('3.физ-всего'!B185+'4.юрид-всего'!B185+'5.нерез-всего'!B17) -> 1.175037 | D185: ='3.физ-всего'!D185+'4.юрид-всего'!D185+'5.нерез-всего'!D17 -> 11968130 | E185: =('3.физ-всего'!D185*'3.физ-всего'!E185+'4.юрид-всего'!D185*'4.юрид-всего'!E185+'5.нерез-всего'!D17*'5.нерез-всего'!E17)/('3.физ-всего'!D185+'4.юрид-всего'!D185+'5.нерез-всего'!D17) -> 0.5403565 | F185: =H185+J185+L185+N185+P185+R185 -> 1103395 | G185: =(H185*I185+J185*K185+L185*M185+N185*O185+P185*Q185+R185*S185)/(H185+J185+L185+N185+P185+R185) -> 8.0591886 | H185: ='3.физ-всего'!H185+'4.юрид-всего'!H185+'5.нерез-всего'!H17 -> 130584.4 | I185: =('3.физ-всего'!H185*'3.физ-всего'!I185+'4.юрид-всего'!H185*'4.юрид-всего'!I185+'5.нерез-всего'!H17*'5.нерез-всего'!I17)/('3.физ-всего'!H185+'4.юрид-всего'!H185+'5.нерез-всего'!H17) -> 1.864552 | J185: ='3.физ-всего'!J185+'4.юрид-всего'!J185+'5.нерез-всего'!J17 -> 164879 | K185: =('3.физ-всего'!J185*'3.физ-всего'!K185+'4.юрид-всего'!J185*'4.юрид-всего'!K185+'5.нерез-всего'!J17*'5.нерез-всего'!K17)/('3.физ-всего'!J185+'4.юрид-всего'!J185+'5.нерез-всего'!J17) -> 4.4434933 | L185: ='3.физ-всего'!L185+'4.юрид-всего'!L185+'5.нерез-всего'!L17 -> 279050.9 | M185: =('3.физ-всего'!L185*'3.физ-всего'!M185+'4.юрид-всего'!L185*'4.юрид-всего'!M185+'5.нерез-всего'!L17*'5.нерез-всего'!M17)/('3.физ-всего'!L185+'4.юрид-всего'!L185+'5.нерез-всего'!L17) -> 6.2585037 | N185: ='3.физ-всего'!N185+'4.юрид-всего'!N185+'5.нерез-всего'!N17 -> 236151.1 | O185: =('3.физ-всего'!N185*'3.физ-всего'!O185+'4.юрид-всего'!N185*'4.юрид-всего'!O185+'5.нерез-всего'!N17*'5.нерез-всего'!O17)/('3.физ-всего'!N185+'4.юрид-всего'!N185+'5.нерез-всего'!N17) -> 10.965733 | P185: ='3.физ-всего'!P185+'4.юрид-всего'!P185+'5.нерез-всего'!P17 -> 292652 | Q185: =('3.физ-всего'!P185*'3.физ-всего'!Q185+'4.юрид-всего'!P185*'4.юрид-всего'!Q185+'5.нерез-всего'!P17*'5.нерез-всего'!Q17)/('3.физ-всего'!P185+'4.юрид-всего'!P185+'5.нерез-всего'!P17) -> 12.231518 | R185: ='3.физ-всего'!R185+'4.юрид-всего'!R185+'5.нерез-всего'!R17 -> 77.6 | S185: =('3.физ-всего'!R185*'3.физ-всего'!S185+'4.юрид-всего'!R185*'4.юрид-всего'!S185+'5.нерез-всего'!R17*'5.нерез-всего'!S17)/('3.физ-всего'!R185+'4.юрид-всего'!R185+'5.нерез-всего'!R17) -> 9.7790593
A186: Октябрь | B186: ='3.физ-всего'!B186+'4.юрид-всего'!B186+'5.нерез-всего'!B18 -> 12712804 | C186: =('3.физ-всего'!B186*'3.физ-всего'!C186+'4.юрид-всего'!B186*'4.юрид-всего'!C186+'5.нерез-всего'!B18*'5.нерез-всего'!C18)/('3.физ-всего'!B186+'4.юрид-всего'!B186+'5.нерез-всего'!B18) -> 1.24901 | D186: ='3.физ-всего'!D186+'4.юрид-всего'!D186+'5.нерез-всего'!D18 -> 11497055 | E186: =('3.физ-всего'!D186*'3.физ-всего'!E186+'4.юрид-всего'!D186*'4.юрид-всего'!E186+'5.нерез-всего'!D18*'5.нерез-всего'!E18)/('3.физ-всего'!D186+'4.юрид-всего'!D186+'5.нерез-всего'!D18) -> 0.51391426 | F186: =H186+J186+L186+N186+P186+R186 -> 1215749.1 | G186: =(H186*I186+J186*K186+L186*M186+N186*O186+P186*Q186+R186*S186)/(H186+J186+L186+N186+P186+R186) -> 8.2006384 | H186: ='3.физ-всего'!H186+'4.юрид-всего'!H186+'5.нерез-всего'!H18 -> 87231.1 | I186: =('3.физ-всего'!H186*'3.физ-всего'!I186+'4.юрид-всего'!H186*'4.юрид-всего'!I186+'5.нерез-всего'!H18*'5.нерез-всего'!I18)/('3.физ-всего'!H186+'4.юрид-всего'!H186+'5.нерез-всего'!H18) -> 2.6038086 | J186: ='3.физ-всего'!J186+'4.юрид-всего'!J186+'5.нерез-всего'!J18 -> 226393.4 | K186: =('3.физ-всего'!J186*'3.физ-всего'!K186+'4.юрид-всего'!J186*'4.юрид-всего'!K186+'5.нерез-всего'!J18*'5.нерез-всего'!K18)/('3.физ-всего'!J186+'4.юрид-всего'!J186+'5.нерез-всего'!J18) -> 4.5941973 | L186: ='3.физ-всего'!L186+'4.юрид-всего'!L186+'5.нерез-всего'!L18 -> 216993.5 | M186: =('3.физ-всего'!L186*'3.физ-всего'!M186+'4.юрид-всего'!L186*'4.юрид-всего'!M186+'5.нерез-всего'!L18*'5.нерез-всего'!M18)/('3.физ-всего'!L186+'4.юрид-всего'!L186+'5.нерез-всего'!L18) -> 7.4682433 | N186: ='3.физ-всего'!N186+'4.юрид-всего'!N186+'5.нерез-всего'!N18 -> 263375.9 | O186: =('3.физ-всего'!N186*'3.физ-всего'!O186+'4.юрид-всего'!N186*'4.юрид-всего'!O186+'5.нерез-всего'!N18*'5.нерез-всего'!O18)/('3.физ-всего'!N186+'4.юрид-всего'!N186+'5.нерез-всего'!N18) -> 10.639064 | P186: ='3.физ-всего'!P186+'4.юрид-всего'!P186+'5.нерез-всего'!P18 -> 421634 | Q186: =('3.физ-всего'!P186*'3.физ-всего'!Q186+'4.юрид-всего'!P186*'4.юрид-всего'!Q186+'5.нерез-всего'!P18*'5.нерез-всего'!Q18)/('3.физ-всего'!P186+'4.юрид-всего'!P186+'5.нерез-всего'!P18) -> 10.147673 | R186: ='3.физ-всего'!R186+'4.юрид-всего'!R186+'5.нерез-всего'!R18 -> 121.2 | S186: =('3.физ-всего'!R186*'3.физ-всего'!S186+'4.юрид-всего'!R186*'4.юрид-всего'!S186+'5.нерез-всего'!R18*'5.нерез-всего'!S18)/('3.физ-всего'!R186+'4.юрид-всего'!R186+'5.нерез-всего'!R18) -> 11.985215
A187: Ноябрь | B187: ='3.физ-всего'!B187+'4.юрид-всего'!B187+'5.нерез-всего'!B19 -> 13619370 | C187: =('3.физ-всего'!B187*'3.физ-всего'!C187+'4.юрид-всего'!B187*'4.юрид-всего'!C187+'5.нерез-всего'!B19*'5.нерез-всего'!C19)/('3.физ-всего'!B187+'4.юрид-всего'!B187+'5.нерез-всего'!B19) -> 1.2305324 | D187: ='3.физ-всего'!D187+'4.юрид-всего'!D187+'5.нерез-всего'!D19 -> 12415784 | E187: =('3.физ-всего'!D187*'3.физ-всего'!E187+'4.юрид-всего'!D187*'4.юрид-всего'!E187+'5.нерез-всего'!D19*'5.нерез-всего'!E19)/('3.физ-всего'!D187+'4.юрид-всего'!D187+'5.нерез-всего'!D19) -> 0.48442023 | F187: =H187+J187+L187+N187+P187+R187 -> 1203586.5 | G187: =(H187*I187+J187*K187+L187*M187+N187*O187+P187*Q187+R187*S187)/(H187+J187+L187+N187+P187+R187) -> 8.9271685 | H187: ='3.физ-всего'!H187+'4.юрид-всего'!H187+'5.нерез-всего'!H19 -> 58948.8 | I187: =('3.физ-всего'!H187*'3.физ-всего'!I187+'4.юрид-всего'!H187*'4.юрид-всего'!I187+'5.нерез-всего'!H19*'5.нерез-всего'!I19)/('3.физ-всего'!H187+'4.юрид-всего'!H187+'5.нерез-всего'!H19) -> 3.7381921 | J187: ='3.физ-всего'!J187+'4.юрид-всего'!J187+'5.нерез-всего'!J19 -> 160622.7 | K187: =('3.физ-всего'!J187*'3.физ-всего'!K187+'4.юрид-всего'!J187*'4.юрид-всего'!K187+'5.нерез-всего'!J19*'5.нерез-всего'!K19)/('3.физ-всего'!J187+'4.юрид-всего'!J187+'5.нерез-всего'!J19) -> 4.5217327 | L187: ='3.физ-всего'!L187+'4.юрид-всего'!L187+'5.нерез-всего'!L19 -> 284324.4 | M187: =('3.физ-всего'!L187*'3.физ-всего'!M187+'4.юрид-всего'!L187*'4.юрид-всего'!M187+'5.нерез-всего'!L19*'5.нерез-всего'!M19)/('3.физ-всего'!L187+'4.юрид-всего'!L187+'5.нерез-всего'!L19) -> 6.8154428 | N187: ='3.физ-всего'!N187+'4.юрид-всего'!N187+'5.нерез-всего'!N19 -> 340296.4 | O187: =('3.физ-всего'!N187*'3.физ-всего'!O187+'4.юрид-всего'!N187*'4.юрид-всего'!O187+'5.нерез-всего'!N19*'5.нерез-всего'!O19)/('3.физ-всего'!N187+'4.юрид-всего'!N187+'5.нерез-всего'!N19) -> 10.155344 | P187: ='3.физ-всего'!P187+'4.юрид-всего'!P187+'5.нерез-всего'!P19 -> 358993.2 | Q187: =('3.физ-всего'!P187*'3.физ-всего'!Q187+'4.юрид-всего'!P187*'4.юрид-всего'!Q187+'5.нерез-всего'!P19*'5.нерез-всего'!Q19)/('3.физ-всего'!P187+'4.юрид-всего'!P187+'5.нерез-всего'!P19) -> 12.254218 | R187: ='3.физ-всего'!R187+'4.юрид-всего'!R187+'5.нерез-всего'!R19 -> 401 | S187: =('3.физ-всего'!R187*'3.физ-всего'!S187+'4.юрид-всего'!R187*'4.юрид-всего'!S187+'5.нерез-всего'!R19*'5.нерез-всего'!S19)/('3.физ-всего'!R187+'4.юрид-всего'!R187+'5.нерез-всего'!R19) -> 12.868653
A188: Декабрь | B188: ='3.физ-всего'!B188+'4.юрид-всего'!B188+'5.нерез-всего'!B20 -> 15831388 | C188: =('3.физ-всего'!B188*'3.физ-всего'!C188+'4.юрид-всего'!B188*'4.юрид-всего'!C188+'5.нерез-всего'!B20*'5.нерез-всего'!C20)/('3.физ-всего'!B188+'4.юрид-всего'!B188+'5.нерез-всего'!B20) -> 1.4657827 | D188: ='3.физ-всего'!D188+'4.юрид-всего'!D188+'5.нерез-всего'!D20 -> 14166495 | E188: =('3.физ-всего'!D188*'3.физ-всего'!E188+'4.юрид-всего'!D188*'4.юрид-всего'!E188+'5.нерез-всего'!D20*'5.нерез-всего'!E20)/('3.физ-всего'!D188+'4.юрид-всего'!D188+'5.нерез-всего'!D20) -> 0.67144979 | F188: =H188+J188+L188+N188+P188+R188 -> 1664893 | G188: =(H188*I188+J188*K188+L188*M188+N188*O188+P188*Q188+R188*S188)/(H188+J188+L188+N188+P188+R188) -> 8.2247236 | H188: ='3.физ-всего'!H188+'4.юрид-всего'!H188+'5.нерез-всего'!H20 -> 139571.6 | I188: =('3.физ-всего'!H188*'3.физ-всего'!I188+'4.юрид-всего'!H188*'4.юрид-всего'!I188+'5.нерез-всего'!H20*'5.нерез-всего'!I20)/('3.физ-всего'!H188+'4.юрид-всего'!H188+'5.нерез-всего'!H20) -> 3.8910004 | J188: ='3.физ-всего'!J188+'4.юрид-всего'!J188+'5.нерез-всего'!J20 -> 346629.7 | K188: =('3.физ-всего'!J188*'3.физ-всего'!K188+'4.юрид-всего'!J188*'4.юрид-всего'!K188+'5.нерез-всего'!J20*'5.нерез-всего'!K20)/('3.физ-всего'!J188+'4.юрид-всего'!J188+'5.нерез-всего'!J20) -> 3.9519317 | L188: ='3.физ-всего'!L188+'4.юрид-всего'!L188+'5.нерез-всего'!L20 -> 274207.6 | M188: =('3.физ-всего'!L188*'3.физ-всего'!M188+'4.юрид-всего'!L188*'4.юрид-всего'!M188+'5.нерез-всего'!L20*'5.нерез-всего'!M20)/('3.физ-всего'!L188+'4.юрид-всего'!L188+'5.нерез-всего'!L20) -> 7.7442339 | N188: ='3.физ-всего'!N188+'4.юрид-всего'!N188+'5.нерез-всего'!N20 -> 407833.6 | O188: =('3.физ-всего'!N188*'3.физ-всего'!O188+'4.юрид-всего'!N188*'4.юрид-всего'!O188+'5.нерез-всего'!N20*'5.нерез-всего'!O20)/('3.физ-всего'!N188+'4.юрид-всего'!N188+'5.нерез-всего'!N20) -> 9.6663297 | P188: ='3.физ-всего'!P188+'4.юрид-всего'!P188+'5.нерез-всего'!P20 -> 495675.2 | Q188: =('3.физ-всего'!P188*'3.физ-всего'!Q188+'4.юрид-всего'!P188*'4.юрид-всего'!Q188+'5.нерез-всего'!P20*'5.нерез-всего'!Q20)/('3.физ-всего'!P188+'4.юрид-всего'!P188+'5.нерез-всего'!P20) -> 11.517431 | R188: ='3.физ-всего'!R188+'4.юрид-всего'!R188+'5.нерез-всего'!R20 -> 975.3 | S188: =('3.физ-всего'!R188*'3.физ-всего'!S188+'4.юрид-всего'!R188*'4.юрид-всего'!S188+'5.нерез-всего'!R20*'5.нерез-всего'!S20)/('3.физ-всего'!R188+'4.юрид-всего'!R188+'5.нерез-всего'!R20) -> 5.8114108
... A380: Декабрь | B380: ='3.физ-всего'!B380+'4.юрид-всего'!B380+'5.нерез-всего'!B212 -> 0 | C380: =('3.физ-всего'!B380*'3.физ-всего'!C380+'4.юрид-всего'!B380*'4.юрид-всего'!C380+'5.нерез-всего'!B212*'5.нерез-всего'!C212)/('3.физ-всего'!B380+'4.юрид-всего'!B380+'5.нерез-всего'!B212) -> #DIV/0! | D380: ='3.физ-всего'!D380+'4.юрид-всего'!D380+'5.нерез-всего'!D212 -> 0 | E380: =('3.физ-всего'!D380*'3.физ-всего'!E380+'4.юрид-всего'!D380*'4.юрид-всего'!E380+'5.нерез-всего'!D212*'5.нерез-всего'!E212)/('3.физ-всего'!D380+'4.юрид-всего'!D380+'5.нерез-всего'!D212) -> #DIV/0! | F380: =H380+J380+L380+N380+P380+R380 -> 0 | G380: =(H380*I380+J380*K380+L380*M380+N380*O380+P380*Q380+R380*S380)/(H380+J380+L380+N380+P380+R380) -> #DIV/0! | H380: ='3.физ-всего'!H380+'4.юрид-всего'!H380+'5.нерез-всего'!H212 -> 0 | I380: =('3.физ-всего'!H380*'3.физ-всего'!I380+'4.юрид-всего'!H380*'4.юрид-всего'!I380+'5.нерез-всего'!H212*'5.нерез-всего'!I212)/('3.физ-всего'!H380+'4.юрид-всего'!H380+'5.нерез-всего'!H212) -> #DIV/0! | J380: ='3.физ-всего'!J380+'4.юрид-всего'!J380+'5.нерез-всего'!J212 -> 0 | K380: =('3.физ-всего'!J380*'3.физ-всего'!K380+'4.юрид-всего'!J380*'4.юрид-всего'!K380+'5.нерез-всего'!J212*'5.нерез-всего'!K212)/('3.физ-всего'!J380+'4.юрид-всего'!J380+'5.нерез-всего'!J212) -> #DIV/0! | L380: ='3.физ-всего'!L380+'4.юрид-всего'!L380+'5.нерез-всего'!L212 -> 0 | M380: =('3.физ-всего'!L380*'3.физ-всего'!M380+'4.юрид-всего'!L380*'4.юрид-всего'!M380+'5.нерез-всего'!L212*'5.нерез-всего'!M212)/('3.физ-всего'!L380+'4.юрид-всего'!L380+'5.нерез-всего'!L212) -> #DIV/0! | N380: ='3.физ-всего'!N380+'4.юрид-всего'!N380+'5.нерез-всего'!N212 -> 0 | O380: =('3.физ-всего'!N380*'3.физ-всего'!O380+'4.юрид-всего'!N380*'4.юрид-всего'!O380+'5.нерез-всего'!N212*'5.нерез-всего'!O212)/('3.физ-всего'!N380+'4.юрид-всего'!N380+'5.нерез-всего'!N212) -> #DIV/0! | P380: ='3.физ-всего'!P380+'4.юрид-всего'!P380+'5.нерез-всего'!P212 -> 0 | Q380: =('3.физ-всего'!P380*'3.физ-всего'!Q380+'4.юрид-всего'!P380*'4.юрид-всего'!Q380+'5.нерез-всего'!P212*'5.нерез-всего'!Q212)/('3.физ-всего'!P380+'4.юрид-всего'!P380+'5.нерез-всего'!P212) -> #DIV/0! | R380: ='3.физ-всего'!R380+'4.юрид-всего'!R380+'5.нерез-всего'!R212 -> 0 | S380: =('3.физ-всего'!R380*'3.физ-всего'!S380+'4.юрид-всего'!R380*'4.юрид-всего'!S380+'5.нерез-всего'!R212*'5.нерез-всего'!S212)/('3.физ-всего'!R380+'4.юрид-всего'!R380+'5.нерез-всего'!R212) -> #DIV/0!
A382: * до 01.01.2010 г. в объем вновь принятых депозитов не включались депозиты до востребования юридических лиц
A383: **- предварительные данные

Sheet 3.физ-всего
A1: Раздел "Статистика" / "Банковская статистика" / "Вновь принятые коммерческими банками депозиты, за период"
A3: Таблица 3. Общий объемыи средневзвешенные ставки вновь принятых депозитов физических лиц
A5: (тыс. сомов / проценты)
A6: Период | B6: Общий объем | C6: Средневз. cтавка | D6: До востребования | F6: Срочные депозиты | H6: в том числе, по срокам:
H7: 0 - 1 месяца | J7: 1 - 3 месяца | L7: 3 - 6 месяцев | N7: 6 - 12 месяцев | P7: 1 - 3 года | R7: более 3 лет
D8: объем | E8: средневзв. ставка | F8: объем | G8: средневзв. ставка | H8: объем | I8: средневзв. ставка | J8: объем | K8: средневзв. ставка | L8: объем | M8: средневзв. ставка | N8: объем | O8: средневзв. ставка | P8: объем | Q8: средневзв. ставка | R8: объем | S8: средневзв. ставка
A9: Январь 1996 г. | B9: ='7.физ-в нацвал'!B9+'11.физ-в инвал'!B9 -> 35018.1 | C9: =('7.физ-в нацвал'!B9*'7.физ-в нацвал'!C9+'11.физ-в инвал'!B9*'11.физ-в инвал'!C9)/('7.физ-в нацвал'!B9+'11.физ-в инвал'!B9) -> 30.940475 | D9: ='7.физ-в нацвал'!D9+'11.физ-в инвал'!D9 -> 9281 | E9: =('7.физ-в нацвал'!D9*'7.физ-в нацвал'!E9+'11.физ-в инвал'!D9*'11.физ-в инвал'!E9)/('7.физ-в нацвал'!D9+'11.физ-в инвал'!D9) -> 27.565855 | F9: =H9+J9+L9+N9+P9+R9 -> 25737.1 | G9: =(H9*I9+J9*K9+L9*M9+N9*O9+P9*Q9+R9*S9)/(H9+J9+L9+N9+P9+R9) -> 32.15739 | H9: ='7.физ-в нацвал'!H9+'11.физ-в инвал'!H9 -> 559 | I9: =('7.физ-в нацвал'!H9*'7.физ-в нацвал'!I9+'11.физ-в инвал'!H9*'11.физ-в инвал'!I9)/('7.физ-в нацвал'!H9+'11.физ-в инвал'!H9) -> 13.68873 | J9: ='7.физ-в нацвал'!J9+'11.физ-в инвал'!J9 -> 7588.6 | K9: =('7.физ-в нацвал'!J9*'7.физ-в нацвал'!K9+'11.физ-в инвал'!J9*'11.физ-в инвал'!K9)/('7.физ-в нацвал'!J9+'11.физ-в инвал'!J9) -> 26.654851 | L9: ='7.физ-в нацвал'!L9+'11.физ-в инвал'!L9 -> 13897.3 | M9: =('7.физ-в нацвал'!L9*'7.физ-в нацвал'!M9+'11.физ-в инвал'!L9*'11.физ-в инвал'!M9)/('7.физ-в нацвал'!L9+'11.физ-в инвал'!L9) -> 35.158822 | N9: ='7.физ-в нацвал'!N9+'11.физ-в инвал'!N9 -> 3295 | O9: =('7.физ-в нацвал'!N9*'7.физ-в нацвал'!O9+'11.физ-в инвал'!N9*'11.физ-в инвал'!O9)/('7.физ-в нацвал'!N9+'11.физ-в инвал'!N9) -> 34.348862 | P9: ='7.физ-в нацвал'!P9+'11.физ-в инвал'!P9 -> 397.2 | Q9: =('7.физ-в нацвал'!P9*'7.физ-в нацвал'!Q9+'11.физ-в инвал'!P9*'11.физ-в инвал'!Q9)/('7.физ-в нацвал'!P9+'11.физ-в инвал'!P9) -> 40.082477
A10: Февраль | B10: ='7.физ-в нацвал'!B10+'11.физ-в инвал'!B10 -> 37271.6 | C10: =('7.физ-в нацвал'!B10*'7.физ-в нацвал'!C10+'11.физ-в инвал'!B10*'11.физ-в инвал'!C10)/('7.физ-в нацвал'!B10+'11.физ-в инвал'!B10) -> 29.564628 | D10: ='7.физ-в нацвал'!D10+'11.физ-в инвал'!D10 -> 10774.3 | E10: =('7.физ-в нацвал'!D10*'7.физ-в нацвал'!E10+'11.физ-в инвал'!D10*'11.физ-в инвал'!E10)/('7.физ-в нацвал'!D10+'11.физ-в инвал'!D10) -> 21.689084 | F10: =H10+J10+L10+N10+P10+R10 -> 26497.3 | G10: =(H10*I10+J10*K10+L10*M10+N10*O10+P10*Q10+R10*S10)/(H10+J10+L10+N10+P10+R10) -> 32.766972 | H10: ='7.физ-в нацвал'!H10+'11.физ-в инвал'!H10 -> 361.5 | I10: =('7.физ-в нацвал'!H10*'7.физ-в нацвал'!I10+'11.физ-в инвал'!H10*'11.физ-в инвал'!I10)/('7.физ-в нацвал'!H10+'11.физ-в инвал'!H10) -> 14.322545 | J10: ='7.физ-в нацвал'!J10+'11.физ-в инвал'!J10 -> 8921.2 | K10: =('7.физ-в нацвал'!J10*'7.физ-в нацвал'!K10+'11.физ-в инвал'!J10*'11.физ-в инвал'!K10)/('7.физ-в нацвал'!J10+'11.физ-в инвал'!J10) -> 27.224531 | L10: ='7.физ-в нацвал'!L10+'11.физ-в инвал'!L10 -> 13534.6 | M10: =('7.физ-в нацвал'!L10*'7.физ-в нацвал'!M10+'11.физ-в инвал'!L10*'11.физ-в инвал'!M10)/('7.физ-в нацвал'!L10+'11.физ-в инвал'!L10) -> 35.952014 | N10: ='7.физ-в нацвал'!N10+'11.физ-в инвал'!N10 -> 3303 | O10: =('7.физ-в нацвал'!N10*'7.физ-в нацвал'!O10+'11.физ-в инвал'!N10*'11.физ-в инвал'!O10)/('7.физ-в нацвал'!N10+'11.физ-в инвал'!N10) -> 36.057796 | P10: ='7.физ-в нацвал'!P10+'11.физ-в инвал'!P10 -> 377 | Q10: =('7.физ-в нацвал'!P10*'7.физ-в нацвал'!Q10+'11.физ-в инвал'!P10*'11.физ-в инвал'!Q10)/('7.физ-в нацвал'!P10+'11.физ-в инвал'!P10) -> 38.430133
A11: Март | B11: ='7.физ-в нацвал'!B11+'11.физ-в инвал'!B11 -> 36100.1 | C11: =('7.физ-в нацвал'!B11*'7.физ-в нацвал'!C11+'11.физ-в инвал'!B11*'11.физ-в инвал'!C11)/('7.физ-в нацвал'!B11+'11.физ-в инвал'!B11) -> 26.414701 | D11: ='7.физ-в нацвал'!D11+'11.физ-в инвал'!D11 -> 12078.4 | E11: =('7.физ-в нацвал'!D11*'7.физ-в нацвал'!E11+'11.физ-в инвал'!D11*'11.физ-в инвал'!E11)/('7.физ-в нацвал'!D11+'11.физ-в инвал'!D11) -> 19.656685 | F11: =H11+J11+L11+N11+P11+R11 -> 24021.7 | G11: =(H11*I11+J11*K11+L11*M11+N11*O11+P11*Q11+R11*S11)/(H11+J11+L11+N11+P11+R11) -> 29.812713 | H11: ='7.физ-в нацвал'!H11+'11.физ-в инвал'!H11 -> 223.7 | I11: =('7.физ-в нацвал'!H11*'7.физ-в нацвал'!I11+'11.физ-в инвал'!H11*'11.физ-в инвал'!I11)/('7.физ-в нацвал'!H11+'11.физ-в инвал'!H11) -> 7.6016987 | J11: ='7.физ-в нацвал'!J11+'11.физ-в инвал'!J11 -> 8546 | K11: =('7.физ-в нацвал'!J11*'7.физ-в нацвал'!K11+'11.физ-в инвал'!J11*'11.физ-в инвал'!K11)/('7.физ-в нацвал'!J11+'11.физ-в инвал'!J11) -> 28.267169 | L11: ='7.физ-в нацвал'!L11+'11.физ-в инвал'!L11 -> 10899.1 | M11: =('7.физ-в нацвал'!L11*'7.физ-в нацвал'!M11+'11.физ-в инвал'!L11*'11.физ-в инвал'!M11)/('7.физ-в нацвал'!L11+'11.физ-в инвал'!L11) -> 31.244628 | N11: ='7.физ-в нацвал'!N11+'11.физ-в инвал'!N11 -> 4126.3 | O11: =('7.физ-в нацвал'!N11*'7.физ-в нацвал'!O11+'11.физ-в инвал'!N11*'11.физ-в инвал'!O11)/('7.физ-в нацвал'!N11+'11.физ-в инвал'!N11) -> 30.666069 | P11: ='7.физ-в нацвал'!P11+'11.физ-в инвал'!P11 -> 226.6 | Q11: =('7.физ-в нацвал'!P11*'7.физ-в нацвал'!Q11+'11.физ-в инвал'!P11*'11.физ-в инвал'!Q11)/('7.физ-в нацвал'!P11+'11.физ-в инвал'!P11) -> 25.616064
A12: Апрель | B12: ='7.физ-в нацвал'!B12+'11.физ-в инвал'!B12 -> 39522.4 | C12: =('7.физ-в нацвал'!B12*'7.физ-в нацвал'!C12+'11.физ-в инвал'!B12*'11.физ-в инвал'!C12)/('7.физ-в нацвал'!B12+'11.физ-в инвал'!B12) -> 26.368958 | D12: ='7.физ-в нацвал'!D12+'11.физ-в инвал'!D12 -> 12672.3 | E12: =('7.физ-в нацвал'!D12*'7.физ-в нацвал'!E12+'11.физ-в инвал'!D12*'11.физ-в инвал'!E12)/('7.физ-в нацвал'!D12+'11.физ-в инвал'!D12) -> 22.143074 | F12: =H12+J12+L12+N12+P12+R12 -> 26850.1 | G12: =(H12*I12+J12*K12+L12*M12+N12*O12+P12*Q12+R12*S12)/(H12+J12+L12+N12+P12+R12) -> 28.363426 | H12: ='7.физ-в нацвал'!H12+'11.физ-в инвал'!H12 -> 1474.2 | I12: =('7.физ-в нацвал'!H12*'7.физ-в нацвал'!I12+'11.физ-в инвал'!H12*'11.физ-в инвал'!I12)/('7.физ-в нацвал'!H12+'11.физ-в инвал'!H12) -> 10.34264 | J12: ='7.физ-в нацвал'!J12+'11.физ-в инвал'!J12 -> 8590 | K12: =('7.физ-в нацвал'!J12*'7.физ-в нацвал'!K12+'11.физ-в инвал'!J12*'11.физ-в инвал'!K12)/('7.физ-в нацвал'!J12+'11.физ-в инвал'!J12) -> 29.343227 | L12: ='7.физ-в нацвал'!L12+'11.физ-в инвал'!L12 -> 10654.6 | M12: =('7.физ-в нацвал'!L12*'7.физ-в нацвал'!M12+'11.физ-в инвал'!L12*'11.физ-в инвал'!M12)/('7.физ-в нацвал'!L12+'11.физ-в инвал'!L12) -> 30.847578 | N12: ='7.физ-в нацвал'!N12+'11.физ-в инвал'!N12 -> 5940.3 | O12: =('7.физ-в нацвал'!N12*'7.физ-в нацвал'!O12+'11.физ-в инвал'!N12*'11.физ-в инвал'!O12)/('7.физ-в нацвал'!N12+'11.физ-в инвал'!N12) -> 26.656918 | P12: ='7.физ-в нацвал'!P12+'11.физ-в инвал'!P12 -> 191 | Q12: =('7.физ-в нацвал'!P12*'7.физ-в нацвал'!Q12+'11.физ-в инвал'!P12*'11.физ-в инвал'!Q12)/('7.физ-в нацвал'!P12+'11.физ-в инвал'!P12) -> 37.888377
A13: Май | B13: ='7.физ-в нацвал'!B13+'11.физ-в инвал'!B13 -> 52828.2 | C13: =('7.физ-в нацвал'!B13*'7.физ-в нацвал'!C13+'11.физ-в инвал'!B13*'11.физ-в инвал'!C13)/('7.физ-в нацвал'!B13+'11.физ-в инвал'!B13) -> 28.520391 | D13: ='7.физ-в нацвал'!D13+'11.физ-в инвал'!D13 -> 12246.6 | E13: =('7.физ-в нацвал'!D13*'7.физ-в нацвал'!E13+'11.физ-в инвал'!D13*'11.физ-в инвал'!E13)/('7.физ-в нацвал'!D13+'11.физ-в инвал'!D13) -> 23.410391 | F13: =H13+J13+L13+N13+P13+R13 -> 40581.6 | G13: =(H13*I13+J13*K13+L13*M13+N13*O13+P13*Q13+R13*S13)/(H13+J13+L13+N13+P13+R13) -> 30.062472 | H13: ='7.физ-в нацвал'!H13+'11.физ-в инвал'!H13 -> 380.6 | I13: =('7.физ-в нацвал'!H13*'7.физ-в нацвал'!I13+'11.физ-в инвал'!H13*'11.физ-в инвал'!I13)/('7.физ-в нацвал'!H13+'11.физ-в инвал'!H13) -> 9.6649658 | J13: ='7.физ-в нацвал'!J13+'11.физ-в инвал'!J13 -> 8852.5 | K13: =('7.физ-в нацвал'!J13*'7.физ-в нацвал'!K13+'11.физ-в инвал'!J13*'11.физ-в инвал'!K13)/('7.физ-в нацвал'!J13+'11.физ-в инвал'!J13) -> 29.093416 | L13: ='7.физ-в нацвал'!L13+'11.физ-в инвал'!L13 -> 13952.7 | M13: =('7.физ-в нацвал'!L13*'7.физ-в нацвал'!M13+'11.физ-в инвал'!L13*'11.физ-в инвал'!M13)/('7.физ-в нацвал'!L13+'11.физ-в инвал'!L13) -> 30.968806 | N13: ='7.физ-в нацвал'!N13+'11.физ-в инвал'!N13 -> 17195 | O13: =('7.физ-в нацвал'!N13*'7.физ-в нацвал'!O13+'11.физ-в инвал'!N13*'11.физ-в инвал'!O13)/('7.физ-в нацвал'!N13+'11.физ-в инвал'!N13) -> 30.193951 | P13: ='7.физ-в нацвал'!P13+'11.физ-в инвал'!P13 -> 200.8 | Q13: =('7.физ-в нацвал'!P13*'7.физ-в нацвал'!Q13+'11.физ-в инвал'!P13*'11.физ-в инвал'!Q13)/('7.физ-в нацвал'!P13+'11.физ-в инвал'!P13) -> 37.210359
A14: Июнь | B14: ='7.физ-в нацвал'!B14+'11.физ-в инвал'!B14 -> 38442.2 | C14: =('7.физ-в нацвал'!B14*'7.физ-в нацвал'!C14+'11.физ-в инвал'!B14*'11.физ-в инвал'!C14)/('7.физ-в нацвал'!B14+'11.физ-в инвал'!B14) -> 25.135683 | D14: ='7.физ-в нацвал'!D14+'11.физ-в инвал'!D14 -> 11851.4 | E14: =('7.физ-в нацвал'!D14*'7.физ-в нацвал'!E14+'11.физ-в инвал'!D14*'11.физ-в инвал'!E14)/('7.физ-в нацвал'!D14+'11.физ-в инвал'!D14) -> 17.045625 | F14: =H14+J14+L14+N14+P14+R14 -> 26590.8 | G14: =(H14*I14+J14*K14+L14*M14+N14*O14+P14*Q14+R14*S14)/(H14+J14+L14+N14+P14+R14) -> 28.741386 | H14: ='7.физ-в нацвал'!H14+'11.физ-в инвал'!H14 -> 360.7 | I14: =('7.физ-в нацвал'!H14*'7.физ-в нацвал'!I14+'11.физ-в инвал'!H14*'11.физ-в инвал'!I14)/('7.физ-в нацвал'!H14+'11.физ-в инвал'!H14) -> 17.259495 | J14: ='7.физ-в нацвал'!J14+'11.физ-в инвал'!J14 -> 14149.5 | K14: =('7.физ-в нацвал'!J14*'7.физ-в нацвал'!K14+'11.физ-в инвал'!J14*'11.физ-в инвал'!K14)/('7.физ-в нацвал'!J14+'11.физ-в инвал'!J14) -> 27.243398 | L14: ='7.физ-в нацвал'!L14+'11.физ-в инвал'!L14 -> 6526.7 | M14: =('7.физ-в нацвал'!L14*'7.физ-в нацвал'!M14+'11.физ-в инвал'!L14*'11.физ-в инвал'!M14)/('7.физ-в нацвал'!L14+'11.физ-в инвал'!L14) -> 29.135388 | N14: ='7.физ-в нацвал'!N14+'11.физ-в инвал'!N14 -> 5327.7 | O14: =('7.физ-в нацвал'!N14*'7.физ-в нацвал'!O14+'11.физ-в инвал'!N14*'11.физ-в инвал'!O14)/('7.физ-в нацвал'!N14+'11.физ-в инвал'!N14) -> 33.224891 | P14: ='7.физ-в нацвал'!P14+'11.физ-в инвал'!P14 -> 226.2 | Q14: =('7.физ-в нацвал'!P14*'7.физ-в нацвал'!Q14+'11.физ-в инвал'!P14*'11.физ-в инвал'!Q14)/('7.физ-в нацвал'!P14+'11.физ-в инвал'!P14) -> 23.785588
A15: Июль | B15: ='7.физ-в нацвал'!B15+'11.физ-в инвал'!B15 -> 40911.3 | C15: =('7.физ-в нацвал'!B15*'7.физ-в нацвал'!C15+'11.физ-в инвал'!B15*'11.физ-в инвал'!C15)/('7.физ-в нацвал'!B15+'11.физ-в инвал'!B15) -> 25.169817 | D15: ='7.физ-в нацвал'!D15+'11.физ-в инвал'!D15 -> 13175.4 | E15: =('7.физ-в нацвал'!D15*'7.физ-в нацвал'!E15+'11.физ-в инвал'!D15*'11.физ-в инвал'!E15)/('7.физ-в нацвал'!D15+'11.физ-в инвал'!D15) -> 12.477743 | F15: =H15+J15+L15+N15+P15+R15 -> 27735.9 | G15: =(H15*I15+J15*K15+L15*M15+N15*O15+P15*Q15+R15*S15)/(H15+J15+L15+N15+P15+R15) -> 31.19894 | H15: ='7.физ-в нацвал'!H15+'11.физ-в инвал'!H15 -> 217.4 | I15: =('7.физ-в нацвал'!H15*'7.физ-в нацвал'!I15+'11.физ-в инвал'!H15*'11.физ-в инвал'!I15)/('7.физ-в нацвал'!H15+'11.физ-в инвал'!H15) -> 12.0046 | J15: ='7.физ-в нацвал'!J15+'11.физ-в инвал'!J15 -> 9885.2 | K15: =('7.физ-в нацвал'!J15*'7.физ-в нацвал'!K15+'11.физ-в инвал'!J15*'11.физ-в инвал'!K15)/('7.физ-в нацвал'!J15+'11.физ-в инвал'!J15) -> 28.940194 | L15: ='7.физ-в нацвал'!L15+'11.физ-в инвал'!L15 -> 11222.4 | M15: =('7.физ-в нацвал'!L15*'7.физ-в нацвал'!M15+'11.физ-в инвал'!L15*'11.физ-в инвал'!M15)/('7.физ-в нацвал'!L15+'11.физ-в инвал'!L15) -> 31.241717 | N15: ='7.физ-в нацвал'!N15+'11.физ-в инвал'!N15 -> 5945.9 | O15: =('7.физ-в нацвал'!N15*'7.физ-в нацвал'!O15+'11.физ-в инвал'!N15*'11.физ-в инвал'!O15)/('7.физ-в нацвал'!N15+'11.физ-в инвал'!N15) -> 34.994844 | P15: ='7.физ-в нацвал'!P15+'11.физ-в инвал'!P15 -> 465 | Q15: =('7.физ-в нацвал'!P15*'7.физ-в нацвал'!Q15+'11.физ-в инвал'!P15*'11.физ-в инвал'!Q15)/('7.физ-в нацвал'!P15+'11.физ-в инвал'!P15) -> 38.620215
A16: Август | B16: ='7.физ-в нацвал'!B16+'11.физ-в инвал'!B16 -> 78138.4 | C16: =('7.физ-в нацвал'!B16*'7.физ-в нацвал'!C16+'11.физ-в инвал'!B16*'11.физ-в инвал'!C16)/('7.физ-в нацвал'!B16+'11.физ-в инвал'!B16) -> 19.34533 | D16: ='7.физ-в нацвал'!D16+'11.физ-в инвал'!D16 -> 43051.7 | E16: =('7.физ-в нацвал'!D16*'7.физ-в нацвал'!E16+'11.физ-в инвал'!D16*'11.физ-в инвал'!E16)/('7.физ-в нацвал'!D16+'11.физ-в инвал'!D16) -> 8.2210795 | F16: =H16+J16+L16+N16+P16+R16 -> 35086.7 | G16: =(H16*I16+J16*K16+L16*M16+N16*O16+P16*Q16+R16*S16)/(H16+J16+L16+N16+P16+R16) -> 32.994886 | H16: ='7.физ-в нацвал'!H16+'11.физ-в инвал'!H16 -> 91.4 | I16: =('7.физ-в нацвал'!H16*'7.физ-в нацвал'!I16+'11.физ-в инвал'!H16*'11.физ-в инвал'!I16)/('7.физ-в нацвал'!H16+'11.физ-в инвал'!H16) -> 14.441138 | J16: ='7.физ-в нацвал'!J16+'11.физ-в инвал'!J16 -> 10565.9 | K16: =('7.физ-в нацвал'!J16*'7.физ-в нацвал'!K16+'11.физ-в инвал'!J16*'11.физ-в инвал'!K16)/('7.физ-в нацвал'!J16+'11.физ-в инвал'!J16) -> 29.22337 | L16: ='7.физ-в нацвал'!L16+'11.физ-в инвал'!L16 -> 19753.4 | M16: =('7.физ-в нацвал'!L16*'7.физ-в нацвал'!M16+'11.физ-в инвал'!L16*'11.физ-в инвал'!M16)/('7.физ-в нацвал'!L16+'11.физ-в инвал'!L16) -> 35.261561 | N16: ='7.физ-в нацвал'!N16+'11.физ-в инвал'!N16 -> 4051.9 | O16: =('7.физ-в нацвал'!N16*'7.физ-в нацвал'!O16+'11.физ-в инвал'!N16*'11.физ-в инвал'!O16)/('7.физ-в нацвал'!N16+'11.физ-в инвал'!N16) -> 33.60268 | P16: ='7.физ-в нацвал'!P16+'11.физ-в инвал'!P16 -> 624.1 | Q16: =('7.физ-в нацвал'!P16*'7.физ-в нацвал'!Q16+'11.физ-в инвал'!P16*'11.физ-в инвал'!Q16)/('7.физ-в нацвал'!P16+'11.физ-в инвал'!P16) -> 23.874571
A17: Сентябрь | B17: ='7.физ-в нацвал'!B17+'11.физ-в инвал'!B17 -> 52293.8 | C17: =('7.физ-в нацвал'!B17*'7.физ-в нацвал'!C17+'11.физ-в инвал'!B17*'11.физ-в инвал'!C17)/('7.физ-в нацвал'!B17+'11.физ-в инвал'!B17) -> 27.250916 | D17: ='7.физ-в нацвал'!D17+'11.физ-в инвал'!D17 -> 10956.6 | E17: =('7.физ-в нацвал'!D17*'7.физ-в нацвал'!E17+'11.физ-в инвал'!D17*'11.физ-в инвал'!E17)/('7.физ-в нацвал'!D17+'11.физ-в инвал'!D17) -> 13.32431 | F17: =H17+J17+L17+N17+P17+R17 -> 41337.2 | G17: =(H17*I17+J17*K17+L17*M17+N17*O17+P17*Q17+R17*S17)/(H17+J17+L17+N17+P17+R17) -> 30.942222 | H17: ='7.физ-в нацвал'!H17+'11.физ-в инвал'!H17 -> 82.3 | I17: =('7.физ-в нацвал'!H17*'7.физ-в нацвал'!I17+'11.физ-в инвал'!H17*'11.физ-в инвал'!I17)/('7.физ-в нацвал'!H17+'11.физ-в инвал'!H17) -> 15 | J17: ='7.физ-в нацвал'!J17+'11.физ-в инвал'!J17 -> 20709 | K17: =('7.физ-в нацвал'!J17*'7.физ-в нацвал'!K17+'11.физ-в инвал'!J17*'11.физ-в инвал'!K17)/('7.физ-в нацвал'!J17+'11.физ-в инвал'!J17) -> 25.38324 | L17: ='7.физ-в нацвал'!L17+'11.физ-в инвал'!L17 -> 15308.7 | M17: =('7.физ-в нацвал'!L17*'7.физ-в нацвал'!M17+'11.физ-в инвал'!L17*'11.физ-в инвал'!M17)/('7.физ-в нацвал'!L17+'11.физ-в инвал'!L17) -> 38.087427 | N17: ='7.физ-в нацвал'!N17+'11.физ-в инвал'!N17 -> 5121.4 | O17: =('7.физ-в нацвал'!N17*'7.физ-в нацвал'!O17+'11.физ-в инвал'!N17*'11.физ-в инвал'!O17)/('7.физ-в нацвал'!N17+'11.физ-в инвал'!N17) -> 32.400596 | P17: ='7.физ-в нацвал'!P17+'11.физ-в инвал'!P17 -> 115.8 | Q17: =('7.физ-в нацвал'!P17*'7.физ-в нацвал'!Q17+'11.физ-в инвал'!P17*'11.физ-в инвал'!Q17)/('7.физ-в нацвал'!P17+'11.физ-в инвал'!P17) -> 27.317617
A18: Октябрь | B18: ='7.физ-в нацвал'!B18+'11.физ-в инвал'!B18 -> 82354.3 | C18: =('7.физ-в нацвал'!B18*'7.физ-в нацвал'!C18+'11.физ-в инвал'!B18*'11.физ-в инвал'!C18)/('7.физ-в нацвал'!B18+'11.физ-в инвал'!B18) -> 24.634482 | D18: ='7.физ-в нацвал'!D18+'11.физ-в инвал'!D18 -> 37173.6 | E18: =('7.физ-в нацвал'!D18*'7.физ-в нацвал'!E18+'11.физ-в инвал'!D18*'11.физ-в инвал'!E18)/('7.физ-в нацвал'!D18+'11.физ-в инвал'!D18) -> 9.8071629 | F18: =H18+J18+L18+N18+P18+R18 -> 45180.7 | G18: =(H18*I18+J18*K18+L18*M18+N18*O18+P18*Q18+R18*S18)/(H18+J18+L18+N18+P18+R18) -> 36.834046 | H18: ='7.физ-в нацвал'!H18+'11.физ-в инвал'!H18 -> 196 | I18: =('7.физ-в нацвал'!H18*'7.физ-в нацвал'!I18+'11.физ-в инвал'!H18*'11.физ-в инвал'!I18)/('7.физ-в нацвал'!H18+'11.физ-в инвал'!H18) -> 12.244898 | J18: ='7.физ-в нацвал'!J18+'11.физ-в инвал'!J18 -> 12766.1 | K18: =('7.физ-в нацвал'!J18*'7.физ-в нацвал'!K18+'11.физ-в инвал'!J18*'11.физ-в инвал'!K18)/('7.физ-в нацвал'!J18+'11.физ-в инвал'!J18) -> 26.769631 | L18: ='7.физ-в нацвал'!L18+'11.физ-в инвал'!L18 -> 29077.8 | M18: =('7.физ-в нацвал'!L18*'7.физ-в нацвал'!M18+'11.физ-в инвал'!L18*'11.физ-в инвал'!M18)/('7.физ-в нацвал'!L18+'11.физ-в инвал'!L18) -> 43.295981 | N18: ='7.физ-в нацвал'!N18+'11.физ-в инвал'!N18 -> 3021.4 | O18: =('7.физ-в нацвал'!N18*'7.физ-в нацвал'!O18+'11.физ-в инвал'!N18*'11.физ-в инвал'!O18)/('7.физ-в нацвал'!N18+'11.физ-в инвал'!N18) -> 19.32571 | P18: ='7.физ-в нацвал'!P18+'11.физ-в инвал'!P18 -> 119.4 | Q18: =('7.физ-в нацвал'!P18*'7.физ-в нацвал'!Q18+'11.физ-в инвал'!P18*'11.физ-в инвал'!Q18)/('7.физ-в нацвал'!P18+'11.физ-в инвал'!P18) -> 22.626466
A19: Ноябрь | B19: ='7.физ-в нацвал'!B19+'11.физ-в инвал'!B19 -> 46950.1 | C19: =('7.физ-в нацвал'!B19*'7.физ-в нацвал'!C19+'11.физ-в инвал'!B19*'11.физ-в инвал'!C19)/('7.физ-в нацвал'!B19+'11.физ-в инвал'!B19) -> 21.161756 | D19: ='7.физ-в нацвал'!D19+'11.физ-в инвал'!D19 -> 22973.7 | E19: =('7.физ-в нацвал'!D19*'7.физ-в нацвал'!E19+'11.физ-в инвал'!D19*'11.физ-в инвал'!E19)/('7.физ-в нацвал'!D19+'11.физ-в инвал'!D19) -> 13.248201 | F19: =H19+J19+L19+N19+P19+R19 -> 23976.4 | G19: =(H19*I19+J19*K19+L19*M19+N19*O19+P19*Q19+R19*S19)/(H19+J19+L19+N19+P19+R19) -> 28.744364 | H19: ='7.физ-в нацвал'!H19+'11.физ-в инвал'!H19 -> 36.2 | I19: =('7.физ-в нацвал'!H19*'7.физ-в нацвал'!I19+'11.физ-в инвал'!H19*'11.физ-в инвал'!I19)/('7.физ-в нацвал'!H19+'11.физ-в инвал'!H19) -> 15 | J19: ='7.физ-в нацвал'!J19+'11.физ-в инвал'!J19 -> 8509.5 | K19: =('7.физ-в нацвал'!J19*'7.физ-в нацвал'!K19+'11.физ-в инвал'!J19*'11.физ-в инвал'!K19)/('7.физ-в нацвал'!J19+'11.физ-в инвал'!J19) -> 23.98722 | L19: ='7.физ-в нацвал'!L19+'11.физ-в инвал'!L19 -> 14730.9 | M19: =('7.физ-в нацвал'!L19*'7.физ-в нацвал'!M19+'11.физ-в инвал'!L19*'11.физ-в инвал'!M19)/('7.физ-в нацвал'!L19+'11.физ-в инвал'!L19) -> 31.93147 | N19: ='7.физ-в нацвал'!N19+'11.физ-в инвал'!N19 -> 692.7 | O19: =('7.физ-в нацвал'!N19*'7.физ-в нацвал'!O19+'11.физ-в инвал'!N19*'11.физ-в инвал'!O19)/('7.физ-в нацвал'!N19+'11.физ-в инвал'!N19) -> 20.168096 | P19: ='7.физ-в нацвал'!P19+'11.физ-в инвал'!P19 -> 7.1 | Q19: =('7.физ-в нацвал'!P19*'7.физ-в нацвал'!Q19+'11.физ-в инвал'!P19*'11.физ-в инвал'!Q19)/('7.физ-в нацвал'!P19+'11.физ-в инвал'!P19) -> 24.56338
A20: Декабрь | B20: ='7.физ-в нацвал'!B20+'11.физ-в инвал'!B20 -> 65625.9 | C20: =('7.физ-в нацвал'!B20*'7.физ-в нацвал'!C20+'11.физ-в инвал'!B20*'11.физ-в инвал'!C20)/('7.физ-в нацвал'!B20+'11.физ-в инвал'!B20) -> 20.341278 | D20: ='7.физ-в нацвал'!D20+'11.физ-в инвал'!D20 -> 28713.1 | E20: =('7.физ-в нацвал'!D20*'7.физ-в нацвал'!E20+'11.физ-в инвал'!D20*'11.физ-в инвал'!E20)/('7.физ-в нацвал'!D20+'11.физ-в инвал'!D20) -> 8.7380841 | F20: =H20+J20+L20+N20+P20+R20 -> 36912.8 | G20: =(H20*I20+J20*K20+L20*M20+N20*O20+P20*Q20+R20*S20)/(H20+J20+L20+N20+P20+R20) -> 29.366973 | H20: ='7.физ-в нацвал'!H20+'11.физ-в инвал'!H20 -> 31.3 | I20: =('7.физ-в нацвал'!H20*'7.физ-в нацвал'!I20+'11.физ-в инвал'!H20*'11.физ-в инвал'!I20)/('7.физ-в нацвал'!H20+'11.физ-в инвал'!H20) -> 15 | J20: ='7.физ-в нацвал'!J20+'11.физ-в инвал'!J20 -> 15880.8 | K20: =('7.физ-в нацвал'!J20*'7.физ-в нацвал'!K20+'11.физ-в инвал'!J20*'11.физ-в инвал'!K20)/('7.физ-в нацвал'!J20+'11.физ-в инвал'!J20) -> 29.871869 | L20: ='7.физ-в нацвал'!L20+'11.физ-в инвал'!L20 -> 16843.7 | M20: =('7.физ-в нацвал'!L20*'7.физ-в нацвал'!M20+'11.физ-в инвал'!L20*'11.физ-в инвал'!M20)/('7.физ-в нацвал'!L20+'11.физ-в инвал'!L20) -> 27.930609 | N20: ='7.физ-в нацвал'!N20+'11.физ-в инвал'!N20 -> 4145.9 | O20: =('7.физ-в нацвал'!N20*'7.физ-в нацвал'!O20+'11.физ-в инвал'!N20*'11.физ-в инвал'!O20)/('7.физ-в нацвал'!N20+'11.физ-в инвал'!N20) -> 33.362998 | P20: ='7.физ-в нацвал'!P20+'11.физ-в инвал'!P20 -> 11.1 | Q20: =('7.физ-в нацвал'!P20*'7.физ-в нацвал'!Q20+'11.физ-в инвал'!P20*'11.физ-в инвал'!Q20)/('7.физ-в нацвал'!P20+'11.физ-в инвал'!P20) -> 34.6
... A110: Июнь | B110: ='7.физ-в нацвал'!B110+'11.физ-в инвал'!B110 -> 6947832.3 | C110: =('7.физ-в нацвал'!B110*'7.физ-в нацвал'!C110+'11.физ-в инвал'!B110*'11.физ-в инвал'!C110)/('7.физ-в нацвал'!B110+'11.физ-в инвал'!B110) -> 0.26942944 | D110: ='7.физ-в нацвал'!D110+'11.физ-в инвал'!D110 -> 6808872.9 | E110: =('7.физ-в нацвал'!D110*'7.физ-в нацвал'!E110+'11.физ-в инвал'!D110*'11.физ-в инвал'!E110)/('7.физ-в нацвал'!D110+'11.физ-в инвал'!D110) -> 0.11246479 | F110: =H110+J110+L110+N110+P110+R110 -> 138959.4 | G110: =(H110*I110+J110*K110+L110*M110+N110*O110+P110*Q110+R110*S110)/(H110+J110+L110+N110+P110+R110) -> 7.9605417 | H110: ='7.физ-в нацвал'!H110+'11.физ-в инвал'!H110 -> 6531.3 | I110: =('7.физ-в нацвал'!H110*'7.физ-в нацвал'!I110+'11.физ-в инвал'!H110*'11.физ-в инвал'!I110)/('7.физ-в нацвал'!H110+'11.физ-в инвал'!H110) -> 1.7419549 | J110: ='7.физ-в нацвал'!J110+'11.физ-в инвал'!J110 -> 27816.6 | K110: =('7.физ-в нацвал'!J110*'7.физ-в нацвал'!K110+'11.физ-в инвал'!J110*'11.физ-в инвал'!K110)/('7.физ-в нацвал'!J110+'11.физ-в инвал'!J110) -> 4.6037129 | L110: ='7.физ-в нацвал'!L110+'11.физ-в инвал'!L110 -> 39548.1 | M110: =('7.физ-в нацвал'!L110*'7.физ-в нацвал'!M110+'11.физ-в инвал'!L110*'11.физ-в инвал'!M110)/('7.физ-в нацвал'!L110+'11.физ-в инвал'!L110) -> 6.9939726 | N110: ='7.физ-в нацвал'!N110+'11.физ-в инвал'!N110 -> 28917 | O110: =('7.физ-в нацвал'!N110*'7.физ-в нацвал'!O110+'11.физ-в инвал'!N110*'11.физ-в инвал'!O110)/('7.физ-в нацвал'!N110+'11.физ-в инвал'!N110) -> 9.5759993 | P110: ='7.физ-в нацвал'!P110+'11.физ-в инвал'!P110 -> 36146.4 | Q110: =('7.физ-в нацвал'!P110*'7.физ-в нацвал'!Q110+'11.физ-в инвал'!P110*'11.физ-в инвал'!Q110)/('7.физ-в нацвал'!P110+'11.физ-в инвал'!P110) -> 11.432611
A111: Июль | B111: ='7.физ-в нацвал'!B111+'11.физ-в инвал'!B111 -> 10683764 | C111: =('7.физ-в нацвал'!B111*'7.физ-в нацвал'!C111+'11.физ-в инвал'!B111*'11.физ-в инвал'!C111)/('7.физ-в нацвал'!B111+'11.физ-в инвал'!B111) -> 0.20389388 | D111: ='7.физ-в нацвал'!D111+'11.физ-в инвал'!D111 -> 10526255 | E111: =('7.физ-в нацвал'!D111*'7.физ-в нацвал'!E111+'11.физ-в инвал'!D111*'11.физ-в инвал'!E111)/('7.физ-в нацвал'!D111+'11.физ-в инвал'!D111) -> 0.10330682 | F111: =H111+J111+L111+N111+P111+R111 -> 157508.7 | G111: =(H111*I111+J111*K111+L111*M111+N111*O111+P111*Q111+R111*S111)/(H111+J111+L111+N111+P111+R111) -> 6.9260941 | H111: ='7.физ-в нацвал'!H111+'11.физ-в инвал'!H111 -> 8022.4 | I111: =('7.физ-в нацвал'!H111*'7.физ-в нацвал'!I111+'11.физ-в инвал'!H111*'11.физ-в инвал'!I111)/('7.физ-в нацвал'!H111+'11.физ-в инвал'!H111) -> 2.266519 | J111: ='7.физ-в нацвал'!J111+'11.физ-в инвал'!J111 -> 58301.8 | K111: =('7.физ-в нацвал'!J111*'7.физ-в нацвал'!K111+'11.физ-в инвал'!J111*'11.физ-в инвал'!K111)/('7.физ-в нацвал'!J111+'11.физ-в инвал'!J111) -> 4.2089485 | L111: ='7.физ-в нацвал'!L111+'11.физ-в инвал'!L111 -> 28740.6 | M111: =('7.физ-в нацвал'!L111*'7.физ-в нацвал'!M111+'11.физ-в инвал'!L111*'11.физ-в инвал'!M111)/('7.физ-в нацвал'!L111+'11.физ-в инвал'!L111) -> 7.4994389 | N111: ='7.физ-в нацвал'!N111+'11.физ-в инвал'!N111 -> 28771 | O111: =('7.физ-в нацвал'!N111*'7.физ-в нацвал'!O111+'11.физ-в инвал'!N111*'11.физ-в инвал'!O111)/('7.физ-в нацвал'!N111+'11.физ-в инвал'!N111) -> 8.5992324 | P111: ='7.физ-в нацвал'!P111+'11.физ-в инвал'!P111 -> 33672.1 | Q111: =('7.физ-в нацвал'!P111*'7.физ-в нацвал'!Q111+'11.физ-в инвал'!P111*'11.физ-в инвал'!Q111)/('7.физ-в нацвал'!P111+'11.физ-в инвал'!P111) -> 10.82176 | R111: ='7.физ-в нацвал'!R111+'11.физ-в инвал'!R111 -> 0.8 | S111: =('7.физ-в нацвал'!R111*'7.физ-в нацвал'!S111+'11.физ-в инвал'!R111*'11.физ-в инвал'!S111)/('7.физ-в нацвал'!R111+'11.физ-в инвал'!R111) -> 12
A112: Август | B112: ='7.физ-в нацвал'!B112+'11.физ-в инвал'!B112 -> 11858753 | C112: =('7.физ-в нацвал'!B112*'7.физ-в нацвал'!C112+'11.физ-в инвал'!B112*'11.физ-в инвал'!C112)/('7.физ-в нацвал'!B112+'11.физ-в инвал'!B112) -> 0.17180801 | D112: ='7.физ-в нацвал'!D112+'11.физ-в инвал'!D112 -> 11687927 | E112: =('7.физ-в нацвал'!D112*'7.физ-в нацвал'!E112+'11.физ-в инвал'!D112*'11.физ-в инвал'!E112)/('7.физ-в нацвал'!D112+'11.физ-в инвал'!D112) -> 0.055744169 | F112: =H112+J112+L112+N112+P112+R112 -> 170825.7 | G112: =(H112*I112+J112*K112+L112*M112+N112*O112+P112*Q112+R112*S112)/(H112+J112+L112+N112+P112+R112) -> 8.1129178 | H112: ='7.физ-в нацвал'!H112+'11.физ-в инвал'!H112 -> 12432.8 | I112: =('7.физ-в нацвал'!H112*'7.физ-в нацвал'!I112+'11.физ-в инвал'!H112*'11.физ-в инвал'!I112)/('7.физ-в нацвал'!H112+'11.физ-в инвал'!H112) -> 4.5957228 | J112: ='7.физ-в нацвал'!J112+'11.физ-в инвал'!J112 -> 48219.1 | K112: =('7.физ-в нацвал'!J112*'7.физ-в нацвал'!K112+'11.физ-в инвал'!J112*'11.физ-в инвал'!K112)/('7.физ-в нацвал'!J112+'11.физ-в инвал'!J112) -> 4.7011675 | L112: ='7.физ-в нацвал'!L112+'11.физ-в инвал'!L112 -> 29012.7 | M112: =('7.физ-в нацвал'!L112*'7.физ-в нацвал'!M112+'11.физ-в инвал'!L112*'11.физ-в инвал'!M112)/('7.физ-в нацвал'!L112+'11.физ-в инвал'!L112) -> 7.1060921 | N112: ='7.физ-в нацвал'!N112+'11.физ-в инвал'!N112 -> 38736.8 | O112: =('7.физ-в нацвал'!N112*'7.физ-в нацвал'!O112+'11.физ-в инвал'!N112*'11.физ-в инвал'!O112)/('7.физ-в нацвал'!N112+'11.физ-в инвал'!N112) -> 10.216276 | P112: ='7.физ-в нацвал'!P112+'11.физ-в инвал'!P112 -> 42424.3 | Q112: =('7.физ-в нацвал'!P112*'7.физ-в нацвал'!Q112+'11.физ-в инвал'!P112*'11.физ-в инвал'!Q112)/('7.физ-в нацвал'!P112+'11.физ-в инвал'!P112) -> 11.789431
A113: Сентябрь | B113: ='7.физ-в нацвал'!B113+'11.физ-в инвал'!B113 -> 11479154 | C113: =('7.физ-в нацвал'!B113*'7.физ-в нацвал'!C113+'11.физ-в инвал'!B113*'11.физ-в инвал'!C113)/('7.физ-в нацвал'!B113+'11.физ-в инвал'!B113) -> 0.19845354 | D113: ='7.физ-в нацвал'!D113+'11.физ-в инвал'!D113 -> 11298965 | E113: =('7.физ-в нацвал'!D113*'7.физ-в нацвал'!E113+'11.физ-в инвал'!D113*'11.физ-в инвал'!E113)/('7.физ-в нацвал'!D113+'11.физ-в инвал'!D113) -> 0.082070654 | F113: =H113+J113+L113+N113+P113+R113 -> 180189.9 | G113: =(H113*I113+J113*K113+L113*M113+N113*O113+P113*Q113+R113*S113)/(H113+J113+L113+N113+P113+R113) -> 7.4963436 | H113: ='7.физ-в нацвал'!H113+'11.физ-в инвал'!H113 -> 11223.9 | I113: =('7.физ-в нацвал'!H113*'7.физ-в нацвал'!I113+'11.физ-в инвал'!H113*'11.физ-в инвал'!I113)/('7.физ-в нацвал'!H113+'11.физ-в инвал'!H113) -> 2.7715035 | J113: ='7.физ-в нацвал'!J113+'11.физ-в инвал'!J113 -> 40957.7 | K113: =('7.физ-в нацвал'!J113*'7.физ-в нацвал'!K113+'11.физ-в инвал'!J113*'11.физ-в инвал'!K113)/('7.физ-в нацвал'!J113+'11.физ-в инвал'!J113) -> 4.118458 | L113: ='7.физ-в нацвал'!L113+'11.физ-в инвал'!L113 -> 35573.8 | M113: =('7.физ-в нацвал'!L113*'7.физ-в нацвал'!M113+'11.физ-в инвал'!L113*'11.физ-в инвал'!M113)/('7.физ-в нацвал'!L113+'11.физ-в инвал'!L113) -> 8.7895396 | N113: ='7.физ-в нацвал'!N113+'11.физ-в инвал'!N113 -> 55582.2 | O113: =('7.физ-в нацвал'!N113*'7.физ-в нацвал'!O113+'11.физ-в инвал'!N113*'11.физ-в инвал'!O113)/('7.физ-в нацвал'!N113+'11.физ-в инвал'!N113) -> 7.7831612 | P113: ='7.физ-в нацвал'!P113+'11.физ-в инвал'!P113 -> 36852 | Q113: =('7.физ-в нацвал'!P113*'7.физ-в нацвал'!Q113+'11.физ-в инвал'!P113*'11.физ-в инвал'!Q113)/('7.физ-в нацвал'!P113+'11.физ-в инвал'!P113) -> 11.008619 | R113: ='7.физ-в нацвал'!R113+'11.физ-в инвал'!R113 -> 0.3 | S113: =('7.физ-в нацвал'!R113*'7.физ-в нацвал'!S113+'11.физ-в инвал'!R113*'11.физ-в инвал'!S113)/('7.физ-в нацвал'!R113+'11.физ-в инвал'!R113) -> 12
A114: Октябрь | B114: ='7.физ-в нацвал'!B114+'11.физ-в инвал'!B114 -> 12169753 | C114: =('7.физ-в нацвал'!B114*'7.физ-в нацвал'!C114+'11.физ-в инвал'!B114*'11.физ-в инвал'!C114)/('7.физ-в нацвал'!B114+'11.физ-в инвал'!B114) -> 0.32519848 | D114: ='7.физ-в нацвал'!D114+'11.физ-в инвал'!D114 -> 11645180 | E114: =('7.физ-в нацвал'!D114*'7.физ-в нацвал'!E114+'11.физ-в инвал'!D114*'11.физ-в инвал'!E114)/('7.физ-в нацвал'!D114+'11.физ-в инвал'!D114) -> 0.10094098 | F114: =H114+J114+L114+N114+P114+R114 -> 524572.8 | G114: =(H114*I114+J114*K114+L114*M114+N114*O114+P114*Q114+R114*S114)/(H114+J114+L114+N114+P114+R114) -> 5.3035713 | H114: ='7.физ-в нацвал'!H114+'11.физ-в инвал'!H114 -> 101683.2 | I114: =('7.физ-в нацвал'!H114*'7.физ-в нацвал'!I114+'11.физ-в инвал'!H114*'11.физ-в инвал'!I114)/('7.физ-в нацвал'!H114+'11.физ-в инвал'!H114) -> 0.80331585 | J114: ='7.физ-в нацвал'!J114+'11.физ-в инвал'!J114 -> 92767.8 | K114: =('7.физ-в нацвал'!J114*'7.физ-в нацвал'!K114+'11.физ-в инвал'!J114*'11.физ-в инвал'!K114)/('7.физ-в нацвал'!J114+'11.физ-в инвал'!J114) -> 2.9419077 | L114: ='7.физ-в нацвал'!L114+'11.физ-в инвал'!L114 -> 130517.3 | M114: =('7.физ-в нацвал'!L114*'7.физ-в нацвал'!M114+'11.физ-в инвал'!L114*'11.физ-в инвал'!M114)/('7.физ-в нацвал'!L114+'11.физ-в инвал'!L114) -> 5.8018546 | N114: ='7.физ-в нацвал'!N114+'11.физ-в инвал'!N114 -> 99014.9 | O114: =('7.физ-в нацвал'!N114*'7.физ-в нацвал'!O114+'11.физ-в инвал'!N114*'11.физ-в инвал'!O114)/('7.физ-в нацвал'!N114+'11.физ-в инвал'!N114) -> 7.3146934 | P114: ='7.физ-в нацвал'!P114+'11.физ-в инвал'!P114 -> 100589.1 | Q114: =('7.физ-в нацвал'!P114*'7.физ-в нацвал'!Q114+'11.физ-в инвал'!P114*'11.физ-в инвал'!Q114)/('7.физ-в нацвал'!P114+'11.физ-в инвал'!P114) -> 9.4045895 | R114: ='7.физ-в нацвал'!R114+'11.физ-в инвал'!R114 -> 0.5 | S114: =('7.физ-в нацвал'!R114*'7.физ-в нацвал'!S114+'11.физ-в инвал'!R114*'11.физ-в инвал'!S114)/('7.физ-в нацвал'!R114+'11.физ-в инвал'!R114) -> 12
A115: Ноябрь | B115: ='7.физ-в нацвал'!B115+'11.физ-в инвал'!B115 -> 13022695 | C115: =('7.физ-в нацвал'!B115*'7.физ-в нацвал'!C115+'11.физ-в инвал'!B115*'11.физ-в инвал'!C115)/('7.физ-в нацвал'!B115+'11.физ-в инвал'!B115) -> 0.11084349 | D115: ='7.физ-в нацвал'!D115+'11.физ-в инвал'!D115 -> 12848765 | E115: =('7.физ-в нацвал'!D115*'7.физ-в нацвал'!E115+'11.физ-в инвал'!D115*'11.физ-в инвал'!E115)/('7.физ-в нацвал'!D115+'11.физ-в инвал'!D115) -> 0.01375013 | F115: =H115+J115+L115+N115+P115+R115 -> 173930.2 | G115: =(H115*I115+J115*K115+L115*M115+N115*O115+P115*Q115+R115*S115)/(H115+J115+L115+N115+P115+R115) -> 7.2834324 | H115: ='7.физ-в нацвал'!H115+'11.физ-в инвал'!H115 -> 21207.6 | I115: =('7.физ-в нацвал'!H115*'7.физ-в нацвал'!I115+'11.физ-в инвал'!H115*'11.физ-в инвал'!I115)/('7.физ-в нацвал'!H115+'11.физ-в инвал'!H115) -> 1.9114068 | J115: ='7.физ-в нацвал'!J115+'11.физ-в инвал'!J115 -> 23123.5 | K115: =('7.физ-в нацвал'!J115*'7.физ-в нацвал'!K115+'11.физ-в инвал'!J115*'11.физ-в инвал'!K115)/('7.физ-в нацвал'!J115+'11.физ-в инвал'!J115) -> 4.3969882 | L115: ='7.физ-в нацвал'!L115+'11.физ-в инвал'!L115 -> 56245.1 | M115: =('7.физ-в нацвал'!L115*'7.физ-в нацвал'!M115+'11.физ-в инвал'!L115*'11.физ-в инвал'!M115)/('7.физ-в нацвал'!L115+'11.физ-в инвал'!L115) -> 6.0646305 | N115: ='7.физ-в нацвал'!N115+'11.физ-в инвал'!N115 -> 35941.9 | O115: =('7.физ-в нацвал'!N115*'7.физ-в нацвал'!O115+'11.физ-в инвал'!N115*'11.физ-в инвал'!O115)/('7.физ-в нацвал'!N115+'11.физ-в инвал'!N115) -> 10.152811 | P115: ='7.физ-в нацвал'!P115+'11.физ-в инвал'!P115 -> 37411.8 | Q115: =('7.физ-в нацвал'!P115*'7.физ-в нацвал'!Q115+'11.физ-в инвал'!P115*'11.физ-в инвал'!Q115)/('7.физ-в нацвал'!P115+'11.физ-в инвал'!P115) -> 11.188397 | R115: ='7.физ-в нацвал'!R115+'11.физ-в инвал'!R115 -> 0.3 | S115: =('7.физ-в нацвал'!R115*'7.физ-в нацвал'!S115+'11.физ-в инвал'!R115*'11.физ-в инвал'!S115)/('7.физ-в нацвал'!R115+'11.физ-в инвал'!R115) -> 12
A116: Декабрь | B116: ='7.физ-в нацвал'!B116+'11.физ-в инвал'!B116 -> 14327471 | C116: =('7.физ-в нацвал'!B116*'7.физ-в нацвал'!C116+'11.физ-в инвал'!B116*'11.физ-в инвал'!C116)/('7.физ-в нацвал'!B116+'11.физ-в инвал'!B116) -> 0.10469624 | D116: ='7.физ-в нацвал'!D116+'11.физ-в инвал'!D116 -> 14154988 | E116: =('7.физ-в нацвал'!D116*'7.физ-в нацвал'!E116+'11.физ-в инвал'!D116*'11.физ-в инвал'!E116)/('7.физ-в нацвал'!D116+'11.физ-в инвал'!D116) -> 0.017533398 | F116: =H116+J116+L116+N116+P116+R116 -> 172483.1 | G116: =(H116*I116+J116*K116+L116*M116+N116*O116+P116*Q116+R116*S116)/(H116+J116+L116+N116+P116+R116) -> 7.2577969 | H116: ='7.физ-в нацвал'!H116+'11.физ-в инвал'!H116 -> 14984.5 | I116: =('7.физ-в нацвал'!H116*'7.физ-в нацвал'!I116+'11.физ-в инвал'!H116*'11.физ-в инвал'!I116)/('7.физ-в нацвал'!H116+'11.физ-в инвал'!H116) -> 1.0019991 | J116: ='7.физ-в нацвал'!J116+'11.физ-в инвал'!J116 -> 34830.7 | K116: =('7.физ-в нацвал'!J116*'7.физ-в нацвал'!K116+'11.физ-в инвал'!J116*'11.физ-в инвал'!K116)/('7.физ-в нацвал'!J116+'11.физ-в инвал'!J116) -> 4.6298647 | L116: ='7.физ-в нацвал'!L116+'11.физ-в инвал'!L116 -> 54831.6 | M116: =('7.физ-в нацвал'!L116*'7.физ-в нацвал'!M116+'11.физ-в инвал'!L116*'11.физ-в инвал'!M116)/('7.физ-в нацвал'!L116+'11.физ-в инвал'!L116) -> 7.3988373 | N116: ='7.физ-в нацвал'!N116+'11.физ-в инвал'!N116 -> 44703.8 | O116: =('7.физ-в нацвал'!N116*'7.физ-в нацвал'!O116+'11.физ-в инвал'!N116*'11.физ-в инвал'!O116)/('7.физ-в нацвал'!N116+'11.физ-в инвал'!N116) -> 9.0320727 | P116: ='7.физ-в нацвал'!P116+'11.физ-в инвал'!P116 -> 23128 | Q116: =('7.физ-в нацвал'!P116*'7.физ-в нацвал'!Q116+'11.физ-в инвал'!P116*'11.физ-в инвал'!Q116)/('7.физ-в нацвал'!P116+'11.физ-в инвал'!P116) -> 11.504141 | R116: ='7.физ-в нацвал'!R116+'11.физ-в инвал'!R116 -> 4.5 | S116: =('7.физ-в нацвал'!R116*'7.физ-в нацвал'!S116+'11.физ-в инвал'!R116*'11.физ-в инвал'!S116)/('7.физ-в нацвал'!R116+'11.физ-в инвал'!R116) -> 10.133333
A117: Январь 2005 г. | B117: ='7.физ-в нацвал'!B117+'11.физ-в инвал'!B117 -> 8062285.1 | C117: =('7.физ-в нацвал'!B117*'7.физ-в нацвал'!C117+'11.физ-в инвал'!B117*'11.физ-в инвал'!C117)/('7.физ-в нацвал'!B117+'11.физ-в инвал'!B117) -> 0.13815161 | D117: ='7.физ-в нацвал'!D117+'11.физ-в инвал'!D117 -> 7919923.9 | E117: =('7.физ-в нацвал'!D117*'7.физ-в нацвал'!E117+'11.физ-в инвал'!D117*'11.физ-в инвал'!E117)/('7.физ-в нацвал'!D117+'11.физ-в инвал'!D117) -> 0.0111707 | F117: =H117+J117+L117+N117+P117+R117 -> 142361.2 | G117: =(H117*I117+J117*K117+L117*M117+N117*O117+P117*Q117+R117*S117)/(H117+J117+L117+N117+P117+R117) -> 7.2024299 | H117: ='7.физ-в нацвал'!H117+'11.физ-в инвал'!H117 -> 12008.5 | I117: =('7.физ-в нацвал'!H117*'7.физ-в нацвал'!I117+'11.физ-в инвал'!H117*'11.физ-в инвал'!I117)/('7.физ-в нацвал'!H117+'11.физ-в инвал'!H117) -> 1.7327243 | J117: ='7.физ-в нацвал'!J117+'11.физ-в инвал'!J117 -> 41088.2 | K117: =('7.физ-в нацвал'!J117*'7.физ-в нацвал'!K117+'11.физ-в инвал'!J117*'11.физ-в инвал'!K117)/('7.физ-в нацвал'!J117+'11.физ-в инвал'!J117) -> 3.9192947 | L117: ='7.физ-в нацвал'!L117+'11.физ-в инвал'!L117 -> 26587.6 | M117: =('7.физ-в нацвал'!L117*'7.физ-в нацвал'!M117+'11.физ-в инвал'!L117*'11.физ-в инвал'!M117)/('7.физ-в нацвал'!L117+'11.физ-в инвал'!L117) -> 7.4591472 | N117: ='7.физ-в нацвал'!N117+'11.физ-в инвал'!N117 -> 36016.2 | O117: =('7.физ-в нацвал'!N117*'7.физ-в нацвал'!O117+'11.физ-в инвал'!N117*'11.физ-в инвал'!O117)/('7.физ-в нацвал'!N117+'11.физ-в инвал'!N117) -> 8.4647879 | P117: ='7.физ-в нацвал'!P117+'11.физ-в инвал'!P117 -> 26660.4 | Q117: =('7.физ-в нацвал'!P117*'7.физ-в нацвал'!Q117+'11.физ-в инвал'!P117*'11.физ-в инвал'!Q117)/('7.физ-в нацвал'!P117+'11.физ-в инвал'!P117) -> 12.764567 | R117: ='7.физ-в нацвал'!R117+'11.физ-в инвал'!R117 -> 0.3 | S117: =('7.физ-в нацвал'!R117*'7.физ-в нацвал'!S117+'11.физ-в инвал'!R117*'11.физ-в инвал'!S117)/('7.физ-в нацвал'!R117+'11.физ-в инвал'!R117) -> 12
A118: Февраль | B118: ='7.физ-в нацвал'!B118+'11.физ-в инвал'!B118 -> 10499559 | C118: =('7.физ-в нацвал'!B118*'7.физ-в нацвал'!C118+'11.физ-в инвал'!B118*'11.физ-в инвал'!C118)/('7.физ-в нацвал'!B118+'11.физ-в инвал'!B118) -> 0.12091638 | D118: ='7.физ-в нацвал'!D118+'11.физ-в инвал'!D118 -> 10345418 | E118: =('7.физ-в нацвал'!D118*'7.физ-в нацвал'!E118+'11.физ-в инвал'!D118*'11.физ-в инвал'!E118)/('7.физ-в нацвал'!D118+'11.физ-в инвал'!D118) -> 0.0105407 | F118: =H118+J118+L118+N118+P118+R118 -> 154141.6 | G118: =(H118*I118+J118*K118+L118*M118+N118*O118+P118*Q118+R118*S118)/(H118+J118+L118+N118+P118+R118) -> 7.5289266 | H118: ='7.физ-в нацвал'!H118+'11.физ-в инвал'!H118 -> 9220.8 | I118: =('7.физ-в нацвал'!H118*'7.физ-в нацвал'!I118+'11.физ-в инвал'!H118*'11.физ-в инвал'!I118)/('7.физ-в нацвал'!H118+'11.физ-в инвал'!H118) -> 1.2941558 | J118: ='7.физ-в нацвал'!J118+'11.физ-в инвал'!J118 -> 31498.1 | K118: =('7.физ-в нацвал'!J118*'7.физ-в нацвал'!K118+'11.физ-в инвал'!J118*'11.физ-в инвал'!K118)/('7.физ-в нацвал'!J118+'11.физ-в инвал'!J118) -> 4.7667504 | L118: ='7.физ-в нацвал'!L118+'11.физ-в инвал'!L118 -> 40025.4 | M118: =('7.физ-в нацвал'!L118*'7.физ-в нацвал'!M118+'11.физ-в инвал'!L118*'11.физ-в инвал'!M118)/('7.физ-в нацвал'!L118+'11.физ-в инвал'!L118) -> 7.1292539 | N118: ='7.физ-в нацвал'!N118+'11.физ-в инвал'!N118 -> 44790.7 | O118: =('7.физ-в нацвал'!N118*'7.физ-в нацвал'!O118+'11.физ-в инвал'!N118*'11.физ-в инвал'!O118)/('7.физ-в нацвал'!N118+'11.физ-в инвал'!N118) -> 8.8563274 | P118: ='7.физ-в нацвал'!P118+'11.физ-в инвал'!P118 -> 28606.3 | Q118: =('7.физ-в нацвал'!P118*'7.физ-в нацвал'!Q118+'11.физ-в инвал'!P118*'11.физ-в инвал'!Q118)/('7.физ-в нацвал'!P118+'11.физ-в инвал'!P118) -> 11.060785 | R118: ='7.физ-в нацвал'!R118+'11.физ-в инвал'!R118 -> 0.3 | S118: =('7.физ-в нацвал'!R118*'7.физ-в нацвал'!S118+'11.физ-в инвал'!R118*'11.физ-в инвал'!S118)/('7.физ-в нацвал'!R118+'11.физ-в инвал'!R118) -> 12
A119: Март | B119: ='7.физ-в нацвал'!B119+'11.физ-в инвал'!B119 -> 11547243 | C119: =('7.физ-в нацвал'!B119*'7.физ-в нацвал'!C119+'11.физ-в инвал'!B119*'11.физ-в инвал'!C119)/('7.физ-в нацвал'!B119+'11.физ-в инвал'!B119) -> 0.11540174 | D119: ='7.физ-в нацвал'!D119+'11.физ-в инвал'!D119 -> 11398437 | E119: =('7.физ-в нацвал'!D119*'7.физ-в нацвал'!E119+'11.физ-в инвал'!D119*'11.физ-в инвал'!E119)/('7.физ-в нацвал'!D119+'11.физ-в инвал'!D119) -> 0.012365061 | F119: =H119+J119+L119+N119+P119+R119 -> 148806.1 | G119: =(H119*I119+J119*K119+L119*M119+N119*O119+P119*Q119+R119*S119)/(H119+J119+L119+N119+P119+R119) -> 8.0079345 | H119: ='7.физ-в нацвал'!H119+'11.физ-в инвал'!H119 -> 7840.5 | I119: =('7.физ-в нацвал'!H119*'7.физ-в нацвал'!I119+'11.физ-в инвал'!H119*'11.физ-в инвал'!I119)/('7.физ-в нацвал'!H119+'11.физ-в инвал'!H119) -> 2.3851157 | J119: ='7.физ-в нацвал'!J119+'11.физ-в инвал'!J119 -> 26297.2 | K119: =('7.физ-в нацвал'!J119*'7.физ-в нацвал'!K119+'11.физ-в инвал'!J119*'11.физ-в инвал'!K119)/('7.физ-в нацвал'!J119+'11.физ-в инвал'!J119) -> 3.6530143 | L119: ='7.физ-в нацвал'!L119+'11.физ-в инвал'!L119 -> 35888.8 | M119: =('7.физ-в нацвал'!L119*'7.физ-в нацвал'!M119+'11.физ-в инвал'!L119*'11.физ-в инвал'!M119)/('7.физ-в нацвал'!L119+'11.физ-в инвал'!L119) -> 8.9845543 | N119: ='7.физ-в нацвал'!N119+'11.физ-в инвал'!N119 -> 47761.9 | O119: =('7.физ-в нацвал'!N119*'7.физ-в нацвал'!O119+'11.физ-в инвал'!N119*'11.физ-в инвал'!O119)/('7.физ-в нацвал'!N119+'11.физ-в инвал'!N119) -> 8.5010684 | P119: ='7.физ-в нацвал'!P119+'11.физ-в инвал'!P119 -> 31017.3 | Q119: =('7.физ-в нацвал'!P119*'7.физ-в нацвал'!Q119+'11.физ-в инвал'!P119*'11.физ-в инвал'!Q119)/('7.физ-в нацвал'!P119+'11.физ-в инвал'!P119) -> 11.232058 | R119: ='7.физ-в нацвал'!R119+'11.физ-в инвал'!R119 -> 0.4 | S119: =('7.физ-в нацвал'!R119*'7.физ-в нацвал'!S119+'11.физ-в инвал'!R119*'11.физ-в инвал'!S119)/('7.физ-в нацвал'!R119+'11.физ-в инвал'!R119) -> 12
A120: Апрель | B120: ='7.физ-в нацвал'!B120+'11.физ-в инвал'!B120 -> 14238623 | C120: =('7.физ-в нацвал'!B120*'7.физ-в нацвал'!C120+'11.физ-в инвал'!B120*'11.физ-в инвал'!C120)/('7.физ-в нацвал'!B120+'11.физ-в инвал'!B120) -> 0.096302428 | D120: ='7.физ-в нацвал'!D120+'11.физ-в инвал'!D120 -> 14064667 | E120: =('7.физ-в нацвал'!D120*'7.физ-в нацвал'!E120+'11.физ-в инвал'!D120*'11.физ-в инвал'!E120)/('7.физ-в нацвал'!D120+'11.физ-в инвал'!D120) -> 0.011872425 | F120: =H120+J120+L120+N120+P120+R120 -> 173955.5 | G120: =(H120*I120+J120*K120+L120*M120+N120*O120+P120*Q120+R120*S120)/(H120+J120+L120+N120+P120+R120) -> 6.9226453 | H120: ='7.физ-в нацвал'!H120+'11.физ-в инвал'!H120 -> 6429.2 | I120: =('7.физ-в нацвал'!H120*'7.физ-в нацвал'!I120+'11.физ-в инвал'!H120*'11.физ-в инвал'!I120)/('7.физ-в нацвал'!H120+'11.физ-в инвал'!H120) -> 1.6544391 | J120: ='7.физ-в нацвал'!J120+'11.физ-в инвал'!J120 -> 55993.6 | K120: =('7.физ-в нацвал'!J120*'7.физ-в нацвал'!K120+'11.физ-в инвал'!J120*'11.физ-в инвал'!K120)/('7.физ-в нацвал'!J120+'11.физ-в инвал'!J120) -> 4.2446192 | L120: ='7.физ-в нацвал'!L120+'11.физ-в инвал'!L120 -> 51090.3 | M120: =('7.физ-в нацвал'!L120*'7.физ-в нацвал'!M120+'11.физ-в инвал'!L120*'11.физ-в инвал'!M120)/('7.физ-в нацвал'!L120+'11.физ-в инвал'!L120) -> 6.676376 | N120: ='7.физ-в нацвал'!N120+'11.физ-в инвал'!N120 -> 33983.7 | O120: =('7.физ-в нацвал'!N120*'7.физ-в нацвал'!O120+'11.физ-в инвал'!N120*'11.физ-в инвал'!O120)/('7.физ-в нацвал'!N120+'11.физ-в инвал'!N120) -> 9.4166056 | P120: ='7.физ-в нацвал'!P120+'11.физ-в инвал'!P120 -> 26458.4 | Q120: =('7.физ-в нацвал'!P120*'7.физ-в нацвал'!Q120+'11.физ-в инвал'!P120*'11.физ-в инвал'!Q120)/('7.физ-в нацвал'!P120+'11.физ-в инвал'!P120) -> 11.142444 | R120: ='7.физ-в нацвал'!R120+'11.физ-в инвал'!R120 -> 0.3 | S120: =('7.физ-в нацвал'!R120*'7.физ-в нацвал'!S120+'11.физ-в инвал'!R120*'11.физ-в инвал'!S120)/('7.физ-в нацвал'!R120+'11.физ-в инвал'!R120) -> 12
A121: Май | B121: ='7.физ-в нацвал'!B121+'11.физ-в инвал'!B121 -> 9566759.9 | C121: =('7.физ-в нацвал'!B121*'7.физ-в нацвал'!C121+'11.физ-в инвал'!B121*'11.физ-в инвал'!C121)/('7.физ-в нацвал'!B121+'11.физ-в инвал'!B121) -> 0.15198506 | D121: ='7.физ-в нацвал'!D121+'11.физ-в инвал'!D121 -> 9402590.5 | E121: =('7.физ-в нацвал'!D121*'7.физ-в нацвал'!E121+'11.физ-в инвал'!D121*'11.физ-в инвал'!E121)/('7.физ-в нацвал'!D121+'11.физ-в инвал'!D121) -> 0.021996625 | F121: =H121+J121+L121+N121+P121+R121 -> 164169.4 | G121: =(H121*I121+J121*K121+L121*M121+N121*O121+P121*Q121+R121*S121)/(H121+J121+L121+N121+P121+R121) -> 7.596905 | H121: ='7.физ-в нацвал'!H121+'11.физ-в инвал'!H121 -> 5785 | I121: =('7.физ-в нацвал'!H121*'7.физ-в нацвал'!I121+'11.физ-в инвал'!H121*'11.физ-в инвал'!I121)/('7.физ-в нацвал'!H121+'11.физ-в инвал'!H121) -> 2.6891507 | J121: ='7.физ-в нацвал'!J121+'11.физ-в инвал'!J121 -> 59606.4 | K121: =('7.физ-в нацвал'!J121*'7.физ-в нацвал'!K121+'11.физ-в инвал'!J121*'11.физ-в инвал'!K121)/('7.физ-в нацвал'!J121+'11.физ-в инвал'!J121) -> 4.3041999 | L121: ='7.физ-в нацвал'!L121+'11.физ-в инвал'!L121 -> 32899 | M121: =('7.физ-в нацвал'!L121*'7.физ-в нацвал'!M121+'11.физ-в инвал'!L121*'11.физ-в инвал'!M121)/('7.физ-в нацвал'!L121+'11.физ-в инвал'!L121) -> 7.3328569 | N121: ='7.физ-в нацвал'!N121+'11.физ-в инвал'!N121 -> 28280.5 | O121: =('7.физ-в нацвал'!N121*'7.физ-в нацвал'!O121+'11.физ-в инвал'!N121*'11.физ-в инвал'!O121)/('7.физ-в нацвал'!N121+'11.физ-в инвал'!N121) -> 10.248086 | P121: ='7.физ-в нацвал'!P121+'11.физ-в инвал'!P121 -> 37471.8 | Q121: =('7.физ-в нацвал'!P121*'7.физ-в нацвал'!Q121+'11.физ-в инвал'!P121*'11.физ-в инвал'!Q121)/('7.физ-в нацвал'!P121+'11.физ-в инвал'!P121) -> 11.8151 | R121: ='7.физ-в нацвал'!R121+'11.физ-в инвал'!R121 -> 126.7 | S121: =('7.физ-в нацвал'!R121*'7.физ-в нацвал'!S121+'11.физ-в инвал'!R121*'11.физ-в инвал'!S121)/('7.физ-в нацвал'!R121+'11.физ-в инвал'!R121) -> 10
A122: Июнь | B122: ='7.физ-в нацвал'!B122+'11.физ-в инвал'!B122 -> 7659124.9 | C122: =('7.физ-в нацвал'!B122*'7.физ-в нацвал'!C122+'11.физ-в инвал'!B122*'11.физ-в инвал'!C122)/('7.физ-в нацвал'!B122+'11.физ-в инвал'!B122) -> 0.20816699 | D122: ='7.физ-в нацвал'!D122+'11.физ-в инвал'!D122 -> 7354716.5 | E122: =('7.физ-в нацвал'!D122*'7.физ-в нацвал'!E122+'11.физ-в инвал'!D122*'11.физ-в инвал'!E122)/('7.физ-в нацвал'!D122+'11.физ-в инвал'!D122) -> 0.025249469 | F122: =H122+J122+L122+N122+P122+R122 -> 304408.4 | G122: =(H122*I122+J122*K122+L122*M122+N122*O122+P122*Q122+R122*S122)/(H122+J122+L122+N122+P122+R122) -> 4.6275803 | H122: ='7.физ-в нацвал'!H122+'11.физ-в инвал'!H122 -> 12590.9 | I122: =('7.физ-в нацвал'!H122*'7.физ-в нацвал'!I122+'11.физ-в инвал'!H122*'11.физ-в инвал'!I122)/('7.физ-в нацвал'!H122+'11.физ-в инвал'!H122) -> 1.6358767 | J122: ='7.физ-в нацвал'!J122+'11.физ-в инвал'!J122 -> 176719.3 | K122: =('7.физ-в нацвал'!J122*'7.физ-в нацвал'!K122+'11.физ-в инвал'!J122*'11.физ-в инвал'!K122)/('7.физ-в нацвал'!J122+'11.физ-в инвал'!J122) -> 2.2904757 | L122: ='7.физ-в нацвал'!L122+'11.физ-в инвал'!L122 -> 55535.4 | M122: =('7.физ-в нацвал'!L122*'7.физ-в нацвал'!M122+'11.физ-в инвал'!L122*'11.физ-в инвал'!M122)/('7.физ-в нацвал'!L122+'11.физ-в инвал'!L122) -> 7.1211328 | N122: ='7.физ-в нацвал'!N122+'11.физ-в инвал'!N122 -> 29447.3 | O122: =('7.физ-в нацвал'!N122*'7.физ-в нацвал'!O122+'11.физ-в инвал'!N122*'11.физ-в инвал'!O122)/('7.физ-в нацвал'!N122+'11.физ-в инвал'!N122) -> 8.2715499 | P122: ='7.физ-в нацвал'!P122+'11.физ-в инвал'!P122 -> 30115.2 | Q122: =('7.физ-в нацвал'!P122*'7.физ-в нацвал'!Q122+'11.физ-в инвал'!P122*'11.физ-в инвал'!Q122)/('7.физ-в нацвал'!P122+'11.физ-в инвал'!P122) -> 11.431208 | R122: ='7.физ-в нацвал'!R122+'11.физ-в инвал'!R122 -> 0.3 | S122: =('7.физ-в нацвал'!R122*'7.физ-в нацвал'!S122+'11.физ-в инвал'!R122*'11.физ-в инвал'!S122)/('7.физ-в нацвал'!R122+'11.физ-в инвал'!R122) -> 10
A123: Июль | B123: ='7.физ-в нацвал'!B123+'11.физ-в инвал'!B123 -> 4850077.8 | C123: =('7.физ-в нацвал'!B123*'7.физ-в нацвал'!C123+'11.физ-в инвал'!B123*'11.физ-в инвал'!C123)/('7.физ-в нацвал'!B123+'11.физ-в инвал'!B123) -> 0.27539369 | D123: ='7.физ-в нацвал'!D123+'11.физ-в инвал'!D123 -> 4725280 | E123: =('7.физ-в нацвал'!D123*'7.физ-в нацвал'!E123+'11.физ-в инвал'!D123*'11.физ-в инвал'!E123)/('7.физ-в нацвал'!D123+'11.физ-в инвал'!D123) -> 0.059260407 | F123: =H123+J123+L123+N123+P123+R123 -> 124797.8 | G123: =(H123*I123+J123*K123+L123*M123+N123*O123+P123*Q123+R123*S123)/(H123+J123+L123+N123+P123+R123) -> 8.4589537 | H123: ='7.физ-в нацвал'!H123+'11.физ-в инвал'!H123 -> 1526.7 | I123: =('7.физ-в нацвал'!H123*'7.физ-в нацвал'!I123+'11.физ-в инвал'!H123*'11.физ-в инвал'!I123)/('7.физ-в нацвал'!H123+'11.физ-в инвал'!H123) -> 1.6921465 | J123: ='7.физ-в нацвал'!J123+'11.физ-в инвал'!J123 -> 26387.6 | K123: =('7.физ-в нацвал'!J123*'7.физ-в нацвал'!K123+'11.физ-в инвал'!J123*'11.физ-в инвал'!K123)/('7.физ-в нацвал'!J123+'11.физ-в инвал'!J123) -> 5.0496591 | L123: ='7.физ-в нацвал'!L123+'11.физ-в инвал'!L123 -> 30907.9 | M123: =('7.физ-в нацвал'!L123*'7.физ-в нацвал'!M123+'11.физ-в инвал'!L123*'11.физ-в инвал'!M123)/('7.физ-в нацвал'!L123+'11.физ-в инвал'!L123) -> 7.3924402 | N123: ='7.физ-в нацвал'!N123+'11.физ-в инвал'!N123 -> 29211.5 | O123: =('7.физ-в нацвал'!N123*'7.физ-в нацвал'!O123+'11.физ-в инвал'!N123*'11.физ-в инвал'!O123)/('7.физ-в нацвал'!N123+'11.физ-в инвал'!N123) -> 8.600793 | P123: ='7.физ-в нацвал'!P123+'11.физ-в инвал'!P123 -> 36763.8 | Q123: =('7.физ-в нацвал'!P123*'7.физ-в нацвал'!Q123+'11.физ-в инвал'!P123*'11.физ-в инвал'!Q123)/('7.физ-в нацвал'!P123+'11.физ-в инвал'!P123) -> 11.970938 | R123: ='7.физ-в нацвал'!R123+'11.физ-в инвал'!R123 -> 0.3 | S123: =('7.физ-в нацвал'!R123*'7.физ-в нацвал'!S123+'11.физ-в инвал'!R123*'11.физ-в инвал'!S123)/('7.физ-в нацвал'!R123+'11.физ-в инвал'!R123) -> 10
A124: Август | B124: ='7.физ-в нацвал'!B124+'11.физ-в инвал'!B124 -> 3615604.1 | C124: =('7.физ-в нацвал'!B124*'7.физ-в нацвал'!C124+'11.физ-в инвал'!B124*'11.физ-в инвал'!C124)/('7.физ-в нацвал'!B124+'11.физ-в инвал'!B124) -> 0.52155673 | D124: ='7.физ-в нацвал'!D124+'11.физ-в инвал'!D124 -> 3413237.3 | E124: =('7.физ-в нацвал'!D124*'7.физ-в нацвал'!E124+'11.физ-в инвал'!D124*'11.физ-в инвал'!E124)/('7.физ-в нацвал'!D124+'11.физ-в инвал'!D124) -> 0.072071912 | F124: =H124+J124+L124+N124+P124+R124 -> 202366.8 | G124: =(H124*I124+J124*K124+L124*M124+N124*O124+P124*Q124+R124*S124)/(H124+J124+L124+N124+P124+R124) -> 8.1028317 | H124: ='7.физ-в нацвал'!H124+'11.физ-в инвал'!H124 -> 7100.4 | I124: =('7.физ-в нацвал'!H124*'7.физ-в нацвал'!I124+'11.физ-в инвал'!H124*'11.физ-в инвал'!I124)/('7.физ-в нацвал'!H124+'11.физ-в инвал'!H124) -> 2.2072649 | J124: ='7.физ-в нацвал'!J124+'11.физ-в инвал'!J124 -> 58867.6 | K124: =('7.физ-в нацвал'!J124*'7.физ-в нацвал'!K124+'11.физ-в инвал'!J124*'11.физ-в инвал'!K124)/('7.физ-в нацвал'!J124+'11.физ-в инвал'!J124) -> 4.810106 | L124: ='7.физ-в нацвал'!L124+'11.физ-в инвал'!L124 -> 31521.8 | M124: =('7.физ-в нацвал'!L124*'7.физ-в нацвал'!M124+'11.физ-в инвал'!L124*'11.физ-в инвал'!M124)/('7.физ-в нацвал'!L124+'11.физ-в инвал'!L124) -> 7.1499836 | N124: ='7.физ-в нацвал'!N124+'11.физ-в инвал'!N124 -> 49937.1 | O124: =('7.физ-в нацвал'!N124*'7.физ-в нацвал'!O124+'11.физ-в инвал'!N124*'11.физ-в инвал'!O124)/('7.физ-в нацвал'!N124+'11.физ-в инвал'!N124) -> 8.8666752 | P124: ='7.физ-в нацвал'!P124+'11.физ-в инвал'!P124 -> 54931.4 | Q124: =('7.физ-в нацвал'!P124*'7.физ-в нацвал'!Q124+'11.физ-в инвал'!P124*'11.физ-в инвал'!Q124)/('7.физ-в нацвал'!P124+'11.физ-в инвал'!P124) -> 12.245653 | R124: ='7.физ-в нацвал'!R124+'11.физ-в инвал'!R124 -> 8.5 | S124: =('7.физ-в нацвал'!R124*'7.физ-в нацвал'!S124+'11.физ-в инвал'!R124*'11.физ-в инвал'!S124)/('7.физ-в нацвал'!R124+'11.физ-в инвал'!R124) -> 10
... A380: Декабрь | B380: ='7.физ-в нацвал'!B380+'11.физ-в инвал'!B380 -> 0 | C380: =('7.физ-в нацвал'!B380*'7.физ-в нацвал'!C380+'11.физ-в инвал'!B380*'11.физ-в инвал'!C380)/('7.физ-в нацвал'!B380+'11.физ-в инвал'!B380) -> #DIV/0! | D380: ='7.физ-в нацвал'!D380+'11.физ-в инвал'!D380 -> 0 | E380: =('7.физ-в нацвал'!D380*'7.физ-в нацвал'!E380+'11.физ-в инвал'!D380*'11.физ-в инвал'!E380)/('7.физ-в нацвал'!D380+'11.физ-в инвал'!D380) -> #DIV/0! | F380: =H380+J380+L380+N380+P380+R380 -> 0 | G380: =(H380*I380+J380*K380+L380*M380+N380*O380+P380*Q380+R380*S380)/(H380+J380+L380+N380+P380+R380) -> #DIV/0! | H380: ='7.физ-в нацвал'!H380+'11.физ-в инвал'!H380 -> 0 | I380: =('7.физ-в нацвал'!H380*'7.физ-в нацвал'!I380+'11.физ-в инвал'!H380*'11.физ-в инвал'!I380)/('7.физ-в нацвал'!H380+'11.физ-в инвал'!H380) -> #DIV/0! | J380: ='7.физ-в нацвал'!J380+'11.физ-в инвал'!J380 -> 0 | K380: =('7.физ-в нацвал'!J380*'7.физ-в нацвал'!K380+'11.физ-в инвал'!J380*'11.физ-в инвал'!K380)/('7.физ-в нацвал'!J380+'11.физ-в инвал'!J380) -> #DIV/0! | L380: ='7.физ-в нацвал'!L380+'11.физ-в инвал'!L380 -> 0 | M380: =('7.физ-в нацвал'!L380*'7.физ-в нацвал'!M380+'11.физ-в инвал'!L380*'11.физ-в инвал'!M380)/('7.физ-в нацвал'!L380+'11.физ-в инвал'!L380) -> #DIV/0! | N380: ='7.физ-в нацвал'!N380+'11.физ-в инвал'!N380 -> 0 | O380: =('7.физ-в нацвал'!N380*'7.физ-в нацвал'!O380+'11.физ-в инвал'!N380*'11.физ-в инвал'!O380)/('7.физ-в нацвал'!N380+'11.физ-в инвал'!N380) -> #DIV/0! | P380: ='7.физ-в нацвал'!P380+'11.физ-в инвал'!P380 -> 0 | Q380: =('7.физ-в нацвал'!P380*'7.физ-в нацвал'!Q380+'11.физ-в инвал'!P380*'11.физ-в инвал'!Q380)/('7.физ-в нацвал'!P380+'11.физ-в инвал'!P380) -> #DIV/0! | R380: ='7.физ-в нацвал'!R380+'11.физ-в инвал'!R380 -> 0 | S380: =('7.физ-в нацвал'!R380*'7.физ-в нацвал'!S380+'11.физ-в инвал'!R380*'11.физ-в инвал'!S380)/('7.физ-в нацвал'!R380+'11.физ-в инвал'!R380) -> #DIV/0!
A381: *- предварительные данные

Sheet 4.юрид-всего
A1: Раздел "Статистика" / "Банковская статистика" / "Вновь принятые коммерческими банками депозиты, за период"
A3: Таблица 4. Общий объем и средневзвешенные ставки вновь принятых депозитов юридических лиц*
A5: (тыс. сомов / проценты)
A6: Период | B6: Общий объем | C6: Средневз. cтавка | D6: До востребования | F6: Срочные депозиты | H6: в том числе, по срокам:
H7: 0 - 1 месяца | J7: 1 - 3 месяца | L7: 3 - 6 месяцев | N7: 6 - 12 месяцев | P7: 1 - 3 года | R7: более 3 лет
D8: объем | E8: средневзв. ставка | F8: объем | G8: средневзв. ставка | H8: объем | I8: средневзв. ставка | J8: объем | K8: средневзв. ставка | L8: объем | M8: средневзв. ставка | N8: объем | O8: средневзв. ставка | P8: объем | Q8: средневзв. ставка | R8: объем | S8: средневзв. ставка
A9: Январь 1996 г. | B9: ='8.юрид-в нацвал'!B9+'12.юрид-в инвал'!B9 -> 9102 | C9: =('8.юрид-в нацвал'!B9*'8.юрид-в нацвал'!C9+'12.юрид-в инвал'!B9*'12.юрид-в инвал'!C9)/('8.юрид-в нацвал'!B9+'12.юрид-в инвал'!B9) -> 26.632388 | F9: =H9+J9+L9+N9+P9+R9 -> 9102 | G9: =(H9*I9+J9*K9+L9*M9+N9*O9+P9*Q9+R9*S9)/(H9+J9+L9+N9+P9+R9) -> 26.632388 | H9: ='8.юрид-в нацвал'!H9+'12.юрид-в инвал'!H9 -> 1732 | I9: =('8.юрид-в нацвал'!H9*'8.юрид-в нацвал'!I9+'12.юрид-в инвал'!H9*'12.юрид-в инвал'!I9)/('8.юрид-в нацвал'!H9+'12.юрид-в инвал'!H9) -> 5.1558891 | J9: ='8.юрид-в нацвал'!J9+'12.юрид-в инвал'!J9 -> 4557 | K9: =('8.юрид-в нацвал'!J9*'8.юрид-в нацвал'!K9+'12.юрид-в инвал'!J9*'12.юрид-в инвал'!K9)/('8.юрид-в нацвал'!J9+'12.юрид-в инвал'!J9) -> 36.145885 | L9: ='8.юрид-в нацвал'!L9+'12.юрид-в инвал'!L9 -> 2250 | M9: =('8.юрид-в нацвал'!L9*'8.юрид-в нацвал'!M9+'12.юрид-в инвал'!L9*'12.юрид-в инвал'!M9)/('8.юрид-в нацвал'!L9+'12.юрид-в инвал'!L9) -> 17.454222 | N9: ='8.юрид-в нацвал'!N9+'12.юрид-в инвал'!N9 -> 559 | O9: =('8.юрид-в нацвал'!N9*'8.юрид-в нацвал'!O9+'12.юрид-в инвал'!N9*'12.юрид-в инвал'!O9)/('8.юрид-в нацвал'!N9+'12.юрид-в инвал'!N9) -> 52.538819 | P9: ='8.юрид-в нацвал'!P9+'12.юрид-в инвал'!P9 -> 4 | Q9: =('8.юрид-в нацвал'!P9*'8.юрид-в нацвал'!Q9+'12.юрид-в инвал'!P9*'12.юрид-в инвал'!Q9)/('8.юрид-в нацвал'!P9+'12.юрид-в инвал'!P9) -> 30
A10: Февраль | B10: ='8.юрид-в нацвал'!B10+'12.юрид-в инвал'!B10 -> 7593.3 | C10: =('8.юрид-в нацвал'!B10*'8.юрид-в нацвал'!C10+'12.юрид-в инвал'!B10*'12.юрид-в инвал'!C10)/('8.юрид-в нацвал'!B10+'12.юрид-в инвал'!B10) -> 26.706597 | F10: =H10+J10+L10+N10+P10+R10 -> 7593.3 | G10: =(H10*I10+J10*K10+L10*M10+N10*O10+P10*Q10+R10*S10)/(H10+J10+L10+N10+P10+R10) -> 26.706597 | H10: ='8.юрид-в нацвал'!H10+'12.юрид-в инвал'!H10 -> 334 | I10: =('8.юрид-в нацвал'!H10*'8.юрид-в нацвал'!I10+'12.юрид-в инвал'!H10*'12.юрид-в инвал'!I10)/('8.юрид-в нацвал'!H10+'12.юрид-в инвал'!H10) -> 42.556886 | J10: ='8.юрид-в нацвал'!J10+'12.юрид-в инвал'!J10 -> 5671.8 | K10: =('8.юрид-в нацвал'!J10*'8.юрид-в нацвал'!K10+'12.юрид-в инвал'!J10*'12.юрид-в инвал'!K10)/('8.юрид-в нацвал'!J10+'12.юрид-в инвал'!J10) -> 24.155118 | L10: ='8.юрид-в нацвал'!L10+'12.юрид-в инвал'!L10 -> 831 | M10: =('8.юрид-в нацвал'!L10*'8.юрид-в нацвал'!M10+'12.юрид-в инвал'!L10*'12.юрид-в инвал'!M10)/('8.юрид-в нацвал'!L10+'12.юрид-в инвал'!L10) -> 40.730445 | N10: ='8.юрид-в нацвал'!N10+'12.юрид-в инвал'!N10 -> 747.5 | O10: =('8.юрид-в нацвал'!N10*'8.юрид-в нацвал'!O10+'12.юрид-в инвал'!N10*'12.юрид-в инвал'!O10)/('8.юрид-в нацвал'!N10+'12.юрид-в инвал'!N10) -> 23.354114 | P10: ='8.юрид-в нацвал'!P10+'12.юрид-в инвал'!P10 -> 9 | Q10: =('8.юрид-в нацвал'!P10*'8.юрид-в нацвал'!Q10+'12.юрид-в инвал'!P10*'12.юрид-в инвал'!Q10)/('8.юрид-в нацвал'!P10+'12.юрид-в инвал'!P10) -> 30
A11: Март | B11: ='8.юрид-в нацвал'!B11+'12.юрид-в инвал'!B11 -> 11398.8 | C11: =('8.юрид-в нацвал'!B11*'8.юрид-в нацвал'!C11+'12.юрид-в инвал'!B11*'12.юрид-в инвал'!C11)/('8.юрид-в нацвал'!B11+'12.юрид-в инвал'!B11) -> 26.927659 | F11: =H11+J11+L11+N11+P11+R11 -> 11398.8 | G11: =(H11*I11+J11*K11+L11*M11+N11*O11+P11*Q11+R11*S11)/(H11+J11+L11+N11+P11+R11) -> 26.927659 | H11: ='8.юрид-в нацвал'!H11+'12.юрид-в инвал'!H11 -> 2669 | I11: =('8.юрид-в нацвал'!H11*'8.юрид-в нацвал'!I11+'12.юрид-в инвал'!H11*'12.юрид-в инвал'!I11)/('8.юрид-в нацвал'!H11+'12.юрид-в инвал'!H11) -> 46.129637 | J11: ='8.юрид-в нацвал'!J11+'12.юрид-в инвал'!J11 -> 4959 | K11: =('8.юрид-в нацвал'!J11*'8.юрид-в нацвал'!K11+'12.юрид-в инвал'!J11*'12.юрид-в инвал'!K11)/('8.юрид-в нацвал'!J11+'12.юрид-в инвал'!J11) -> 16.757411 | L11: ='8.юрид-в нацвал'!L11+'12.юрид-в инвал'!L11 -> 3675.8 | M11: =('8.юрид-в нацвал'!L11*'8.юрид-в нацвал'!M11+'12.юрид-в инвал'!L11*'12.юрид-в инвал'!M11)/('8.юрид-в нацвал'!L11+'12.юрид-в инвал'!L11) -> 26.540617 | N11: ='8.юрид-в нацвал'!N11+'12.юрид-в инвал'!N11 -> 95 | O11: =('8.юрид-в нацвал'!N11*'8.юрид-в нацвал'!O11+'12.юрид-в инвал'!N11*'12.юрид-в инвал'!O11)/('8.юрид-в нацвал'!N11+'12.юрид-в инвал'!N11) -> 33.315789
A12: Апрель | B12: ='8.юрид-в нацвал'!B12+'12.юрид-в инвал'!B12 -> 11744.9 | C12: =('8.юрид-в нацвал'!B12*'8.юрид-в нацвал'!C12+'12.юрид-в инвал'!B12*'12.юрид-в инвал'!C12)/('8.юрид-в нацвал'!B12+'12.юрид-в инвал'!B12) -> 24.758645 | F12: =H12+J12+L12+N12+P12+R12 -> 11744.9 | G12: =(H12*I12+J12*K12+L12*M12+N12*O12+P12*Q12+R12*S12)/(H12+J12+L12+N12+P12+R12) -> 24.758645 | H12: ='8.юрид-в нацвал'!H12+'12.юрид-в инвал'!H12 -> 2492.3 | I12: =('8.юрид-в нацвал'!H12*'8.юрид-в нацвал'!I12+'12.юрид-в инвал'!H12*'12.юрид-в инвал'!I12)/('8.юрид-в нацвал'!H12+'12.юрид-в инвал'!H12) -> 30.493279 | J12: ='8.юрид-в нацвал'!J12+'12.юрид-в инвал'!J12 -> 6485 | K12: =('8.юрид-в нацвал'!J12*'8.юрид-в нацвал'!K12+'12.юрид-в инвал'!J12*'12.юрид-в инвал'!K12)/('8.юрид-в нацвал'!J12+'12.юрид-в инвал'!J12) -> 25.379183 | L12: ='8.юрид-в нацвал'!L12+'12.юрид-в инвал'!L12 -> 2548.5 | M12: =('8.юрид-в нацвал'!L12*'8.юрид-в нацвал'!M12+'12.юрид-в инвал'!L12*'12.юрид-в инвал'!M12)/('8.юрид-в нацвал'!L12+'12.юрид-в инвал'!L12) -> 16.973945 | N12: ='8.юрид-в нацвал'!N12+'12.юрид-в инвал'!N12 -> 28.8 | O12: =('8.юрид-в нацвал'!N12*'8.юрид-в нацвал'!O12+'12.юрид-в инвал'!N12*'12.юрид-в инвал'!O12)/('8.юрид-в нацвал'!N12+'12.юрид-в инвал'!N12) -> 3.125 | P12: ='8.юрид-в нацвал'!P12+'12.юрид-в инвал'!P12 -> 190.3 | Q12: =('8.юрид-в нацвал'!P12*'8.юрид-в нацвал'!Q12+'12.юрид-в инвал'!P12*'12.юрид-в инвал'!Q12)/('8.юрид-в нацвал'!P12+'12.юрид-в инвал'!P12) -> 36.034209
A13: Май | B13: ='8.юрид-в нацвал'!B13+'12.юрид-в инвал'!B13 -> 7710.6 | C13: =('8.юрид-в нацвал'!B13*'8.юрид-в нацвал'!C13+'12.юрид-в инвал'!B13*'12.юрид-в инвал'!C13)/('8.юрид-в нацвал'!B13+'12.юрид-в инвал'!B13) -> 21.999053 | F13: =H13+J13+L13+N13+P13+R13 -> 7710.6 | G13: =(H13*I13+J13*K13+L13*M13+N13*O13+P13*Q13+R13*S13)/(H13+J13+L13+N13+P13+R13) -> 21.999053 | H13: ='8.юрид-в нацвал'!H13+'12.юрид-в инвал'!H13 -> 700 | I13: =('8.юрид-в нацвал'!H13*'8.юрид-в нацвал'!I13+'12.юрид-в инвал'!H13*'12.юрид-в инвал'!I13)/('8.юрид-в нацвал'!H13+'12.юрид-в инвал'!H13) -> 43.2 | J13: ='8.юрид-в нацвал'!J13+'12.юрид-в инвал'!J13 -> 5826.8 | K13: =('8.юрид-в нацвал'!J13*'8.юрид-в нацвал'!K13+'12.юрид-в инвал'!J13*'12.юрид-в инвал'!K13)/('8.юрид-в нацвал'!J13+'12.юрид-в инвал'!J13) -> 18.452482 | L13: ='8.юрид-в нацвал'!L13+'12.юрид-в инвал'!L13 -> 1009.3 | M13: =('8.юрид-в нацвал'!L13*'8.юрид-в нацвал'!M13+'12.юрид-в инвал'!L13*'12.юрид-в инвал'!M13)/('8.юрид-в нацвал'!L13+'12.юрид-в инвал'!L13) -> 26.02792 | N13: ='8.юрид-в нацвал'!N13+'12.юрид-в инвал'!N13 -> 142.5 | O13: =('8.юрид-в нацвал'!N13*'8.юрид-в нацвал'!O13+'12.юрид-в инвал'!N13*'12.юрид-в инвал'!O13)/('8.юрид-в нацвал'!N13+'12.юрид-в инвал'!N13) -> 31.614035 | P13: ='8.юрид-в нацвал'!P13+'12.юрид-в инвал'!P13 -> 32 | Q13: =('8.юрид-в нацвал'!P13*'8.юрид-в нацвал'!Q13+'12.юрид-в инвал'!P13*'12.юрид-в инвал'!Q13)/('8.юрид-в нацвал'!P13+'12.юрид-в инвал'!P13) -> 34.125
A14: Июнь | B14: ='8.юрид-в нацвал'!B14+'12.юрид-в инвал'!B14 -> 11691.3 | C14: =('8.юрид-в нацвал'!B14*'8.юрид-в нацвал'!C14+'12.юрид-в инвал'!B14*'12.юрид-в инвал'!C14)/('8.юрид-в нацвал'!B14+'12.юрид-в инвал'!B14) -> 14.173818 | F14: =H14+J14+L14+N14+P14+R14 -> 11691.3 | G14: =(H14*I14+J14*K14+L14*M14+N14*O14+P14*Q14+R14*S14)/(H14+J14+L14+N14+P14+R14) -> 14.173818 | H14: ='8.юрид-в нацвал'!H14+'12.юрид-в инвал'!H14 -> 702.1 | I14: =('8.юрид-в нацвал'!H14*'8.юрид-в нацвал'!I14+'12.юрид-в инвал'!H14*'12.юрид-в инвал'!I14)/('8.юрид-в нацвал'!H14+'12.юрид-в инвал'!H14) -> 1.8401937 | J14: ='8.юрид-в нацвал'!J14+'12.юрид-в инвал'!J14 -> 8035.1 | K14: =('8.юрид-в нацвал'!J14*'8.юрид-в нацвал'!K14+'12.юрид-в инвал'!J14*'12.юрид-в инвал'!K14)/('8.юрид-в нацвал'!J14+'12.юрид-в инвал'!J14) -> 14.683758 | L14: ='8.юрид-в нацвал'!L14+'12.юрид-в инвал'!L14 -> 2810.6 | M14: =('8.юрид-в нацвал'!L14*'8.юрид-в нацвал'!M14+'12.юрид-в инвал'!L14*'12.юрид-в инвал'!M14)/('8.юрид-в нацвал'!L14+'12.юрид-в инвал'!L14) -> 14.911691 | N14: ='8.юрид-в нацвал'!N14+'12.юрид-в инвал'!N14 -> 130.5 | O14: =('8.юрид-в нацвал'!N14*'8.юрид-в нацвал'!O14+'12.юрид-в инвал'!N14*'12.юрид-в инвал'!O14)/('8.юрид-в нацвал'!N14+'12.юрид-в инвал'!N14) -> 30.498084 | P14: ='8.юрид-в нацвал'!P14+'12.юрид-в инвал'!P14 -> 13 | Q14: =('8.юрид-в нацвал'!P14*'8.юрид-в нацвал'!Q14+'12.юрид-в инвал'!P14*'12.юрид-в инвал'!Q14)/('8.юрид-в нацвал'!P14+'12.юрид-в инвал'!P14) -> 41.7
A15: Июль | B15: ='8.юрид-в нацвал'!B15+'12.юрид-в инвал'!B15 -> 9853 | C15: =('8.юрид-в нацвал'!B15*'8.юрид-в нацвал'!C15+'12.юрид-в инвал'!B15*'12.юрид-в инвал'!C15)/('8.юрид-в нацвал'!B15+'12.юрид-в инвал'!B15) -> 19.809236 | F15: =H15+J15+L15+N15+P15+R15 -> 9853 | G15: =(H15*I15+J15*K15+L15*M15+N15*O15+P15*Q15+R15*S15)/(H15+J15+L15+N15+P15+R15) -> 19.809236 | H15: ='8.юрид-в нацвал'!H15+'12.юрид-в инвал'!H15 -> 3590.7 | I15: =('8.юрид-в нацвал'!H15*'8.юрид-в нацвал'!I15+'12.юрид-в инвал'!H15*'12.юрид-в инвал'!I15)/('8.юрид-в нацвал'!H15+'12.юрид-в инвал'!H15) -> 2.5404517 | J15: ='8.юрид-в нацвал'!J15+'12.юрид-в инвал'!J15 -> 4897 | K15: =('8.юрид-в нацвал'!J15*'8.юрид-в нацвал'!K15+'12.юрид-в инвал'!J15*'12.юрид-в инвал'!K15)/('8.юрид-в нацвал'!J15+'12.юрид-в инвал'!J15) -> 35.673882 | L15: ='8.юрид-в нацвал'!L15+'12.юрид-в инвал'!L15 -> 93.7 | M15: =('8.юрид-в нацвал'!L15*'8.юрид-в нацвал'!M15+'12.юрид-в инвал'!L15*'12.юрид-в инвал'!M15)/('8.юрид-в нацвал'!L15+'12.юрид-в инвал'!L15) -> 37.146211 | N15: ='8.юрид-в нацвал'!N15+'12.юрид-в инвал'!N15 -> 1259.6 | O15: =('8.юрид-в нацвал'!N15*'8.юрид-в нацвал'!O15+'12.юрид-в инвал'!N15*'12.юрид-в инвал'!O15)/('8.юрид-в нацвал'!N15+'12.юрид-в инвал'!N15) -> 5.8609082 | P15: ='8.юрид-в нацвал'!P15+'12.юрид-в инвал'!P15 -> 12 | Q15: =('8.юрид-в нацвал'!P15*'8.юрид-в нацвал'!Q15+'12.юрид-в инвал'!P15*'12.юрид-в инвал'!Q15)/('8.юрид-в нацвал'!P15+'12.юрид-в инвал'!P15) -> 41.7
A16: Август | B16: ='8.юрид-в нацвал'!B16+'12.юрид-в инвал'!B16 -> 6322.2 | C16: =('8.юрид-в нацвал'!B16*'8.юрид-в нацвал'!C16+'12.юрид-в инвал'!B16*'12.юрид-в инвал'!C16)/('8.юрид-в нацвал'!B16+'12.юрид-в инвал'!B16) -> 11.236117 | F16: =H16+J16+L16+N16+P16+R16 -> 6322.2 | G16: =(H16*I16+J16*K16+L16*M16+N16*O16+P16*Q16+R16*S16)/(H16+J16+L16+N16+P16+R16) -> 11.236117 | H16: ='8.юрид-в нацвал'!H16+'12.юрид-в инвал'!H16 -> 5258.7 | I16: =('8.юрид-в нацвал'!H16*'8.юрид-в нацвал'!I16+'12.юрид-в инвал'!H16*'12.юрид-в инвал'!I16)/('8.юрид-в нацвал'!H16+'12.юрид-в инвал'!H16) -> 9.485196 | J16: ='8.юрид-в нацвал'!J16+'12.юрид-в инвал'!J16 -> 319 | K16: =('8.юрид-в нацвал'!J16*'8.юрид-в нацвал'!K16+'12.юрид-в инвал'!J16*'12.юрид-в инвал'!K16)/('8.юрид-в нацвал'!J16+'12.юрид-в инвал'!J16) -> 38.76489 | L16: ='8.юрид-в нацвал'!L16+'12.юрид-в инвал'!L16 -> 225.5 | M16: =('8.юрид-в нацвал'!L16*'8.юрид-в нацвал'!M16+'12.юрид-в инвал'!L16*'12.юрид-в инвал'!M16)/('8.юрид-в нацвал'!L16+'12.юрид-в инвал'!L16) -> 21.510865 | N16: ='8.юрид-в нацвал'!N16+'12.юрид-в инвал'!N16 -> 427 | O16: =('8.юрид-в нацвал'!N16*'8.юрид-в нацвал'!O16+'12.юрид-в инвал'!N16*'12.юрид-в инвал'!O16)/('8.юрид-в нацвал'!N16+'12.юрид-в инвал'!N16) -> 1.4051522 | P16: ='8.юрид-в нацвал'!P16+'12.юрид-в инвал'!P16 -> 92 | Q16: =('8.юрид-в нацвал'!P16*'8.юрид-в нацвал'!Q16+'12.юрид-в инвал'!P16*'12.юрид-в инвал'!Q16)/('8.юрид-в нацвал'!P16+'12.юрид-в инвал'!P16) -> 36.309565
A17: Сентябрь | B17: ='8.юрид-в нацвал'!B17+'12.юрид-в инвал'!B17 -> 7786 | C17: =('8.юрид-в нацвал'!B17*'8.юрид-в нацвал'!C17+'12.юрид-в инвал'!B17*'12.юрид-в инвал'!C17)/('8.юрид-в нацвал'!B17+'12.юрид-в инвал'!B17) -> 15.723795 | F17: =H17+J17+L17+N17+P17+R17 -> 7786 | G17: =(H17*I17+J17*K17+L17*M17+N17*O17+P17*Q17+R17*S17)/(H17+J17+L17+N17+P17+R17) -> 15.723795 | H17: ='8.юрид-в нацвал'!H17+'12.юрид-в инвал'!H17 -> 1331.3 | I17: =('8.юрид-в нацвал'!H17*'8.юрид-в нацвал'!I17+'12.юрид-в инвал'!H17*'12.юрид-в инвал'!I17)/('8.юрид-в нацвал'!H17+'12.юрид-в инвал'!H17) -> 3.087884 | J17: ='8.юрид-в нацвал'!J17+'12.юрид-в инвал'!J17 -> 2943 | K17: =('8.юрид-в нацвал'!J17*'8.юрид-в нацвал'!K17+'12.юрид-в инвал'!J17*'12.юрид-в инвал'!K17)/('8.юрид-в нацвал'!J17+'12.юрид-в инвал'!J17) -> 21.336731 | L17: ='8.юрид-в нацвал'!L17+'12.юрид-в инвал'!L17 -> 1024.7 | M17: =('8.юрид-в нацвал'!L17*'8.юрид-в нацвал'!M17+'12.юрид-в инвал'!L17*'12.юрид-в инвал'!M17)/('8.юрид-в нацвал'!L17+'12.юрид-в инвал'!L17) -> 29.794174 | N17: ='8.юрид-в нацвал'!N17+'12.юрид-в инвал'!N17 -> 2475 | O17: =('8.юрид-в нацвал'!N17*'8.юрид-в нацвал'!O17+'12.юрид-в инвал'!N17*'12.юрид-в инвал'!O17)/('8.юрид-в нацвал'!N17+'12.юрид-в инвал'!N17) -> 9.8787879 | P17: ='8.юрид-в нацвал'!P17+'12.юрид-в инвал'!P17 -> 12 | Q17: =('8.юрид-в нацвал'!P17*'8.юрид-в нацвал'!Q17+'12.юрид-в инвал'!P17*'12.юрид-в инвал'!Q17)/('8.юрид-в нацвал'!P17+'12.юрид-в инвал'!P17) -> 45.04
A18: Октябрь | B18: ='8.юрид-в нацвал'!B18+'12.юрид-в инвал'!B18 -> 7872.2 | C18: =('8.юрид-в нацвал'!B18*'8.юрид-в нацвал'!C18+'12.юрид-в инвал'!B18*'12.юрид-в инвал'!C18)/('8.юрид-в нацвал'!B18+'12.юрид-в инвал'!B18) -> 28.437728 | F18: =H18+J18+L18+N18+P18+R18 -> 7872.2 | G18: =(H18*I18+J18*K18+L18*M18+N18*O18+P18*Q18+R18*S18)/(H18+J18+L18+N18+P18+R18) -> 28.437728 | H18: ='8.юрид-в нацвал'!H18+'12.юрид-в инвал'!H18 -> 2705.2 | I18: =('8.юрид-в нацвал'!H18*'8.юрид-в нацвал'!I18+'12.юрид-в инвал'!H18*'12.юрид-в инвал'!I18)/('8.юрид-в нацвал'!H18+'12.юрид-в инвал'!H18) -> 23.59271 | J18: ='8.юрид-в нацвал'!J18+'12.юрид-в инвал'!J18 -> 4525 | K18: =('8.юрид-в нацвал'!J18*'8.юрид-в нацвал'!K18+'12.юрид-в инвал'!J18*'12.юрид-в инвал'!K18)/('8.юрид-в нацвал'!J18+'12.юрид-в инвал'!J18) -> 31.758011 | L18: ='8.юрид-в нацвал'!L18+'12.юрид-в инвал'!L18 -> 398 | M18: =('8.юрид-в нацвал'!L18*'8.юрид-в нацвал'!M18+'12.юрид-в инвал'!L18*'12.юрид-в инвал'!M18)/('8.юрид-в нацвал'!L18+'12.юрид-в инвал'!L18) -> 39.374372 | N18: ='8.юрид-в нацвал'!N18+'12.юрид-в инвал'!N18 -> 114 | O18: =('8.юрид-в нацвал'!N18*'8.юрид-в нацвал'!O18+'12.юрид-в инвал'!N18*'12.юрид-в инвал'!O18)/('8.юрид-в нацвал'!N18+'12.юрид-в инвал'!N18) -> 0 | P18: ='8.юрид-в нацвал'!P18+'12.юрид-в инвал'!P18 -> 130 | Q18: =('8.юрид-в нацвал'!P18*'8.юрид-в нацвал'!Q18+'12.юрид-в инвал'!P18*'12.юрид-в инвал'!Q18)/('8.юрид-в нацвал'!P18+'12.юрид-в инвал'!P18) -> 5.1421538
A19: Ноябрь | B19: ='8.юрид-в нацвал'!B19+'12.юрид-в инвал'!B19 -> 30759.2 | C19: =('8.юрид-в нацвал'!B19*'8.юрид-в нацвал'!C19+'12.юрид-в инвал'!B19*'12.юрид-в инвал'!C19)/('8.юрид-в нацвал'!B19+'12.юрид-в инвал'!B19) -> 22.069368 | F19: =H19+J19+L19+N19+P19+R19 -> 30759.2 | G19: =(H19*I19+J19*K19+L19*M19+N19*O19+P19*Q19+R19*S19)/(H19+J19+L19+N19+P19+R19) -> 22.069368 | H19: ='8.юрид-в нацвал'!H19+'12.юрид-в инвал'!H19 -> 10687 | I19: =('8.юрид-в нацвал'!H19*'8.юрид-в нацвал'!I19+'12.юрид-в инвал'!H19*'12.юрид-в инвал'!I19)/('8.юрид-в нацвал'!H19+'12.юрид-в инвал'!H19) -> 15.981286 | J19: ='8.юрид-в нацвал'!J19+'12.юрид-в инвал'!J19 -> 19477 | K19: =('8.юрид-в нацвал'!J19*'8.юрид-в нацвал'!K19+'12.юрид-в инвал'!J19*'12.юрид-в инвал'!K19)/('8.юрид-в нацвал'!J19+'12.юрид-в инвал'!J19) -> 25.280793 | L19: ='8.юрид-в нацвал'!L19+'12.юрид-в инвал'!L19 -> 581.2 | M19: =('8.юрид-в нацвал'!L19*'8.юрид-в нацвал'!M19+'12.юрид-в инвал'!L19*'12.юрид-в инвал'!M19)/('8.юрид-в нацвал'!L19+'12.юрид-в инвал'!L19) -> 25.701136 | P19: ='8.юрид-в нацвал'!P19+'12.юрид-в инвал'!P19 -> 14 | Q19: =('8.юрид-в нацвал'!P19*'8.юрид-в нацвал'!Q19+'12.юрид-в инвал'!P19*'12.юрид-в инвал'!Q19)/('8.юрид-в нацвал'!P19+'12.юрид-в инвал'!P19) -> 50.9
A20: Декабрь | B20: ='8.юрид-в нацвал'!B20+'12.юрид-в инвал'!B20 -> 3414 | C20: =('8.юрид-в нацвал'!B20*'8.юрид-в нацвал'!C20+'12.юрид-в инвал'!B20*'12.юрид-в инвал'!C20)/('8.юрид-в нацвал'!B20+'12.юрид-в инвал'!B20) -> 21.52355 | F20: =H20+J20+L20+N20+P20+R20 -> 3414 | G20: =(H20*I20+J20*K20+L20*M20+N20*O20+P20*Q20+R20*S20)/(H20+J20+L20+N20+P20+R20) -> 21.52355 | H20: ='8.юрид-в нацвал'!H20+'12.юрид-в инвал'!H20 -> 2827 | I20: =('8.юрид-в нацвал'!H20*'8.юрид-в нацвал'!I20+'12.юрид-в инвал'!H20*'12.юрид-в инвал'!I20)/('8.юрид-в нацвал'!H20+'12.юрид-в инвал'!H20) -> 18.747789 | J20: ='8.юрид-в нацвал'!J20+'12.юрид-в инвал'!J20 -> 470 | K20: =('8.юрид-в нацвал'!J20*'8.юрид-в нацвал'!K20+'12.юрид-в инвал'!J20*'12.юрид-в инвал'!K20)/('8.юрид-в нацвал'!J20+'12.юрид-в инвал'!J20) -> 35.848936 | L20: ='8.юрид-в нацвал'!L20+'12.юрид-в инвал'!L20 -> 76 | M20: =('8.юрид-в нацвал'!L20*'8.юрид-в нацвал'!M20+'12.юрид-в инвал'!L20*'12.юрид-в инвал'!M20)/('8.юрид-в нацвал'!L20+'12.юрид-в инвал'!L20) -> 31.947368 | N20: ='8.юрид-в нацвал'!N20+'12.юрид-в инвал'!N20 -> 25 | O20: =('8.юрид-в нацвал'!N20*'8.юрид-в нацвал'!O20+'12.юрид-в инвал'!N20*'12.юрид-в инвал'!O20)/('8.юрид-в нацвал'!N20+'12.юрид-в инвал'!N20) -> 15.6 | P20: ='8.юрид-в нацвал'!P20+'12.юрид-в инвал'!P20 -> 16 | Q20: =('8.юрид-в нацвал'!P20*'8.юрид-в нацвал'!Q20+'12.юрид-в инвал'!P20*'12.юрид-в инвал'!Q20)/('8.юрид-в нацвал'!P20+'12.юрид-в инвал'!P20) -> 50.9
A21: Январь 1997 г. | B21: ='8.юрид-в нацвал'!B21+'12.юрид-в инвал'!B21 -> 9369.2 | C21: =('8.юрид-в нацвал'!B21*'8.юрид-в нацвал'!C21+'12.юрид-в инвал'!B21*'12.юрид-в инвал'!C21)/('8.юрид-в нацвал'!B21+'12.юрид-в инвал'!B21) -> 17.689621 | F21: =H21+J21+L21+N21+P21+R21 -> 9369.2 | G21: =(H21*I21+J21*K21+L21*M21+N21*O21+P21*Q21+R21*S21)/(H21+J21+L21+N21+P21+R21) -> 17.689621 | H21: ='8.юрид-в нацвал'!H21+'12.юрид-в инвал'!H21 -> 4640 | I21: =('8.юрид-в нацвал'!H21*'8.юрид-в нацвал'!I21+'12.юрид-в инвал'!H21*'12.юрид-в инвал'!I21)/('8.юрид-в нацвал'!H21+'12.юрид-в инвал'!H21) -> 23.705862 | J21: ='8.юрид-в нацвал'!J21+'12.юрид-в инвал'!J21 -> 2992.8 | K21: =('8.юрид-в нацвал'!J21*'8.юрид-в нацвал'!K21+'12.юрид-в инвал'!J21*'12.юрид-в инвал'!K21)/('8.юрид-в нацвал'!J21+'12.юрид-в инвал'!J21) -> 17.438853 | L21: ='8.юрид-в нацвал'!L21+'12.юрид-в инвал'!L21 -> 1717.4 | M21: =('8.юрид-в нацвал'!L21*'8.юрид-в нацвал'!M21+'12.юрид-в инвал'!L21*'12.юрид-в инвал'!M21)/('8.юрид-в нацвал'!L21+'12.юрид-в инвал'!L21) -> 1.7884011 | N21: ='8.юрид-в нацвал'!N21+'12.юрид-в инвал'!N21 -> 8 | O21: =('8.юрид-в нацвал'!N21*'8.юрид-в нацвал'!O21+'12.юрид-в инвал'!N21*'12.юрид-в инвал'!O21)/('8.юрид-в нацвал'!N21+'12.юрид-в инвал'!N21) -> 5 | P21: ='8.юрид-в нацвал'!P21+'12.юрид-в инвал'!P21 -> 11 | Q21: =('8.юрид-в нацвал'!P21*'8.юрид-в нацвал'!Q21+'12.юрид-в инвал'!P21*'12.юрид-в инвал'!Q21)/('8.юрид-в нацвал'!P21+'12.юрид-в инвал'!P21) -> 40
A22: Февраль | B22: ='8.юрид-в нацвал'!B22+'12.юрид-в инвал'!B22 -> 5711.9 | C22: =('8.юрид-в нацвал'!B22*'8.юрид-в нацвал'!C22+'12.юрид-в инвал'!B22*'12.юрид-в инвал'!C22)/('8.юрид-в нацвал'!B22+'12.юрид-в инвал'!B22) -> 12.302236 | F22: =H22+J22+L22+N22+P22+R22 -> 5711.9 | G22: =(H22*I22+J22*K22+L22*M22+N22*O22+P22*Q22+R22*S22)/(H22+J22+L22+N22+P22+R22) -> 12.302236 | H22: ='8.юрид-в нацвал'!H22+'12.юрид-в инвал'!H22 -> 1221 | I22: =('8.юрид-в нацвал'!H22*'8.юрид-в нацвал'!I22+'12.юрид-в инвал'!H22*'12.юрид-в инвал'!I22)/('8.юрид-в нацвал'!H22+'12.юрид-в инвал'!H22) -> 0.68026208 | J22: ='8.юрид-в нацвал'!J22+'12.юрид-в инвал'!J22 -> 3950.9 | K22: =('8.юрид-в нацвал'!J22*'8.юрид-в нацвал'!K22+'12.юрид-в инвал'!J22*'12.юрид-в инвал'!K22)/('8.юрид-в нацвал'!J22+'12.юрид-в инвал'!J22) -> 12.853284 | L22: ='8.юрид-в нацвал'!L22+'12.юрид-в инвал'!L22 -> 234 | M22: =('8.юрид-в нацвал'!L22*'8.юрид-в нацвал'!M22+'12.юрид-в инвал'!L22*'12.юрид-в инвал'!M22)/('8.юрид-в нацвал'!L22+'12.юрид-в инвал'!L22) -> 35.393162 | N22: ='8.юрид-в нацвал'!N22+'12.юрид-в инвал'!N22 -> 243 | O22: =('8.юрид-в нацвал'!N22*'8.юрид-в нацвал'!O22+'12.юрид-в инвал'!N22*'12.юрид-в инвал'!O22)/('8.юрид-в нацвал'!N22+'12.юрид-в инвал'!N22) -> 34.380658 | P22: ='8.юрид-в нацвал'!P22+'12.юрид-в инвал'!P22 -> 63 | Q22: =('8.юрид-в нацвал'!P22*'8.юрид-в нацвал'!Q22+'12.юрид-в инвал'!P22*'12.юрид-в инвал'!Q22)/('8.юрид-в нацвал'!P22+'12.юрид-в инвал'!P22) -> 32.063492
A23: Март | B23: ='8.юрид-в нацвал'!B23+'12.юрид-в инвал'!B23 -> 12446.6 | C23: =('8.юрид-в нацвал'!B23*'8.юрид-в нацвал'!C23+'12.юрид-в инвал'!B23*'12.юрид-в инвал'!C23)/('8.юрид-в нацвал'!B23+'12.юрид-в инвал'!B23) -> 16.684245 | F23: =H23+J23+L23+N23+P23+R23 -> 12446.6 | G23: =(H23*I23+J23*K23+L23*M23+N23*O23+P23*Q23+R23*S23)/(H23+J23+L23+N23+P23+R23) -> 16.684245 | H23: ='8.юрид-в нацвал'!H23+'12.юрид-в инвал'!H23 -> 4070 | I23: =('8.юрид-в нацвал'!H23*'8.юрид-в нацвал'!I23+'12.юрид-в инвал'!H23*'12.юрид-в инвал'!I23)/('8.юрид-в нацвал'!H23+'12.юрид-в инвал'!H23) -> 3.9448845 | J23: ='8.юрид-в нацвал'!J23+'12.юрид-в инвал'!J23 -> 6698.8 | K23: =('8.юрид-в нацвал'!J23*'8.юрид-в нацвал'!K23+'12.юрид-в инвал'!J23*'12.юрид-в инвал'!K23)/('8.юрид-в нацвал'!J23+'12.юрид-в инвал'!J23) -> 20.17786 | L23: ='8.юрид-в нацвал'!L23+'12.юрид-в инвал'!L23 -> 1656 | M23: =('8.юрид-в нацвал'!L23*'8.юрид-в нацвал'!M23+'12.юрид-в инвал'!L23*'12.юрид-в инвал'!M23)/('8.юрид-в нацвал'!L23+'12.юрид-в инвал'!L23) -> 34.0157 | N23: ='8.юрид-в нацвал'!N23+'12.юрид-в инвал'!N23 -> 21.8 | O23: =('8.юрид-в нацвал'!N23*'8.юрид-в нацвал'!O23+'12.юрид-в инвал'!N23*'12.юрид-в инвал'!O23)/('8.юрид-в нацвал'!N23+'12.юрид-в инвал'!N23) -> 5
A24: Апрель | B24: ='8.юрид-в нацвал'!B24+'12.юрид-в инвал'!B24 -> 52852.4 | C24: =('8.юрид-в нацвал'!B24*'8.юрид-в нацвал'!C24+'12.юрид-в инвал'!B24*'12.юрид-в инвал'!C24)/('8.юрид-в нацвал'!B24+'12.юрид-в инвал'!B24) -> 24.374242 | F24: =H24+J24+L24+N24+P24+R24 -> 52852.4 | G24: =(H24*I24+J24*K24+L24*M24+N24*O24+P24*Q24+R24*S24)/(H24+J24+L24+N24+P24+R24) -> 24.374242 | H24: ='8.юрид-в нацвал'!H24+'12.юрид-в инвал'!H24 -> 23073 | I24: =('8.юрид-в нацвал'!H24*'8.юрид-в нацвал'!I24+'12.юрид-в инвал'!H24*'12.юрид-в инвал'!I24)/('8.юрид-в нацвал'!H24+'12.юрид-в инвал'!H24) -> 9.1523079 | J24: ='8.юрид-в нацвал'!J24+'12.юрид-в инвал'!J24 -> 8061 | K24: =('8.юрид-в нацвал'!J24*'8.юрид-в нацвал'!K24+'12.юрид-в инвал'!J24*'12.юрид-в инвал'!K24)/('8.юрид-в нацвал'!J24+'12.юрид-в инвал'!J24) -> 28.053591 | L24: ='8.юрид-в нацвал'!L24+'12.юрид-в инвал'!L24 -> 20700.4 | M24: =('8.юрид-в нацвал'!L24*'8.юрид-в нацвал'!M24+'12.юрид-в инвал'!L24*'12.юрид-в инвал'!M24)/('8.юрид-в нацвал'!L24+'12.юрид-в инвал'!L24) -> 39.236246 | N24: ='8.юрид-в нацвал'!N24+'12.юрид-в инвал'!N24 -> 1000 | O24: =('8.юрид-в нацвал'!N24*'8.юрид-в нацвал'!O24+'12.юрид-в инвал'!N24*'12.юрид-в инвал'!O24)/('8.юрид-в нацвал'!N24+'12.юрид-в инвал'!N24) -> 38 | P24: ='8.юрид-в нацвал'!P24+'12.юрид-в инвал'!P24 -> 18 | Q24: =('8.юрид-в нацвал'!P24*'8.юрид-в нацвал'!Q24+'12.юрид-в инвал'!P24*'12.юрид-в инвал'!Q24)/('8.юрид-в нацвал'!P24+'12.юрид-в инвал'!P24) -> 40
A25: Май | B25: ='8.юрид-в нацвал'!B25+'12.юрид-в инвал'!B25 -> 35029.6 | C25: =('8.юрид-в нацвал'!B25*'8.юрид-в нацвал'!C25+'12.юрид-в инвал'!B25*'12.юрид-в инвал'!C25)/('8.юрид-в нацвал'!B25+'12.юрид-в инвал'!B25) -> 34.860087 | F25: =H25+J25+L25+N25+P25+R25 -> 35029.6 | G25: =(H25*I25+J25*K25+L25*M25+N25*O25+P25*Q25+R25*S25)/(H25+J25+L25+N25+P25+R25) -> 34.860087 | H25: ='8.юрид-в нацвал'!H25+'12.юрид-в инвал'!H25 -> 4108 | I25: =('8.юрид-в нацвал'!H25*'8.юрид-в нацвал'!I25+'12.юрид-в инвал'!H25*'12.юрид-в инвал'!I25)/('8.юрид-в нацвал'!H25+'12.юрид-в инвал'!H25) -> 32.673807 | J25: ='8.юрид-в нацвал'!J25+'12.юрид-в инвал'!J25 -> 141 | K25: =('8.юрид-в нацвал'!J25*'8.юрид-в нацвал'!K25+'12.юрид-в инвал'!J25*'12.юрид-в инвал'!K25)/('8.юрид-в нацвал'!J25+'12.юрид-в инвал'!J25) -> 23.085106 | L25: ='8.юрид-в нацвал'!L25+'12.юрид-в инвал'!L25 -> 29061.9 | M25: =('8.юрид-в нацвал'!L25*'8.юрид-в нацвал'!M25+'12.юрид-в инвал'!L25*'12.юрид-в инвал'!M25)/('8.юрид-в нацвал'!L25+'12.юрид-в инвал'!L25) -> 35.659623 | N25: ='8.юрид-в нацвал'!N25+'12.юрид-в инвал'!N25 -> 1096.7 | O25: =('8.юрид-в нацвал'!N25*'8.юрид-в нацвал'!O25+'12.юрид-в инвал'!N25*'12.юрид-в инвал'!O25)/('8.юрид-в нацвал'!N25+'12.юрид-в инвал'!N25) -> 29.345765 | P25: ='8.юрид-в нацвал'!P25+'12.юрид-в инвал'!P25 -> 622 | Q25: =('8.юрид-в нацвал'!P25*'8.юрид-в нацвал'!Q25+'12.юрид-в инвал'!P25*'12.юрид-в инвал'!Q25)/('8.юрид-в нацвал'!P25+'12.юрид-в инвал'!P25) -> 24.334405
A26: Июнь | B26: ='8.юрид-в нацвал'!B26+'12.юрид-в инвал'!B26 -> 27502.6 | C26: =('8.юрид-в нацвал'!B26*'8.юрид-в нацвал'!C26+'12.юрид-в инвал'!B26*'12.юрид-в инвал'!C26)/('8.юрид-в нацвал'!B26+'12.юрид-в инвал'!B26) -> 25.474746 | F26: =H26+J26+L26+N26+P26+R26 -> 27502.6 | G26: =(H26*I26+J26*K26+L26*M26+N26*O26+P26*Q26+R26*S26)/(H26+J26+L26+N26+P26+R26) -> 25.474746 | H26: ='8.юрид-в нацвал'!H26+'12.юрид-в инвал'!H26 -> 4775 | I26: =('8.юрид-в нацвал'!H26*'8.юрид-в нацвал'!I26+'12.юрид-в инвал'!H26*'12.юрид-в инвал'!I26)/('8.юрид-в нацвал'!H26+'12.юрид-в инвал'!H26) -> 21.061571 | J26: ='8.юрид-в нацвал'!J26+'12.юрид-в инвал'!J26 -> 15962 | K26: =('8.юрид-в нацвал'!J26*'8.юрид-в нацвал'!K26+'12.юрид-в инвал'!J26*'12.юрид-в инвал'!K26)/('8.юрид-в нацвал'!J26+'12.юрид-в инвал'!J26) -> 29.675354 | L26: ='8.юрид-в нацвал'!L26+'12.юрид-в инвал'!L26 -> 1478.6 | M26: =('8.юрид-в нацвал'!L26*'8.юрид-в нацвал'!M26+'12.юрид-в инвал'!L26*'12.юрид-в инвал'!M26)/('8.юрид-в нацвал'!L26+'12.юрид-в инвал'!L26) -> 37.490707 | N26: ='8.юрид-в нацвал'!N26+'12.юрид-в инвал'!N26 -> 3472 | O26: =('8.юрид-в нацвал'!N26*'8.юрид-в нацвал'!O26+'12.юрид-в инвал'!N26*'12.юрид-в инвал'!O26)/('8.юрид-в нацвал'!N26+'12.юрид-в инвал'!N26) -> 14.99568 | P26: ='8.юрид-в нацвал'!P26+'12.юрид-в инвал'!P26 -> 1815 | Q26: =('8.юрид-в нацвал'!P26*'8.юрид-в нацвал'!Q26+'12.юрид-в инвал'!P26*'12.юрид-в инвал'!Q26)/('8.юрид-в нацвал'!P26+'12.юрид-в инвал'!P26) -> 10.4
A27: Июль | B27: ='8.юрид-в нацвал'!B27+'12.юрид-в инвал'!B27 -> 12708.4 | C27: =('8.юрид-в нацвал'!B27*'8.юрид-в нацвал'!C27+'12.юрид-в инвал'!B27*'12.юрид-в инвал'!C27)/('8.юрид-в нацвал'!B27+'12.юрид-в инвал'!B27) -> 33.035 | F27: =H27+J27+L27+N27+P27+R27 -> 12708.4 | G27: =(H27*I27+J27*K27+L27*M27+N27*O27+P27*Q27+R27*S27)/(H27+J27+L27+N27+P27+R27) -> 33.035 | H27: ='8.юрид-в нацвал'!H27+'12.юрид-в инвал'!H27 -> 354 | I27: =('8.юрид-в нацвал'!H27*'8.юрид-в нацвал'!I27+'12.юрид-в инвал'!H27*'12.юрид-в инвал'!I27)/('8.юрид-в нацвал'!H27+'12.юрид-в инвал'!H27) -> 26.186441 | J27: ='8.юрид-в нацвал'!J27+'12.юрид-в инвал'!J27 -> 5870 | K27: =('8.юрид-в нацвал'!J27*'8.юрид-в нацвал'!K27+'12.юрид-в инвал'!J27*'12.юрид-в инвал'!K27)/('8.юрид-в нацвал'!J27+'12.юрид-в инвал'!J27) -> 34.979898 | L27: ='8.юрид-в нацвал'!L27+'12.юрид-в инвал'!L27 -> 4471.4 | M27: =('8.юрид-в нацвал'!L27*'8.юрид-в нацвал'!M27+'12.юрид-в инвал'!L27*'12.юрид-в инвал'!M27)/('8.юрид-в нацвал'!L27+'12.юрид-в инвал'!L27) -> 32.361229 | N27: ='8.юрид-в нацвал'!N27+'12.юрид-в инвал'!N27 -> 2000 | O27: =('8.юрид-в нацвал'!N27*'8.юрид-в нацвал'!O27+'12.юрид-в инвал'!N27*'12.юрид-в инвал'!O27)/('8.юрид-в нацвал'!N27+'12.юрид-в инвал'!N27) -> 30 | P27: ='8.юрид-в нацвал'!P27+'12.юрид-в инвал'!P27 -> 13 | Q27: =('8.юрид-в нацвал'!P27*'8.юрид-в нацвал'!Q27+'12.юрид-в инвал'!P27*'12.юрид-в инвал'!Q27)/('8.юрид-в нацвал'!P27+'12.юрид-в инвал'!P27) -> 40
A28: Август | B28: ='8.юрид-в нацвал'!B28+'12.юрид-в инвал'!B28 -> 46501.9 | C28: =('8.юрид-в нацвал'!B28*'8.юрид-в нацвал'!C28+'12.юрид-в инвал'!B28*'12.юрид-в инвал'!C28)/('8.юрид-в нацвал'!B28+'12.юрид-в инвал'!B28) -> 7.2260273 | F28: =H28+J28+L28+N28+P28+R28 -> 46501.9 | G28: =(H28*I28+J28*K28+L28*M28+N28*O28+P28*Q28+R28*S28)/(H28+J28+L28+N28+P28+R28) -> 7.2260273 | H28: ='8.юрид-в нацвал'!H28+'12.юрид-в инвал'!H28 -> 42232.4 | I28: =('8.юрид-в нацвал'!H28*'8.юрид-в нацвал'!I28+'12.юрид-в инвал'!H28*'12.юрид-в инвал'!I28)/('8.юрид-в нацвал'!H28+'12.юрид-в инвал'!H28) -> 5.1258749 | J28: ='8.юрид-в нацвал'!J28+'12.юрид-в инвал'!J28 -> 3190.5 | K28: =('8.юрид-в нацвал'!J28*'8.юрид-в нацвал'!K28+'12.юрид-в инвал'!J28*'12.юрид-в инвал'!K28)/('8.юрид-в нацвал'!J28+'12.юрид-в инвал'!J28) -> 27.54772 | L28: ='8.юрид-в нацвал'!L28+'12.юрид-в инвал'!L28 -> 1065 | M28: =('8.юрид-в нацвал'!L28*'8.юрид-в нацвал'!M28+'12.юрид-в инвал'!L28*'12.юрид-в инвал'!M28)/('8.юрид-в нацвал'!L28+'12.юрид-в инвал'!L28) -> 29.197183 | P28: ='8.юрид-в нацвал'!P28+'12.юрид-в инвал'!P28 -> 14 | Q28: =('8.юрид-в нацвал'!P28*'8.юрид-в нацвал'!Q28+'12.юрид-в инвал'!P28*'12.юрид-в инвал'!Q28)/('8.юрид-в нацвал'!P28+'12.юрид-в инвал'!P28) -> 40
A29: Сентябрь | B29: ='8.юрид-в нацвал'!B29+'12.юрид-в инвал'!B29 -> 39931 | C29: =('8.юрид-в нацвал'!B29*'8.юрид-в нацвал'!C29+'12.юрид-в инвал'!B29*'12.юрид-в инвал'!C29)/('8.юрид-в нацвал'!B29+'12.юрид-в инвал'!B29) -> 30.63197 | F29: =H29+J29+L29+N29+P29+R29 -> 39931 | G29: =(H29*I29+J29*K29+L29*M29+N29*O29+P29*Q29+R29*S29)/(H29+J29+L29+N29+P29+R29) -> 30.63197 | H29: ='8.юрид-в нацвал'!H29+'12.юрид-в инвал'!H29 -> 16519 | I29: =('8.юрид-в нацвал'!H29*'8.юрид-в нацвал'!I29+'12.юрид-в инвал'!H29*'12.юрид-в инвал'!I29)/('8.юрид-в нацвал'!H29+'12.юрид-в инвал'!H29) -> 30.500515 | J29: ='8.юрид-в нацвал'!J29+'12.юрид-в инвал'!J29 -> 12047.2 | K29: =('8.юрид-в нацвал'!J29*'8.юрид-в нацвал'!K29+'12.юрид-в инвал'!J29*'12.юрид-в инвал'!K29)/('8.юрид-в нацвал'!J29+'12.юрид-в инвал'!J29) -> 29.685313 | L29: ='8.юрид-в нацвал'!L29+'12.юрид-в инвал'!L29 -> 10243.8 | M29: =('8.юрид-в нацвал'!L29*'8.юрид-в нацвал'!M29+'12.юрид-в инвал'!L29*'12.юрид-в инвал'!M29)/('8.юрид-в нацвал'!L29+'12.юрид-в инвал'!L29) -> 32.110379 | N29: ='8.юрид-в нацвал'!N29+'12.юрид-в инвал'!N29 -> 528 | O29: =('8.юрид-в нацвал'!N29*'8.юрид-в нацвал'!O29+'12.юрид-в инвал'!N29*'12.юрид-в инвал'!O29)/('8.юрид-в нацвал'!N29+'12.юрид-в инвал'!N29) -> 39.07197 | P29: ='8.юрид-в нацвал'!P29+'12.юрид-в инвал'!P29 -> 593 | Q29: =('8.юрид-в нацвал'!P29*'8.юрид-в нацвал'!Q29+'12.юрид-в инвал'!P29*'12.юрид-в инвал'!Q29)/('8.юрид-в нацвал'!P29+'12.юрид-в инвал'!P29) -> 20.472175
A30: Октябрь | B30: ='8.юрид-в нацвал'!B30+'12.юрид-в инвал'!B30 -> 12411.8 | C30: =('8.юрид-в нацвал'!B30*'8.юрид-в нацвал'!C30+'12.юрид-в инвал'!B30*'12.юрид-в инвал'!C30)/('8.юрид-в нацвал'!B30+'12.юрид-в инвал'!B30) -> 36.774839 | F30: =H30+J30+L30+N30+P30+R30 -> 12411.8 | G30: =(H30*I30+J30*K30+L30*M30+N30*O30+P30*Q30+R30*S30)/(H30+J30+L30+N30+P30+R30) -> 36.774839 | H30: ='8.юрид-в нацвал'!H30+'12.юрид-в инвал'!H30 -> 6888.5 | I30: =('8.юрид-в нацвал'!H30*'8.юрид-в нацвал'!I30+'12.юрид-в инвал'!H30*'12.юрид-в инвал'!I30)/('8.юрид-в нацвал'!H30+'12.юрид-в инвал'!H30) -> 37.952994 | J30: ='8.юрид-в нацвал'!J30+'12.юрид-в инвал'!J30 -> 1214 | K30: =('8.юрид-в нацвал'!J30*'8.юрид-в нацвал'!K30+'12.юрид-в инвал'!J30*'12.юрид-в инвал'!K30)/('8.юрид-в нацвал'!J30+'12.юрид-в инвал'!J30) -> 36.016236 | L30: ='8.юрид-в нацвал'!L30+'12.юрид-в инвал'!L30 -> 4008 | M30: =('8.юрид-в нацвал'!L30*'8.юрид-в нацвал'!M30+'12.юрид-в инвал'!L30*'12.юрид-в инвал'!M30)/('8.юрид-в нацвал'!L30+'12.юрид-в инвал'!L30) -> 35.301534 | N30: ='8.юрид-в нацвал'!N30+'12.юрид-в инвал'!N30 -> 301.3 | O30: =('8.юрид-в нацвал'!N30*'8.юрид-в нацвал'!O30+'12.юрид-в инвал'!N30*'12.юрид-в инвал'!O30)/('8.юрид-в нацвал'!N30+'12.юрид-в инвал'!N30) -> 32.494159
A31: Ноябрь | B31: ='8.юрид-в нацвал'!B31+'12.юрид-в инвал'!B31 -> 16948.5 | C31: =('8.юрид-в нацвал'!B31*'8.юрид-в нацвал'!C31+'12.юрид-в инвал'!B31*'12.юрид-в инвал'!C31)/('8.юрид-в нацвал'!B31+'12.юрид-в инвал'!B31) -> 26.915791 | F31: =H31+J31+L31+N31+P31+R31 -> 16948.5 | G31: =(H31*I31+J31*K31+L31*M31+N31*O31+P31*Q31+R31*S31)/(H31+J31+L31+N31+P31+R31) -> 26.915791 | H31: ='8.юрид-в нацвал'!H31+'12.юрид-в инвал'!H31 -> 6922.5 | I31: =('8.юрид-в нацвал'!H31*'8.юрид-в нацвал'!I31+'12.юрид-в инвал'!H31*'12.юрид-в инвал'!I31)/('8.юрид-в нацвал'!H31+'12.юрид-в инвал'!H31) -> 17.292727 | J31: ='8.юрид-в нацвал'!J31+'12.юрид-в инвал'!J31 -> 6261 | K31: =('8.юрид-в нацвал'!J31*'8.юрид-в нацвал'!K31+'12.юрид-в инвал'!J31*'12.юрид-в инвал'!K31)/('8.юрид-в нацвал'!J31+'12.юрид-в инвал'!J31) -> 32.112442 | L31: ='8.юрид-в нацвал'!L31+'12.юрид-в инвал'!L31 -> 3175 | M31: =('8.юрид-в нацвал'!L31*'8.юрид-в нацвал'!M31+'12.юрид-в инвал'!L31*'12.юрид-в инвал'!M31)/('8.юрид-в нацвал'!L31+'12.юрид-в инвал'!L31) -> 35.221039 | N31: ='8.юрид-в нацвал'!N31+'12.юрид-в инвал'!N31 -> 590 | O31: =('8.юрид-в нацвал'!N31*'8.юрид-в нацвал'!O31+'12.юрид-в инвал'!N31*'12.юрид-в инвал'!O31)/('8.юрид-в нацвал'!N31+'12.юрид-в инвал'!N31) -> 39.984034
A32: Декабрь | B32: ='8.юрид-в нацвал'!B32+'12.юрид-в инвал'!B32 -> 18704.2 | C32: =('8.юрид-в нацвал'!B32*'8.юрид-в нацвал'!C32+'12.юрид-в инвал'!B32*'12.юрид-в инвал'!C32)/('8.юрид-в нацвал'!B32+'12.юрид-в инвал'!B32) -> 29.92815 | F32: =H32+J32+L32+N32+P32+R32 -> 18704.2 | G32: =(H32*I32+J32*K32+L32*M32+N32*O32+P32*Q32+R32*S32)/(H32+J32+L32+N32+P32+R32) -> 29.92815 | H32: ='8.юрид-в нацвал'!H32+'12.юрид-в инвал'!H32 -> 5065.6 | I32: =('8.юрид-в нацвал'!H32*'8.юрид-в нацвал'!I32+'12.юрид-в инвал'!H32*'12.юрид-в инвал'!I32)/('8.юрид-в нацвал'!H32+'12.юрид-в инвал'!H32) -> 14.342467 | J32: ='8.юрид-в нацвал'!J32+'12.юрид-в инвал'!J32 -> 3118.6 | K32: =('8.юрид-в нацвал'!J32*'8.юрид-в нацвал'!K32+'12.юрид-в инвал'!J32*'12.юрид-в инвал'!K32)/('8.юрид-в нацвал'!J32+'12.юрид-в инвал'!J32) -> 29.517123 | L32: ='8.юрид-в нацвал'!L32+'12.юрид-в инвал'!L32 -> 10420 | M32: =('8.юрид-в нацвал'!L32*'8.юрид-в нацвал'!M32+'12.юрид-в инвал'!L32*'12.юрид-в инвал'!M32)/('8.юрид-в нацвал'!L32+'12.юрид-в инвал'!L32) -> 37.632131 | N32: ='8.юрид-в нацвал'!N32+'12.юрид-в инвал'!N32 -> 100 | O32: =('8.юрид-в нацвал'!N32*'8.юрид-в нацвал'!O32+'12.юрид-в инвал'!N32*'12.юрид-в инвал'!O32)/('8.юрид-в нацвал'!N32+'12.юрид-в инвал'!N32) -> 29.5
A33: Январь 1998 г. | B33: ='8.юрид-в нацвал'!B33+'12.юрид-в инвал'!B33 -> 27664.9 | C33: =('8.юрид-в нацвал'!B33*'8.юрид-в нацвал'!C33+'12.юрид-в инвал'!B33*'12.юрид-в инвал'!C33)/('8.юрид-в нацвал'!B33+'12.юрид-в инвал'!B33) -> 32.870221 | F33: =H33+J33+L33+N33+P33+R33 -> 27664.9 | G33: =(H33*I33+J33*K33+L33*M33+N33*O33+P33*Q33+R33*S33)/(H33+J33+L33+N33+P33+R33) -> 32.870221 | H33: ='8.юрид-в нацвал'!H33+'12.юрид-в инвал'!H33 -> 807 | I33: =('8.юрид-в нацвал'!H33*'8.юрид-в нацвал'!I33+'12.юрид-в инвал'!H33*'12.юрид-в инвал'!I33)/('8.юрид-в нацвал'!H33+'12.юрид-в инвал'!H33) -> 23.038414 | J33: ='8.юрид-в нацвал'!J33+'12.юрид-в инвал'!J33 -> 8296 | K33: =('8.юрид-в нацвал'!J33*'8.юрид-в нацвал'!K33+'12.юрид-в инвал'!J33*'12.юрид-в инвал'!K33)/('8.юрид-в нацвал'!J33+'12.юрид-в инвал'!J33) -> 31.398822 | L33: ='8.юрид-в нацвал'!L33+'12.юрид-в инвал'!L33 -> 17197.8 | M33: =('8.юрид-в нацвал'!L33*'8.юрид-в нацвал'!M33+'12.юрид-в инвал'!L33*'12.юрид-в инвал'!M33)/('8.юрид-в нацвал'!L33+'12.юрид-в инвал'!L33) -> 33.601656 | N33: ='8.юрид-в нацвал'!N33+'12.юрид-в инвал'!N33 -> 1364.1 | O33: =('8.юрид-в нацвал'!N33*'8.юрид-в нацвал'!O33+'12.юрид-в инвал'!N33*'12.юрид-в инвал'!O33)/('8.юрид-в нацвал'!N33+'12.юрид-в инвал'!N33) -> 38.413739
A34: Февраль | B34: ='8.юрид-в нацвал'!B34+'12.юрид-в инвал'!B34 -> 14017.1 | C34: =('8.юрид-в нацвал'!B34*'8.юрид-в нацвал'!C34+'12.юрид-в инвал'!B34*'12.юрид-в инвал'!C34)/('8.юрид-в нацвал'!B34+'12.юрид-в инвал'!B34) -> 25.134272 | F34: =H34+J34+L34+N34+P34+R34 -> 14017.1 | G34: =(H34*I34+J34*K34+L34*M34+N34*O34+P34*Q34+R34*S34)/(H34+J34+L34+N34+P34+R34) -> 25.134272 | H34: ='8.юрид-в нацвал'!H34+'12.юрид-в инвал'!H34 -> 473.2 | I34: =('8.юрид-в нацвал'!H34*'8.юрид-в нацвал'!I34+'12.юрид-в инвал'!H34*'12.юрид-в инвал'!I34)/('8.юрид-в нацвал'!H34+'12.юрид-в инвал'!H34) -> 23.774303 | J34: ='8.юрид-в нацвал'!J34+'12.юрид-в инвал'!J34 -> 3947.4 | K34: =('8.юрид-в нацвал'!J34*'8.юрид-в нацвал'!K34+'12.юрид-в инвал'!J34*'12.юрид-в инвал'!K34)/('8.юрид-в нацвал'!J34+'12.юрид-в инвал'!J34) -> 22.224558 | L34: ='8.юрид-в нацвал'!L34+'12.юрид-в инвал'!L34 -> 9495.5 | M34: =('8.юрид-в нацвал'!L34*'8.юрид-в нацвал'!M34+'12.юрид-в инвал'!L34*'12.юрид-в инвал'!M34)/('8.юрид-в нацвал'!L34+'12.юрид-в инвал'!L34) -> 26.366215 | N34: ='8.юрид-в нацвал'!N34+'12.юрид-в инвал'!N34 -> 80 | O34: =('8.юрид-в нацвал'!N34*'8.юрид-в нацвал'!O34+'12.юрид-в инвал'!N34*'12.юрид-в инвал'!O34)/('8.юрид-в нацвал'!N34+'12.юрид-в инвал'!N34) -> 29.25 | P34: ='8.юрид-в нацвал'!P34+'12.юрид-в инвал'!P34 -> 21 | Q34: =('8.юрид-в нацвал'!P34*'8.юрид-в нацвал'!Q34+'12.юрид-в инвал'!P34*'12.юрид-в инвал'!Q34)/('8.юрид-в нацвал'!P34+'12.юрид-в инвал'!P34) -> 30
A35: Март | B35: ='8.юрид-в нацвал'!B35+'12.юрид-в инвал'!B35 -> 44059.5 | C35: =('8.юрид-в нацвал'!B35*'8.юрид-в нацвал'!C35+'12.юрид-в инвал'!B35*'12.юрид-в инвал'!C35)/('8.юрид-в нацвал'!B35+'12.юрид-в инвал'!B35) -> 20.386651 | F35: =H35+J35+L35+N35+P35+R35 -> 44059.5 | G35: =(H35*I35+J35*K35+L35*M35+N35*O35+P35*Q35+R35*S35)/(H35+J35+L35+N35+P35+R35) -> 20.386651 | H35: ='8.юрид-в нацвал'!H35+'12.юрид-в инвал'!H35 -> 8656.7 | I35: =('8.юрид-в нацвал'!H35*'8.юрид-в нацвал'!I35+'12.юрид-в инвал'!H35*'12.юрид-в инвал'!I35)/('8.юрид-в нацвал'!H35+'12.юрид-в инвал'!H35) -> 8.9344554 | J35: ='8.юрид-в нацвал'!J35+'12.юрид-в инвал'!J35 -> 15361 | K35: =('8.юрид-в нацвал'!J35*'8.юрид-в нацвал'!K35+'12.юрид-в инвал'!J35*'12.юрид-в инвал'!K35)/('8.юрид-в нацвал'!J35+'12.юрид-в инвал'!J35) -> 24.058069 | L35: ='8.юрид-в нацвал'!L35+'12.юрид-в инвал'!L35 -> 10972.8 | M35: =('8.юрид-в нацвал'!L35*'8.юрид-в нацвал'!M35+'12.юрид-в инвал'!L35*'12.юрид-в инвал'!M35)/('8.юрид-в нацвал'!L35+'12.юрид-в инвал'!L35) -> 24.802817 | N35: ='8.юрид-в нацвал'!N35+'12.юрид-в инвал'!N35 -> 9065 | O35: =('8.юрид-в нацвал'!N35*'8.юрид-в нацвал'!O35+'12.юрид-в инвал'!N35*'12.юрид-в инвал'!O35)/('8.юрид-в нацвал'!N35+'12.юрид-в инвал'!N35) -> 19.76503 | P35: ='8.юрид-в нацвал'!P35+'12.юрид-в инвал'!P35 -> 4 | Q35: =('8.юрид-в нацвал'!P35*'8.юрид-в нацвал'!Q35+'12.юрид-в инвал'!P35*'12.юрид-в инвал'!Q35)/('8.юрид-в нацвал'!P35+'12.юрид-в инвал'!P35) -> 0.1
A36: Апрель | B36: ='8.юрид-в нацвал'!B36+'12.юрид-в инвал'!B36 -> 23796.6 | C36: =('8.юрид-в нацвал'!B36*'8.юрид-в нацвал'!C36+'12.юрид-в инвал'!B36*'12.юрид-в инвал'!C36)/('8.юрид-в нацвал'!B36+'12.юрид-в инвал'!B36) -> 24.375012 | F36: =H36+J36+L36+N36+P36+R36 -> 23796.6 | G36: =(H36*I36+J36*K36+L36*M36+N36*O36+P36*Q36+R36*S36)/(H36+J36+L36+N36+P36+R36) -> 24.375012 | H36: ='8.юрид-в нацвал'!H36+'12.юрид-в инвал'!H36 -> 8165.2 | I36: =('8.юрид-в нацвал'!H36*'8.юрид-в нацвал'!I36+'12.юрид-в инвал'!H36*'12.юрид-в инвал'!I36)/('8.юрид-в нацвал'!H36+'12.юрид-в инвал'!H36) -> 17.104443 | J36: ='8.юрид-в нацвал'!J36+'12.юрид-в инвал'!J36 -> 4590.6 | K36: =('8.юрид-в нацвал'!J36*'8.юрид-в нацвал'!K36+'12.юрид-в инвал'!J36*'12.юрид-в инвал'!K36)/('8.юрид-в нацвал'!J36+'12.юрид-в инвал'!J36) -> 27.01233 | L36: ='8.юрид-в нацвал'!L36+'12.юрид-в инвал'!L36 -> 10930 | M36: =('8.юрид-в нацвал'!L36*'8.юрид-в нацвал'!M36+'12.юрид-в инвал'!L36*'12.юрид-в инвал'!M36)/('8.юрид-в нацвал'!L36+'12.юрид-в инвал'!L36) -> 28.664886 | N36: ='8.юрид-в нацвал'!N36+'12.юрид-в инвал'!N36 -> 95.8 | O36: =('8.юрид-в нацвал'!N36*'8.юрид-в нацвал'!O36+'12.юрид-в инвал'!N36*'12.юрид-в инвал'!O36)/('8.юрид-в нацвал'!N36+'12.юрид-в инвал'!N36) -> 25.795407 | P36: ='8.юрид-в нацвал'!P36+'12.юрид-в инвал'!P36 -> 15 | Q36: =('8.юрид-в нацвал'!P36*'8.юрид-в нацвал'!Q36+'12.юрид-в инвал'!P36*'12.юрид-в инвал'!Q36)/('8.юрид-в нацвал'!P36+'12.юрид-в инвал'!P36) -> 40
A37: Май | B37: ='8.юрид-в нацвал'!B37+'12.юрид-в инвал'!B37 -> 62339 | C37: =('8.юрид-в нацвал'!B37*'8.юрид-в нацвал'!C37+'12.юрид-в инвал'!B37*'12.юрид-в инвал'!C37)/('8.юрид-в нацвал'!B37+'12.юрид-в инвал'!B37) -> 21.233299 | F37: =H37+J37+L37+N37+P37+R37 -> 62339 | G37: =(H37*I37+J37*K37+L37*M37+N37*O37+P37*Q37+R37*S37)/(H37+J37+L37+N37+P37+R37) -> 21.233299 | H37: ='8.юрид-в нацвал'!H37+'12.юрид-в инвал'!H37 -> 3424 | I37: =('8.юрид-в нацвал'!H37*'8.юрид-в нацвал'!I37+'12.юрид-в инвал'!H37*'12.юрид-в инвал'!I37)/('8.юрид-в нацвал'!H37+'12.юрид-в инвал'!H37) -> 8.7242991 | J37: ='8.юрид-в нацвал'!J37+'12.юрид-в инвал'!J37 -> 8808 | K37: =('8.юрид-в нацвал'!J37*'8.юрид-в нацвал'!K37+'12.юрид-в инвал'!J37*'12.юрид-в инвал'!K37)/('8.юрид-в нацвал'!J37+'12.юрид-в инвал'!J37) -> 25.193569 | L37: ='8.юрид-в нацвал'!L37+'12.юрид-в инвал'!L37 -> 43268 | M37: =('8.юрид-в нацвал'!L37*'8.юрид-в нацвал'!M37+'12.юрид-в инвал'!L37*'12.юрид-в инвал'!M37)/('8.юрид-в нацвал'!L37+'12.юрид-в инвал'!L37) -> 21.226234 | N37: ='8.юрид-в нацвал'!N37+'12.юрид-в инвал'!N37 -> 6839 | O37: =('8.юрид-в нацвал'!N37*'8.юрид-в нацвал'!O37+'12.юрид-в инвал'!N37*'12.юрид-в инвал'!O37)/('8.юрид-в нацвал'!N37+'12.юрид-в инвал'!N37) -> 22.440269
A38: Июнь | B38: ='8.юрид-в нацвал'!B38+'12.юрид-в инвал'!B38 -> 11728.4 | C38: =('8.юрид-в нацвал'!B38*'8.юрид-в нацвал'!C38+'12.юрид-в инвал'!B38*'12.юрид-в инвал'!C38)/('8.юрид-в нацвал'!B38+'12.юрид-в инвал'!B38) -> 30.443311 | F38: =H38+J38+L38+N38+P38+R38 -> 11728.4 | G38: =(H38*I38+J38*K38+L38*M38+N38*O38+P38*Q38+R38*S38)/(H38+J38+L38+N38+P38+R38) -> 30.443311 | H38: ='8.юрид-в нацвал'!H38+'12.юрид-в инвал'!H38 -> 4843 | I38: =('8.юрид-в нацвал'!H38*'8.юрид-в нацвал'!I38+'12.юрид-в инвал'!H38*'12.юрид-в инвал'!I38)/('8.юрид-в нацвал'!H38+'12.юрид-в инвал'!H38) -> 30.591679 | J38: ='8.юрид-в нацвал'!J38+'12.юрид-в инвал'!J38 -> 2343 | K38: =('8.юрид-в нацвал'!J38*'8.юрид-в нацвал'!K38+'12.юрид-в инвал'!J38*'12.юрид-в инвал'!K38)/('8.юрид-в нацвал'!J38+'12.юрид-в инвал'!J38) -> 32.112608 | L38: ='8.юрид-в нацвал'!L38+'12.юрид-в инвал'!L38 -> 4393 | M38: =('8.юрид-в нацвал'!L38*'8.юрид-в нацвал'!M38+'12.юрид-в инвал'!L38*'12.юрид-в инвал'!M38)/('8.юрид-в нацвал'!L38+'12.юрид-в инвал'!L38) -> 29.342918 | N38: ='8.юрид-в нацвал'!N38+'12.юрид-в инвал'!N38 -> 143.4 | O38: =('8.юрид-в нацвал'!N38*'8.юрид-в нацвал'!O38+'12.юрид-в инвал'!N38*'12.юрид-в инвал'!O38)/('8.юрид-в нацвал'!N38+'12.юрид-в инвал'!N38) -> 32.441771 | P38: ='8.юрид-в нацвал'!P38+'12.юрид-в инвал'!P38 -> 6 | Q38: =('8.юрид-в нацвал'!P38*'8.юрид-в нацвал'!Q38+'12.юрид-в инвал'!P38*'12.юрид-в инвал'!Q38)/('8.юрид-в нацвал'!P38+'12.юрид-в инвал'!P38) -> 16.733333
A39: Июль | B39: ='8.юрид-в нацвал'!B39+'12.юрид-в инвал'!B39 -> 44690.2 | C39: =('8.юрид-в нацвал'!B39*'8.юрид-в нацвал'!C39+'12.юрид-в инвал'!B39*'12.юрид-в инвал'!C39)/('8.юрид-в нацвал'!B39+'12.юрид-в инвал'!B39) -> 26.460532 | F39: =H39+J39+L39+N39+P39+R39 -> 44690.2 | G39: =(H39*I39+J39*K39+L39*M39+N39*O39+P39*Q39+R39*S39)/(H39+J39+L39+N39+P39+R39) -> 26.460532 | H39: ='8.юрид-в нацвал'!H39+'12.юрид-в инвал'!H39 -> 4080.9 | I39: =('8.юрид-в нацвал'!H39*'8.юрид-в нацвал'!I39+'12.юрид-в инвал'!H39*'12.юрид-в инвал'!I39)/('8.юрид-в нацвал'!H39+'12.юрид-в инвал'!H39) -> 34.18045 | J39: ='8.юрид-в нацвал'!J39+'12.юрид-в инвал'!J39 -> 13667 | K39: =('8.юрид-в нацвал'!J39*'8.юрид-в нацвал'!K39+'12.юрид-в инвал'!J39*'12.юрид-в инвал'!K39)/('8.юрид-в нацвал'!J39+'12.юрид-в инвал'!J39) -> 22.899517 | L39: ='8.юрид-в нацвал'!L39+'12.юрид-в инвал'!L39 -> 17201 | M39: =('8.юрид-в нацвал'!L39*'8.юрид-в нацвал'!M39+'12.юрид-в инвал'!L39*'12.юрид-в инвал'!M39)/('8.юрид-в нацвал'!L39+'12.юрид-в инвал'!L39) -> 29.984022 | N39: ='8.юрид-в нацвал'!N39+'12.юрид-в инвал'!N39 -> 9741.3 | O39: =('8.юрид-в нацвал'!N39*'8.юрид-в нацвал'!O39+'12.юрид-в инвал'!N39*'12.юрид-в инвал'!O39)/('8.юрид-в нацвал'!N39+'12.юрид-в инвал'!N39) -> 22.000821
A40: Август | B40: ='8.юрид-в нацвал'!B40+'12.юрид-в инвал'!B40 -> 21126.3 | C40: =('8.юрид-в нацвал'!B40*'8.юрид-в нацвал'!C40+'12.юрид-в инвал'!B40*'12.юрид-в инвал'!C40)/('8.юрид-в нацвал'!B40+'12.юрид-в инвал'!B40) -> 23.171449 | F40: =H40+J40+L40+N40+P40+R40 -> 21126.3 | G40: =(H40*I40+J40*K40+L40*M40+N40*O40+P40*Q40+R40*S40)/(H40+J40+L40+N40+P40+R40) -> 23.171449 | H40: ='8.юрид-в нацвал'!H40+'12.юрид-в инвал'!H40 -> 11412.2 | I40: =('8.юрид-в нацвал'!H40*'8.юрид-в нацвал'!I40+'12.юрид-в инвал'!H40*'12.юрид-в инвал'!I40)/('8.юрид-в нацвал'!H40+'12.юрид-в инвал'!H40) -> 22.905345 | J40: ='8.юрид-в нацвал'!J40+'12.юрид-в инвал'!J40 -> 6797.2 | K40: =('8.юрид-в нацвал'!J40*'8.юрид-в нацвал'!K40+'12.юрид-в инвал'!J40*'12.юрид-в инвал'!K40)/('8.юрид-в нацвал'!J40+'12.юрид-в инвал'!J40) -> 20.666657 | L40: ='8.юрид-в нацвал'!L40+'12.юрид-в инвал'!L40 -> 2840.9 | M40: =('8.юрид-в нацвал'!L40*'8.юрид-в нацвал'!M40+'12.юрид-в инвал'!L40*'12.юрид-в инвал'!M40)/('8.юрид-в нацвал'!L40+'12.юрид-в инвал'!L40) -> 29.963462 | N40: ='8.юрид-в нацвал'!N40+'12.юрид-в инвал'!N40 -> 76 | O40: =('8.юрид-в нацвал'!N40*'8.юрид-в нацвал'!O40+'12.юрид-в инвал'!N40*'12.юрид-в инвал'!O40)/('8.юрид-в нацвал'!N40+'12.юрид-в инвал'!N40) -> 33.263158
A41: Сентябрь | B41: ='8.юрид-в нацвал'!B41+'12.юрид-в инвал'!B41 -> 34816.3 | C41: =('8.юрид-в нацвал'!B41*'8.юрид-в нацвал'!C41+'12.юрид-в инвал'!B41*'12.юрид-в инвал'!C41)/('8.юрид-в нацвал'!B41+'12.юрид-в инвал'!B41) -> 22.482156 | F41: =H41+J41+L41+N41+P41+R41 -> 34816.3 | G41: =(H41*I41+J41*K41+L41*M41+N41*O41+P41*Q41+R41*S41)/(H41+J41+L41+N41+P41+R41) -> 22.482156 | H41: ='8.юрид-в нацвал'!H41+'12.юрид-в инвал'!H41 -> 9265.7 | I41: =('8.юрид-в нацвал'!H41*'8.юрид-в нацвал'!I41+'12.юрид-в инвал'!H41*'12.юрид-в инвал'!I41)/('8.юрид-в нацвал'!H41+'12.юрид-в инвал'!H41) -> 22.655266 | J41: ='8.юрид-в нацвал'!J41+'12.юрид-в инвал'!J41 -> 13509.9 | K41: =('8.юрид-в нацвал'!J41*'8.юрид-в нацвал'!K41+'12.юрид-в инвал'!J41*'12.юрид-в инвал'!K41)/('8.юрид-в нацвал'!J41+'12.юрид-в инвал'!J41) -> 20.59145 | L41: ='8.юрид-в нацвал'!L41+'12.юрид-в инвал'!L41 -> 11436.8 | M41: =('8.юрид-в нацвал'!L41*'8.юрид-в нацвал'!M41+'12.юрид-в инвал'!L41*'12.юрид-в инвал'!M41)/('8.юрид-в нацвал'!L41+'12.юрид-в инвал'!L41) -> 23.659638 | N41: ='8.юрид-в нацвал'!N41+'12.юрид-в инвал'!N41 -> 601.9 | O41: =('8.юрид-в нацвал'!N41*'8.юрид-в нацвал'!O41+'12.юрид-в инвал'!N41*'12.юрид-в инвал'!O41)/('8.юрид-в нацвал'!N41+'12.юрид-в инвал'!N41) -> 39.955807 | P41: ='8.юрид-в нацвал'!P41+'12.юрид-в инвал'!P41 -> 2 | Q41: =('8.юрид-в нацвал'!P41*'8.юрид-в нацвал'!Q41+'12.юрид-в инвал'!P41*'12.юрид-в инвал'!Q41)/('8.юрид-в нацвал'!P41+'12.юрид-в инвал'!P41) -> 0.1
A42: Октябрь | B42: ='8.юрид-в нацвал'!B42+'12.юрид-в инвал'!B42 -> 47504.8 | C42: =('8.юрид-в нацвал'!B42*'8.юрид-в нацвал'!C42+'12.юрид-в инвал'!B42*'12.юрид-в инвал'!C42)/('8.юрид-в нацвал'!B42+'12.юрид-в инвал'!B42) -> 42.352664 | F42: =H42+J42+L42+N42+P42+R42 -> 47504.8 | G42: =(H42*I42+J42*K42+L42*M42+N42*O42+P42*Q42+R42*S42)/(H42+J42+L42+N42+P42+R42) -> 42.352664 | H42: ='8.юрид-в нацвал'!H42+'12.юрид-в инвал'!H42 -> 30588.1 | I42: =('8.юрид-в нацвал'!H42*'8.юрид-в нацвал'!I42+'12.юрид-в инвал'!H42*'12.юрид-в инвал'!I42)/('8.юрид-в нацвал'!H42+'12.юрид-в инвал'!H42) -> 48.367267 | J42: ='8.юрид-в нацвал'!J42+'12.юрид-в инвал'!J42 -> 13024 | K42: =('8.юрид-в нацвал'!J42*'8.юрид-в нацвал'!K42+'12.юрид-в инвал'!J42*'12.юрид-в инвал'!K42)/('8.юрид-в нацвал'!J42+'12.юрид-в инвал'!J42) -> 30.417276 | L42: ='8.юрид-в нацвал'!L42+'12.юрид-в инвал'!L42 -> 2632.7 | M42: =('8.юрид-в нацвал'!L42*'8.юрид-в нацвал'!M42+'12.юрид-в инвал'!L42*'12.юрид-в инвал'!M42)/('8.юрид-в нацвал'!L42+'12.юрид-в инвал'!L42) -> 30.040427 | N42: ='8.юрид-в нацвал'!N42+'12.юрид-в инвал'!N42 -> 870 | O42: =('8.юрид-в нацвал'!N42*'8.юрид-в нацвал'!O42+'12.юрид-в инвал'!N42*'12.юрид-в инвал'!O42)/('8.юрид-в нацвал'!N42+'12.юрид-в инвал'!N42) -> 45.632184 | P42: ='8.юрид-в нацвал'!P42+'12.юрид-в инвал'!P42 -> 390 | Q42: =('8.юрид-в нацвал'!P42*'8.юрид-в нацвал'!Q42+'12.юрид-в инвал'!P42*'12.юрид-в инвал'!Q42)/('8.юрид-в нацвал'!P42+'12.юрид-в инвал'!P42) -> 45
A43: Ноябрь | B43: ='8.юрид-в нацвал'!B43+'12.юрид-в инвал'!B43 -> 54353 | C43: =('8.юрид-в нацвал'!B43*'8.юрид-в нацвал'!C43+'12.юрид-в инвал'!B43*'12.юрид-в инвал'!C43)/('8.юрид-в нацвал'!B43+'12.юрид-в инвал'!B43) -> 22.987177 | F43: =H43+J43+L43+N43+P43+R43 -> 54353 | G43: =(H43*I43+J43*K43+L43*M43+N43*O43+P43*Q43+R43*S43)/(H43+J43+L43+N43+P43+R43) -> 22.987177 | H43: ='8.юрид-в нацвал'!H43+'12.юрид-в инвал'!H43 -> 4076.7 | I43: =('8.юрид-в нацвал'!H43*'8.юрид-в нацвал'!I43+'12.юрид-в инвал'!H43*'12.юрид-в инвал'!I43)/('8.юрид-в нацвал'!H43+'12.юрид-в инвал'!H43) -> 33.98045 | J43: ='8.юрид-в нацвал'!J43+'12.юрид-в инвал'!J43 -> 38334.1 | K43: =('8.юрид-в нацвал'!J43*'8.юрид-в нацвал'!K43+'12.юрид-в инвал'!J43*'12.юрид-в инвал'!K43)/('8.юрид-в нацвал'!J43+'12.юрид-в инвал'!J43) -> 21.51601 | L43: ='8.юрид-в нацвал'!L43+'12.юрид-в инвал'!L43 -> 11620.2 | M43: =('8.юрид-в нацвал'!L43*'8.юрид-в нацвал'!M43+'12.юрид-в инвал'!L43*'12.юрид-в инвал'!M43)/('8.юрид-в нацвал'!L43+'12.юрид-в инвал'!L43) -> 23.00554 | N43: ='8.юрид-в нацвал'!N43+'12.юрид-в инвал'!N43 -> 313 | O43: =('8.юрид-в нацвал'!N43*'8.юрид-в нацвал'!O43+'12.юрид-в инвал'!N43*'12.юрид-в инвал'!O43)/('8.юрид-в нацвал'!N43+'12.юрид-в инвал'!N43) -> 59.089137 | P43: ='8.юрид-в нацвал'!P43+'12.юрид-в инвал'!P43 -> 9 | Q43: =('8.юрид-в нацвал'!P43*'8.юрид-в нацвал'!Q43+'12.юрид-в инвал'!P43*'12.юрид-в инвал'!Q43)/('8.юрид-в нацвал'!P43+'12.юрид-в инвал'!P43) -> 30.355556
A44: Декабрь | B44: ='8.юрид-в нацвал'!B44+'12.юрид-в инвал'!B44 -> 45283.7 | C44: =('8.юрид-в нацвал'!B44*'8.юрид-в нацвал'!C44+'12.юрид-в инвал'!B44*'12.юрид-в инвал'!C44)/('8.юрид-в нацвал'!B44+'12.юрид-в инвал'!B44) -> 17.417155 | F44: =H44+J44+L44+N44+P44+R44 -> 45283.7 | G44: =(H44*I44+J44*K44+L44*M44+N44*O44+P44*Q44+R44*S44)/(H44+J44+L44+N44+P44+R44) -> 17.417155 | H44: ='8.юрид-в нацвал'!H44+'12.юрид-в инвал'!H44 -> 19452 | I44: =('8.юрид-в нацвал'!H44*'8.юрид-в нацвал'!I44+'12.юрид-в инвал'!H44*'12.юрид-в инвал'!I44)/('8.юрид-в нацвал'!H44+'12.юрид-в инвал'!H44) -> 9.3222521 | J44: ='8.юрид-в нацвал'!J44+'12.юрид-в инвал'!J44 -> 20518.7 | K44: =('8.юрид-в нацвал'!J44*'8.юрид-в нацвал'!K44+'12.юрид-в инвал'!J44*'12.юрид-в инвал'!K44)/('8.юрид-в нацвал'!J44+'12.юрид-в инвал'!J44) -> 23.276713 | L44: ='8.юрид-в нацвал'!L44+'12.юрид-в инвал'!L44 -> 1863.7 | M44: =('8.юрид-в нацвал'!L44*'8.юрид-в нацвал'!M44+'12.юрид-в инвал'!L44*'12.юрид-в инвал'!M44)/('8.юрид-в нацвал'!L44+'12.юрид-в инвал'!L44) -> 24.628213 | N44: ='8.юрид-в нацвал'!N44+'12.юрид-в инвал'!N44 -> 3435.3 | O44: =('8.юрид-в нацвал'!N44*'8.юрид-в нацвал'!O44+'12.юрид-в инвал'!N44*'12.юрид-в инвал'!O44)/('8.юрид-в нацвал'!N44+'12.юрид-в инвал'!N44) -> 24.230566 | P44: ='8.юрид-в нацвал'!P44+'12.юрид-в инвал'!P44 -> 14 | Q44: =('8.юрид-в нацвал'!P44*'8.юрид-в нацвал'!Q44+'12.юрид-в инвал'!P44*'12.юрид-в инвал'!Q44)/('8.юрид-в нацвал'!P44+'12.юрид-в инвал'!P44) -> 45
A45: Январь 1999 г. | B45: ='8.юрид-в нацвал'!B45+'12.юрид-в инвал'!B45 -> 92121.4 | C45: =('8.юрид-в нацвал'!B45*'8.юрид-в нацвал'!C45+'12.юрид-в инвал'!B45*'12.юрид-в инвал'!C45)/('8.юрид-в нацвал'!B45+'12.юрид-в инвал'!B45) -> 24.27429 | F45: =H45+J45+L45+N45+P45+R45 -> 92121.4 | G45: =(H45*I45+J45*K45+L45*M45+N45*O45+P45*Q45+R45*S45)/(H45+J45+L45+N45+P45+R45) -> 24.27429 | H45: ='8.юрид-в нацвал'!H45+'12.юрид-в инвал'!H45 -> 12878.1 | I45: =('8.юрид-в нацвал'!H45*'8.юрид-в нацвал'!I45+'12.юрид-в инвал'!H45*'12.юрид-в инвал'!I45)/('8.юрид-в нацвал'!H45+'12.юрид-в инвал'!H45) -> 22.214775 | J45: ='8.юрид-в нацвал'!J45+'12.юрид-в инвал'!J45 -> 51079.8 | K45: =('8.юрид-в нацвал'!J45*'8.юрид-в нацвал'!K45+'12.юрид-в инвал'!J45*'12.юрид-в инвал'!K45)/('8.юрид-в нацвал'!J45+'12.юрид-в инвал'!J45) -> 24.51471 | L45: ='8.юрид-в нацвал'!L45+'12.юрид-в инвал'!L45 -> 26990.2 | M45: =('8.юрид-в нацвал'!L45*'8.юрид-в нацвал'!M45+'12.юрид-в инвал'!L45*'12.юрид-в инвал'!M45)/('8.юрид-в нацвал'!L45+'12.юрид-в инвал'!L45) -> 24.324445 | N45: ='8.юрид-в нацвал'!N45+'12.юрид-в инвал'!N45 -> 1149.3 | O45: =('8.юрид-в нацвал'!N45*'8.юрид-в нацвал'!O45+'12.юрид-в инвал'!N45*'12.юрид-в инвал'!O45)/('8.юрид-в нацвал'!N45+'12.юрид-в инвал'!N45) -> 35.05561 | P45: ='8.юрид-в нацвал'!P45+'12.юрид-в инвал'!P45 -> 24 | Q45: =('8.юрид-в нацвал'!P45*'8.юрид-в нацвал'!Q45+'12.юрид-в инвал'!P45*'12.юрид-в инвал'!Q45)/('8.юрид-в нацвал'!P45+'12.юрид-в инвал'!P45) -> 45
A46: Февраль | B46: ='8.юрид-в нацвал'!B46+'12.юрид-в инвал'!B46 -> 63202.4 | C46: =('8.юрид-в нацвал'!B46*'8.юрид-в нацвал'!C46+'12.юрид-в инвал'!B46*'12.юрид-в инвал'!C46)/('8.юрид-в нацвал'!B46+'12.юрид-в инвал'!B46) -> 9.611583 | F46: =H46+J46+L46+N46+P46+R46 -> 63202.4 | G46: =(H46*I46+J46*K46+L46*M46+N46*O46+P46*Q46+R46*S46)/(H46+J46+L46+N46+P46+R46) -> 9.611583 | H46: ='8.юрид-в нацвал'!H46+'12.юрид-в инвал'!H46 -> 57442.7 | I46: =('8.юрид-в нацвал'!H46*'8.юрид-в нацвал'!I46+'12.юрид-в инвал'!H46*'12.юрид-в инвал'!I46)/('8.юрид-в нацвал'!H46+'12.юрид-в инвал'!H46) -> 7.3713736 | J46: ='8.юрид-в нацвал'!J46+'12.юрид-в инвал'!J46 -> 4756 | K46: =('8.юрид-в нацвал'!J46*'8.юрид-в нацвал'!K46+'12.юрид-в инвал'!J46*'12.юрид-в инвал'!K46)/('8.юрид-в нацвал'!J46+'12.юрид-в инвал'!J46) -> 32.828612 | L46: ='8.юрид-в нацвал'!L46+'12.юрид-в инвал'!L46 -> 921.1 | M46: =('8.юрид-в нацвал'!L46*'8.юрид-в нацвал'!M46+'12.юрид-в инвал'!L46*'12.юрид-в инвал'!M46)/('8.юрид-в нацвал'!L46+'12.юрид-в инвал'!L46) -> 27.631808 | N46: ='8.юрид-в нацвал'!N46+'12.юрид-в инвал'!N46 -> 82.6 | O46: =('8.юрид-в нацвал'!N46*'8.юрид-в нацвал'!O46+'12.юрид-в инвал'!N46*'12.юрид-в инвал'!O46)/('8.юрид-в нацвал'!N46+'12.юрид-в инвал'!N46) -> 29.769709
A47: Март | B47: ='8.юрид-в нацвал'!B47+'12.юрид-в инвал'!B47 -> 81084.2 | C47: =('8.юрид-в нацвал'!B47*'8.юрид-в нацвал'!C47+'12.юрид-в инвал'!B47*'12.юрид-в инвал'!C47)/('8.юрид-в нацвал'!B47+'12.юрид-в инвал'!B47) -> 16.955233 | F47: =H47+J47+L47+N47+P47+R47 -> 81084.2 | G47: =(H47*I47+J47*K47+L47*M47+N47*O47+P47*Q47+R47*S47)/(H47+J47+L47+N47+P47+R47) -> 16.955233 | H47: ='8.юрид-в нацвал'!H47+'12.юрид-в инвал'!H47 -> 31720.3 | I47: =('8.юрид-в нацвал'!H47*'8.юрид-в нацвал'!I47+'12.юрид-в инвал'!H47*'12.юрид-в инвал'!I47)/('8.юрид-в нацвал'!H47+'12.юрид-в инвал'!H47) -> 11.949364 | J47: ='8.юрид-в нацвал'!J47+'12.юрид-в инвал'!J47 -> 46281.6 | K47: =('8.юрид-в нацвал'!J47*'8.юрид-в нацвал'!K47+'12.юрид-в инвал'!J47*'12.юрид-в инвал'!K47)/('8.юрид-в нацвал'!J47+'12.юрид-в инвал'!J47) -> 19.698598 | L47: ='8.юрид-в нацвал'!L47+'12.юрид-в инвал'!L47 -> 2456.3 | M47: =('8.юрид-в нацвал'!L47*'8.юрид-в нацвал'!M47+'12.юрид-в инвал'!L47*'12.юрид-в инвал'!M47)/('8.юрид-в нацвал'!L47+'12.юрид-в инвал'!L47) -> 26.031633 | N47: ='8.юрид-в нацвал'!N47+'12.юрид-в инвал'!N47 -> 626 | O47: =('8.юрид-в нацвал'!N47*'8.юрид-в нацвал'!O47+'12.юрид-в инвал'!N47*'12.юрид-в инвал'!O47)/('8.юрид-в нацвал'!N47+'12.юрид-в инвал'!N47) -> 32.172524
A48: Апрель | B48: ='8.юрид-в нацвал'!B48+'12.юрид-в инвал'!B48 -> 74100.4 | C48: =('8.юрид-в нацвал'!B48*'8.юрид-в нацвал'!C48+'12.юрид-в инвал'!B48*'12.юрид-в инвал'!C48)/('8.юрид-в нацвал'!B48+'12.юрид-в инвал'!B48) -> 13.512923 | F48: =H48+J48+L48+N48+P48+R48 -> 74100.4 | G48: =(H48*I48+J48*K48+L48*M48+N48*O48+P48*Q48+R48*S48)/(H48+J48+L48+N48+P48+R48) -> 13.512923 | H48: ='8.юрид-в нацвал'!H48+'12.юрид-в инвал'!H48 -> 48694.5 | I48: =('8.юрид-в нацвал'!H48*'8.юрид-в нацвал'!I48+'12.юрид-в инвал'!H48*'12.юрид-в инвал'!I48)/('8.юрид-в нацвал'!H48+'12.юрид-в инвал'!H48) -> 5.8231505 | J48: ='8.юрид-в нацвал'!J48+'12.юрид-в инвал'!J48 -> 21412.1 | K48: =('8.юрид-в нацвал'!J48*'8.юрид-в нацвал'!K48+'12.юрид-в инвал'!J48*'12.юрид-в инвал'!K48)/('8.юрид-в нацвал'!J48+'12.юрид-в инвал'!J48) -> 28.987862 | L48: ='8.юрид-в нацвал'!L48+'12.юрид-в инвал'!L48 -> 3944.8 | M48: =('8.юрид-в нацвал'!L48*'8.юрид-в нацвал'!M48+'12.юрид-в инвал'!L48*'12.юрид-в инвал'!M48)/('8.юрид-в нацвал'!L48+'12.юрид-в инвал'!L48) -> 24.279659 | N48: ='8.юрид-в нацвал'!N48+'12.юрид-в инвал'!N48 -> 49 | O48: =('8.юрид-в нацвал'!N48*'8.юрид-в нацвал'!O48+'12.юрид-в инвал'!N48*'12.юрид-в инвал'!O48)/('8.юрид-в нацвал'!N48+'12.юрид-в инвал'!N48) -> 26.289796
A49: Май | B49: ='8.юрид-в нацвал'!B49+'12.юрид-в инвал'!B49 -> 56830.1 | C49: =('8.юрид-в нацвал'!B49*'8.юрид-в нацвал'!C49+'12.юрид-в инвал'!B49*'12.юрид-в инвал'!C49)/('8.юрид-в нацвал'!B49+'12.юрид-в инвал'!B49) -> 14.882892 | F49: =H49+J49+L49+N49+P49+R49 -> 56830.1 | G49: =(H49*I49+J49*K49+L49*M49+N49*O49+P49*Q49+R49*S49)/(H49+J49+L49+N49+P49+R49) -> 14.882892 | H49: ='8.юрид-в нацвал'!H49+'12.юрид-в инвал'!H49 -> 20505.3 | I49: =('8.юрид-в нацвал'!H49*'8.юрид-в нацвал'!I49+'12.юрид-в инвал'!H49*'12.юрид-в инвал'!I49)/('8.юрид-в нацвал'!H49+'12.юрид-в инвал'!H49) -> 9.4473136 | J49: ='8.юрид-в нацвал'!J49+'12.юрид-в инвал'!J49 -> 12687.6 | K49: =('8.юрид-в нацвал'!J49*'8.юрид-в нацвал'!K49+'12.юрид-в инвал'!J49*'12.юрид-в инвал'!K49)/('8.юрид-в нацвал'!J49+'12.юрид-в инвал'!J49) -> 17.404223 | L49: ='8.юрид-в нацвал'!L49+'12.юрид-в инвал'!L49 -> 20407.2 | M49: =('8.юрид-в нацвал'!L49*'8.юрид-в нацвал'!M49+'12.юрид-в инвал'!L49*'12.юрид-в инвал'!M49)/('8.юрид-в нацвал'!L49+'12.юрид-в инвал'!L49) -> 15.627631 | N49: ='8.юрид-в нацвал'!N49+'12.юрид-в инвал'!N49 -> 3230 | O49: =('8.юрид-в нацвал'!N49*'8.юрид-в нацвал'!O49+'12.юрид-в инвал'!N49*'12.юрид-в инвал'!O49)/('8.юрид-в нацвал'!N49+'12.юрид-в инвал'!N49) -> 34.780867
A50: Июнь | B50: ='8.юрид-в нацвал'!B50+'12.юрид-в инвал'!B50 -> 92524.8 | C50: =('8.юрид-в нацвал'!B50*'8.юрид-в нацвал'!C50+'12.юрид-в инвал'!B50*'12.юрид-в инвал'!C50)/('8.юрид-в нацвал'!B50+'12.юрид-в инвал'!B50) -> 12.078075 | F50: =H50+J50+L50+N50+P50+R50 -> 92524.8 | G50: =(H50*I50+J50*K50+L50*M50+N50*O50+P50*Q50+R50*S50)/(H50+J50+L50+N50+P50+R50) -> 12.078075 | H50: ='8.юрид-в нацвал'!H50+'12.юрид-в инвал'!H50 -> 22311.9 | I50: =('8.юрид-в нацвал'!H50*'8.юрид-в нацвал'!I50+'12.юрид-в инвал'!H50*'12.юрид-в инвал'!I50)/('8.юрид-в нацвал'!H50+'12.юрид-в инвал'!H50) -> 4.3222227 | J50: ='8.юрид-в нацвал'!J50+'12.юрид-в инвал'!J50 -> 22041.5 | K50: =('8.юрид-в нацвал'!J50*'8.юрид-в нацвал'!K50+'12.юрид-в инвал'!J50*'12.юрид-в инвал'!K50)/('8.юрид-в нацвал'!J50+'12.юрид-в инвал'!J50) -> 19.571853 | L50: ='8.юрид-в нацвал'!L50+'12.юрид-в инвал'!L50 -> 47121.5 | M50: =('8.юрид-в нацвал'!L50*'8.юрид-в нацвал'!M50+'12.юрид-в инвал'!L50*'12.юрид-в инвал'!M50)/('8.юрид-в нацвал'!L50+'12.юрид-в инвал'!L50) -> 12.040442 | N50: ='8.юрид-в нацвал'!N50+'12.юрид-в инвал'!N50 -> 1049.9 | O50: =('8.юрид-в нацвал'!N50*'8.юрид-в нацвал'!O50+'12.юрид-в инвал'!N50*'12.юрид-в инвал'!O50)/('8.юрид-в нацвал'!N50+'12.юрид-в инвал'!N50) -> 21.266597
A51: Июль | B51: ='8.юрид-в нацвал'!B51+'12.юрид-в инвал'!B51 -> 58679 | C51: =('8.юрид-в нацвал'!B51*'8.юрид-в нацвал'!C51+'12.юрид-в инвал'!B51*'12.юрид-в инвал'!C51)/('8.юрид-в нацвал'!B51+'12.юрид-в инвал'!B51) -> 19.438125 | F51: =H51+J51+L51+N51+P51+R51 -> 58679 | G51: =(H51*I51+J51*K51+L51*M51+N51*O51+P51*Q51+R51*S51)/(H51+J51+L51+N51+P51+R51) -> 19.438125 | H51: ='8.юрид-в нацвал'!H51+'12.юрид-в инвал'!H51 -> 8832.5 | I51: =('8.юрид-в нацвал'!H51*'8.юрид-в нацвал'!I51+'12.юрид-в инвал'!H51*'12.юрид-в инвал'!I51)/('8.юрид-в нацвал'!H51+'12.юрид-в инвал'!H51) -> 6.6493179 | J51: ='8.юрид-в нацвал'!J51+'12.юрид-в инвал'!J51 -> 40967.8 | K51: =('8.юрид-в нацвал'!J51*'8.юрид-в нацвал'!K51+'12.юрид-в инвал'!J51*'12.юрид-в инвал'!K51)/('8.юрид-в нацвал'!J51+'12.юрид-в инвал'!J51) -> 21.68458 | L51: ='8.юрид-в нацвал'!L51+'12.юрид-в инвал'!L51 -> 7376.7 | M51: =('8.юрид-в нацвал'!L51*'8.юрид-в нацвал'!M51+'12.юрид-в инвал'!L51*'12.юрид-в инвал'!M51)/('8.юрид-в нацвал'!L51+'12.юрид-в инвал'!L51) -> 18.143547 | N51: ='8.юрид-в нацвал'!N51+'12.юрид-в инвал'!N51 -> 1502 | O51: =('8.юрид-в нацвал'!N51*'8.юрид-в нацвал'!O51+'12.юрид-в инвал'!N51*'12.юрид-в инвал'!O51)/('8.юрид-в нацвал'!N51+'12.юрид-в инвал'!N51) -> 39.72743
A52: Август | B52: ='8.юрид-в нацвал'!B52+'12.юрид-в инвал'!B52 -> 210510.1 | C52: =('8.юрид-в нацвал'!B52*'8.юрид-в нацвал'!C52+'12.юрид-в инвал'!B52*'12.юрид-в инвал'!C52)/('8.юрид-в нацвал'!B52+'12.юрид-в инвал'!B52) -> 6.3945511 | F52: =H52+J52+L52+N52+P52+R52 -> 210510.1 | G52: =(H52*I52+J52*K52+L52*M52+N52*O52+P52*Q52+R52*S52)/(H52+J52+L52+N52+P52+R52) -> 6.3945511 | H52: ='8.юрид-в нацвал'!H52+'12.юрид-в инвал'!H52 -> 163757 | I52: =('8.юрид-в нацвал'!H52*'8.юрид-в нацвал'!I52+'12.юрид-в инвал'!H52*'12.юрид-в инвал'!I52)/('8.юрид-в нацвал'!H52+'12.юрид-в инвал'!H52) -> 3.8291969 | J52: ='8.юрид-в нацвал'!J52+'12.юрид-в инвал'!J52 -> 19563 | K52: =('8.юрид-в нацвал'!J52*'8.юрид-в нацвал'!K52+'12.юрид-в инвал'!J52*'12.юрид-в инвал'!K52)/('8.юрид-в нацвал'!J52+'12.юрид-в инвал'!J52) -> 22.437704 | L52: ='8.юрид-в нацвал'!L52+'12.юрид-в инвал'!L52 -> 27179.1 | M52: =('8.юрид-в нацвал'!L52*'8.юрид-в нацвал'!M52+'12.юрид-в инвал'!L52*'12.юрид-в инвал'!M52)/('8.юрид-в нацвал'!L52+'12.юрид-в инвал'!L52) -> 10.302224 | N52: ='8.юрид-в нацвал'!N52+'12.юрид-в инвал'!N52 -> 11 | O52: =('8.юрид-в нацвал'!N52*'8.юрид-в нацвал'!O52+'12.юрид-в инвал'!N52*'12.юрид-в инвал'!O52)/('8.юрид-в нацвал'!N52+'12.юрид-в инвал'!N52) -> 9.6181818
A53: Сентябрь | B53: ='8.юрид-в нацвал'!B53+'12.юрид-в инвал'!B53 -> 183376.2 | C53: =('8.юрид-в нацвал'!B53*'8.юрид-в нацвал'!C53+'12.юрид-в инвал'!B53*'12.юрид-в инвал'!C53)/('8.юрид-в нацвал'!B53+'12.юрид-в инвал'!B53) -> 6.2263702 | F53: =H53+J53+L53+N53+P53+R53 -> 183376.2 | G53: =(H53*I53+J53*K53+L53*M53+N53*O53+P53*Q53+R53*S53)/(H53+J53+L53+N53+P53+R53) -> 6.2263702 | H53: ='8.юрид-в нацвал'!H53+'12.юрид-в инвал'!H53 -> 144261.3 | I53: =('8.юрид-в нацвал'!H53*'8.юрид-в нацвал'!I53+'12.юрид-в инвал'!H53*'12.юрид-в инвал'!I53)/('8.юрид-в нацвал'!H53+'12.юрид-в инвал'!H53) -> 4.2522049 | J53: ='8.юрид-в нацвал'!J53+'12.юрид-в инвал'!J53 -> 10576 | K53: =('8.юрид-в нацвал'!J53*'8.юрид-в нацвал'!K53+'12.юрид-в инвал'!J53*'12.юрид-в инвал'!K53)/('8.юрид-в нацвал'!J53+'12.юрид-в инвал'!J53) -> 17.799276 | L53: ='8.юрид-в нацвал'!L53+'12.юрид-в инвал'!L53 -> 27938.9 | M53: =('8.юрид-в нацвал'!L53*'8.юрид-в нацвал'!M53+'12.юрид-в инвал'!L53*'12.юрид-в инвал'!M53)/('8.юрид-в нацвал'!L53+'12.юрид-в инвал'!L53) -> 11.206396 | N53: ='8.юрид-в нацвал'!N53+'12.юрид-в инвал'!N53 -> 600 | O53: =('8.юрид-в нацвал'!N53*'8.юрид-в нацвал'!O53+'12.юрид-в инвал'!N53*'12.юрид-в инвал'!O53)/('8.юрид-в нацвал'!N53+'12.юрид-в инвал'!N53) -> 45
A54: Октябрь | B54: ='8.юрид-в нацвал'!B54+'12.юрид-в инвал'!B54 -> 163780.8 | C54: =('8.юрид-в нацвал'!B54*'8.юрид-в нацвал'!C54+'12.юрид-в инвал'!B54*'12.юрид-в инвал'!C54)/('8.юрид-в нацвал'!B54+'12.юрид-в инвал'!B54) -> 9.1129475 | F54: =H54+J54+L54+N54+P54+R54 -> 163780.8 | G54: =(H54*I54+J54*K54+L54*M54+N54*O54+P54*Q54+R54*S54)/(H54+J54+L54+N54+P54+R54) -> 9.1129475 | H54: ='8.юрид-в нацвал'!H54+'12.юрид-в инвал'!H54 -> 113493.4 | I54: =('8.юрид-в нацвал'!H54*'8.юрид-в нацвал'!I54+'12.юрид-в инвал'!H54*'12.юрид-в инвал'!I54)/('8.юрид-в нацвал'!H54+'12.юрид-в инвал'!H54) -> 3.6533931 | J54: ='8.юрид-в нацвал'!J54+'12.юрид-в инвал'!J54 -> 27702.8 | K54: =('8.юрид-в нацвал'!J54*'8.юрид-в нацвал'!K54+'12.юрид-в инвал'!J54*'12.юрид-в инвал'!K54)/('8.юрид-в нацвал'!J54+'12.юрид-в инвал'!J54) -> 26.933093 | L54: ='8.юрид-в нацвал'!L54+'12.юрид-в инвал'!L54 -> 21049.6 | M54: =('8.юрид-в нацвал'!L54*'8.юрид-в нацвал'!M54+'12.юрид-в инвал'!L54*'12.юрид-в инвал'!M54)/('8.юрид-в нацвал'!L54+'12.юрид-в инвал'!L54) -> 12.657853 | N54: ='8.юрид-в нацвал'!N54+'12.юрид-в инвал'!N54 -> 1535 | O54: =('8.юрид-в нацвал'!N54*'8.юрид-в нацвал'!O54+'12.юрид-в инвал'!N54*'12.юрид-в инвал'!O54)/('8.юрид-в нацвал'!N54+'12.юрид-в инвал'!N54) -> 42.557003
A55: Ноябрь | B55: ='8.юрид-в нацвал'!B55+'12.юрид-в инвал'!B55 -> 107318.5 | C55: =('8.юрид-в нацвал'!B55*'8.юрид-в нацвал'!C55+'12.юрид-в инвал'!B55*'12.юрид-в инвал'!C55)/('8.юрид-в нацвал'!B55+'12.юрид-в инвал'!B55) -> 7.2687607 | F55: =H55+J55+L55+N55+P55+R55 -> 107318.5 | G55: =(H55*I55+J55*K55+L55*M55+N55*O55+P55*Q55+R55*S55)/(H55+J55+L55+N55+P55+R55) -> 7.2687607 | H55: ='8.юрид-в нацвал'!H55+'12.юрид-в инвал'!H55 -> 90844.2 | I55: =('8.юрид-в нацвал'!H55*'8.юрид-в нацвал'!I55+'12.юрид-в инвал'!H55*'12.юрид-в инвал'!I55)/('8.юрид-в нацвал'!H55+'12.юрид-в инвал'!H55) -> 5.0000716 | J55: ='8.юрид-в нацвал'!J55+'12.юрид-в инвал'!J55 -> 5232 | K55: =('8.юрид-в нацвал'!J55*'8.юрид-в нацвал'!K55+'12.юрид-в инвал'!J55*'12.юрид-в инвал'!K55)/('8.юрид-в нацвал'!J55+'12.юрид-в инвал'!J55) -> 24.691323 | L55: ='8.юрид-в нацвал'!L55+'12.юрид-в инвал'!L55 -> 11035.3 | M55: =('8.юрид-в нацвал'!L55*'8.юрид-в нацвал'!M55+'12.юрид-в инвал'!L55*'12.юрид-в инвал'!M55)/('8.юрид-в нацвал'!L55+'12.юрид-в инвал'!L55) -> 17.165822 | N55: ='8.юрид-в нацвал'!N55+'12.юрид-в инвал'!N55 -> 207 | O55: =('8.юрид-в нацвал'!N55*'8.юрид-в нацвал'!O55+'12.юрид-в инвал'!N55*'12.юрид-в инвал'!O55)/('8.юрид-в нацвал'!N55+'12.юрид-в инвал'!N55) -> 34.927536
A56: Декабрь | B56: ='8.юрид-в нацвал'!B56+'12.юрид-в инвал'!B56 -> 71578.1 | C56: =('8.юрид-в нацвал'!B56*'8.юрид-в нацвал'!C56+'12.юрид-в инвал'!B56*'12.юрид-в инвал'!C56)/('8.юрид-в нацвал'!B56+'12.юрид-в инвал'!B56) -> 19.803361 | F56: =H56+J56+L56+N56+P56+R56 -> 71578.1 | G56: =(H56*I56+J56*K56+L56*M56+N56*O56+P56*Q56+R56*S56)/(H56+J56+L56+N56+P56+R56) -> 19.803361 | H56: ='8.юрид-в нацвал'!H56+'12.юрид-в инвал'!H56 -> 14798.4 | I56: =('8.юрид-в нацвал'!H56*'8.юрид-в нацвал'!I56+'12.юрид-в инвал'!H56*'12.юрид-в инвал'!I56)/('8.юрид-в нацвал'!H56+'12.юрид-в инвал'!H56) -> 4.9906341 | J56: ='8.юрид-в нацвал'!J56+'12.юрид-в инвал'!J56 -> 18682.2 | K56: =('8.юрид-в нацвал'!J56*'8.юрид-в нацвал'!K56+'12.юрид-в инвал'!J56*'12.юрид-в инвал'!K56)/('8.юрид-в нацвал'!J56+'12.юрид-в инвал'!J56) -> 14.033398 | L56: ='8.юрид-в нацвал'!L56+'12.юрид-в инвал'!L56 -> 37795.4 | M56: =('8.юрид-в нацвал'!L56*'8.юрид-в нацвал'!M56+'12.юрид-в инвал'!L56*'12.юрид-в инвал'!M56)/('8.юрид-в нацвал'!L56+'12.юрид-в инвал'!L56) -> 28.337565 | N56: ='8.юрид-в нацвал'!N56+'12.юрид-в инвал'!N56 -> 282.1 | O56: =('8.юрид-в нацвал'!N56*'8.юрид-в нацвал'!O56+'12.юрид-в инвал'!N56*'12.юрид-в инвал'!O56)/('8.юрид-в нацвал'!N56+'12.юрид-в инвал'!N56) -> 34.133995 | P56: ='8.юрид-в нацвал'!P56+'12.юрид-в инвал'!P56 -> 20 | Q56: =('8.юрид-в нацвал'!P56*'8.юрид-в нацвал'!Q56+'12.юрид-в инвал'!P56*'12.юрид-в инвал'!Q56)/('8.юрид-в нацвал'!P56+'12.юрид-в инвал'!P56) -> 40
