Workbook

Sheet 1.общ.депозиты
A1: Раздел "Статистика" / "Банковская статистика" / "Вновь принятые коммерческими банками депозиты, за период"
A3: Таблица 1. Динамика вновь принятых депозитов в действующих коммерческих банках
A5: (тыс. сомов / проценты)
A6: Период | B6: Общий объем | C6: Средневз. ставка | D6: в том числе:
D7: в нац.валюте | F7: в иностр.валюте
D8: объем | E8: ставка | F8: объем | G8: ставка
A9: Январь 1996 г. | B9: ='2.общ.по срокам'!B9 -> 44120.1 | C9: ='2.общ.по срокам'!C9 -> 30.051715 | D9: ='6.по срокам в нацвал'!B9 -> 34495.6 | E9: ='6.по срокам в нацвал'!C9 -> 32.269946 | F9: ='10.по срокам в инвал'!B9 -> 9624.5 | G9: ='10.по срокам в инвал'!C9 -> 22.101252
A10: Февраль | B10: ='2.общ.по срокам'!B10 -> 44864.9 | C10: ='2.общ.по срокам'!C10 -> 29.080911 | D10: ='6.по срокам в нацвал'!B10 -> 35005.7 | E10: ='6.по срокам в нацвал'!C10 -> 30.598378 | F10: ='10.по срокам в инвал'!B10 -> 9859.2 | G10: ='10.по срокам в инвал'!C10 -> 23.693052
A11: Март | B11: ='2.общ.по срокам'!B11 -> 47498.9 | C11: ='2.общ.по срокам'!C11 -> 26.537801 | D11: ='6.по срокам в нацвал'!B11 -> 31495.5 | E11: ='6.по срокам в нацвал'!C11 -> 28.254392 | F11: ='10.по срокам в инвал'!B11 -> 16003.4 | G11: ='10.по срокам в инвал'!C11 -> 23.159463
A12: Апрель | B12: ='2.общ.по срокам'!B12 -> 51267.3 | C12: ='2.общ.по срокам'!C12 -> 26.000049 | D12: ='6.по срокам в нацвал'!B12 -> 35798.9 | E12: ='6.по срокам в нацвал'!C12 -> 29.333887 | F12: ='10.по срокам в инвал'!B12 -> 15468.4 | G12: ='10.по срокам в инвал'!C12 -> 18.284466
A13: Май | B13: ='2.общ.по срокам'!B13 -> 60538.8 | C13: ='2.общ.по срокам'!C13 -> 27.689793 | D13: ='6.по срокам в нацвал'!B13 -> 43233.9 | E13: ='6.по срокам в нацвал'!C13 -> 32.05947 | F13: ='10.по срокам в инвал'!B13 -> 17304.9 | G13: ='10.по срокам в инвал'!C13 -> 16.772758
A14: Июнь | B14: ='2.общ.по срокам'!B14 -> 50133.5 | C14: ='2.общ.по срокам'!C14 -> 22.57934 | D14: ='6.по срокам в нацвал'!B14 -> 20848.8 | E14: ='6.по срокам в нацвал'!C14 -> 30.84791 | F14: ='10.по срокам в инвал'!B14 -> 29284.7 | G14: ='10.по срокам в инвал'!C14 -> 16.692656
A15: Июль | B15: ='2.общ.по срокам'!B15 -> 50764.3 | C15: ='2.общ.по срокам'!C15 -> 24.129365 | D15: ='6.по срокам в нацвал'!B15 -> 33992.2 | E15: ='6.по срокам в нацвал'!C15 -> 30.36971 | F15: ='10.по срокам в инвал'!B15 -> 16772.1 | G15: ='10.по срокам в инвал'!C15 -> 11.481989
A16: Август | B16: ='2.общ.по срокам'!B16 -> 84460.6 | C16: ='2.общ.по срокам'!C16 -> 18.738324 | D16: ='6.по срокам в нацвал'!B16 -> 29397.7 | E16: ='6.по срокам в нацвал'!C16 -> 32.652997 | F16: ='10.по срокам в инвал'!B16 -> 55062.9 | G16: ='10.по срокам в инвал'!C16 -> 11.309377
A17: Сентябрь | B17: ='2.общ.по срокам'!B17 -> 60079.8 | C17: ='2.общ.по срокам'!C17 -> 25.757067 | D17: ='6.по срокам в нацвал'!B17 -> 31982.7 | E17: ='6.по срокам в нацвал'!C17 -> 32.981176 | F17: ='10.по срокам в инвал'!B17 -> 28097.1 | G17: ='10.по срокам в инвал'!C17 -> 17.533922
A18: Октябрь | B18: ='2.общ.по срокам'!B18 -> 90226.5 | C18: ='2.общ.по срокам'!C18 -> 24.966312 | D18: ='6.по срокам в нацвал'!B18 -> 44505.9 | E18: ='6.по срокам в нацвал'!C18 -> 38.831866 | F18: ='10.по срокам в инвал'!B18 -> 45720.6 | G18: ='10.по срокам в инвал'!C18 -> 11.469137
A19: Ноябрь | B19: ='2.общ.по срокам'!B19 -> 77709.3 | C19: ='2.общ.по срокам'!C19 -> 21.521011 | D19: ='6.по срокам в нацвал'!B19 -> 47523.2 | E19: ='6.по срокам в нацвал'!C19 -> 25.520296 | F19: ='10.по срокам в инвал'!B19 -> 30186.1 | G19: ='10.по срокам в инвал'!C19 -> 15.224774
A20: Декабрь | B20: ='2.общ.по срокам'!B20 -> 69039.9 | C20: ='2.общ.по срокам'!C20 -> 20.399741 | D20: ='6.по срокам в нацвал'!B20 -> 39096.3 | E20: ='6.по срокам в нацвал'!C20 -> 24.757752 | F20: ='10.по срокам в инвал'!B20 -> 29943.6 | G20: ='10.по срокам в инвал'!C20 -> 14.70964
... A380: Декабрь | B380: ='2.общ.по срокам'!B380 -> 0 | C380: ='2.общ.по срокам'!C380 -> #DIV/0! | D380: ='6.по срокам в нацвал'!B380 -> 0 | E380: ='6.по срокам в нацвал'!C380 -> #DIV/0! | F380: ='10.по срокам в инвал'!B380 -> 0 | G380: ='10.по срокам в инвал'!C380 -> #DIV/0!
A381: *- предварительные данные

Sheet 2.общ.по срокам
A1: Раздел "Статистика" / "Банковская статистика" / "Вновь принятые коммерческими банками депозиты, за период"
A3: Таблица 2. Общий объем и средневзвешенные ставки депозитов, вновь принятыми коммерческими банками (за период)*
A5: (тыс. сомов / проценты)
A6: Период | B6: Общий объем | C6: Средневз. cтавка | D6: До востребования | F6: Срочные депозиты | H6: в том числе, по срокам:
H7: 0 - 1 месяца | J7: 1 - 3 месяца | L7: 3 - 6 месяцев | N7: 6 - 12 месяцев | P7: 1 - 3 года | R7: более 3 лет
D8: объем | E8: средневзв. ставка | F8: объем | G8: средневзв. ставка | H8: объем | I8: средневзв. ставка | J8: объем | K8: средневзв. ставка | L8: объем | M8: средневзв. ставка | N8: объем | O8: средневзв. ставка | P8: объем | Q8: средневзв. ставка | R8: объем | S8: средневзв. ставка
A9: Январь 1996 г. | B9: ='3.физ-всего'!B9+'4.юрид-всего'!B9 -> 44120.1 | C9: =('3.физ-всего'!B9*'3.физ-всего'!C9+'4.юрид-всего'!B9*'4.юрид-всего'!C9)/('3.физ-всего'!B9+'4.юрид-всего'!B9) -> 30.051715 | D9: ='3.физ-всего'!D9+'4.юрид-всего'!D9 -> 9281 | E9: =('3.физ-всего'!D9*'3.физ-всего'!E9+'4.юрид-всего'!D9*'4.юрид-всего'!E9)/('3.физ-всего'!D9+'4.юрид-всего'!D9) -> 27.565855 | F9: =H9+J9+L9+N9+P9+R9 -> 34839.1 | G9: =(H9*I9+J9*K9+L9*M9+N9*O9+P9*Q9+R9*S9)/(H9+J9+L9+N9+P9+R9) -> 30.713938 | H9: ='3.физ-всего'!H9+'4.юрид-всего'!H9 -> 2291 | I9: =('3.физ-всего'!H9*'3.физ-всего'!I9+'4.юрид-всего'!H9*'4.юрид-всего'!I9)/('3.физ-всего'!H9+'4.юрид-всего'!H9) -> 7.2378874 | J9: ='3.физ-всего'!J9+'4.юрид-всего'!J9 -> 12145.6 | K9: =('3.физ-всего'!J9*'3.физ-всего'!K9+'4.юрид-всего'!J9*'4.юрид-всего'!K9)/('3.физ-всего'!J9+'4.юрид-всего'!J9) -> 30.215864 | L9: ='3.физ-всего'!L9+'4.юрид-всего'!L9 -> 16147.3 | M9: =('3.физ-всего'!L9*'3.физ-всего'!M9+'4.юрид-всего'!L9*'4.юрид-всего'!M9)/('3.физ-всего'!L9+'4.юрид-всего'!L9) -> 32.691825 | N9: ='3.физ-всего'!N9+'4.юрид-всего'!N9 -> 3854 | O9: =('3.физ-всего'!N9*'3.физ-всего'!O9+'4.юрид-всего'!N9*'4.юрид-всего'!O9)/('3.физ-всего'!N9+'4.юрид-всего'!N9) -> 36.987208 | P9: ='3.физ-всего'!P9+'4.юрид-всего'!P9 -> 401.2 | Q9: =('3.физ-всего'!P9*'3.физ-всего'!Q9+'4.юрид-всего'!P9*'4.юрид-всего'!Q9)/('3.физ-всего'!P9+'4.юрид-всего'!P9) -> 39.981954
A10: Февраль | B10: ='3.физ-всего'!B10+'4.юрид-всего'!B10 -> 44864.9 | C10: =('3.физ-всего'!B10*'3.физ-всего'!C10+'4.юрид-всего'!B10*'4.юрид-всего'!C10)/('3.физ-всего'!B10+'4.юрид-всего'!B10) -> 29.080911 | D10: ='3.физ-всего'!D10+'4.юрид-всего'!D10 -> 10774.3 | E10: =('3.физ-всего'!D10*'3.физ-всего'!E10+'4.юрид-всего'!D10*'4.юрид-всего'!E10)/('3.физ-всего'!D10+'4.юрид-всего'!D10) -> 21.689084 | F10: =H10+J10+L10+N10+P10+R10 -> 34090.6 | G10: =(H10*I10+J10*K10+L10*M10+N10*O10+P10*Q10+R10*S10)/(H10+J10+L10+N10+P10+R10) -> 31.417091 | H10: ='3.физ-всего'!H10+'4.юрид-всего'!H10 -> 695.5 | I10: =('3.физ-всего'!H10*'3.физ-всего'!I10+'4.юрид-всего'!H10*'4.юрид-всего'!I10)/('3.физ-всего'!H10+'4.юрид-всего'!H10) -> 27.881524 | J10: ='3.физ-всего'!J10+'4.юрид-всего'!J10 -> 14593 | K10: =('3.физ-всего'!J10*'3.физ-всего'!K10+'4.юрид-всего'!J10*'4.юрид-всего'!K10)/('3.физ-всего'!J10+'4.юрид-всего'!J10) -> 26.031555 | L10: ='3.физ-всего'!L10+'4.юрид-всего'!L10 -> 14365.6 | M10: =('3.физ-всего'!L10*'3.физ-всего'!M10+'4.юрид-всего'!L10*'4.юрид-всего'!M10)/('3.физ-всего'!L10+'4.юрид-всего'!L10) -> 36.22843 | N10: ='3.физ-всего'!N10+'4.юрид-всего'!N10 -> 4050.5 | O10: =('3.физ-всего'!N10*'3.физ-всего'!O10+'4.юрид-всего'!N10*'4.юрид-всего'!O10)/('3.физ-всего'!N10+'4.юрид-всего'!N10) -> 33.713393 | P10: ='3.физ-всего'!P10+'4.юрид-всего'!P10 -> 386 | Q10: =('3.физ-всего'!P10*'3.физ-всего'!Q10+'4.юрид-всего'!P10*'4.юрид-всего'!Q10)/('3.физ-всего'!P10+'4.юрид-всего'!P10) -> 38.233575
A11: Март | B11: ='3.физ-всего'!B11+'4.юрид-всего'!B11 -> 47498.9 | C11: =('3.физ-всего'!B11*'3.физ-всего'!C11+'4.юрид-всего'!B11*'4.юрид-всего'!C11)/('3.физ-всего'!B11+'4.юрид-всего'!B11) -> 26.537801 | D11: ='3.физ-всего'!D11+'4.юрид-всего'!D11 -> 12078.4 | E11: =('3.физ-всего'!D11*'3.физ-всего'!E11+'4.юрид-всего'!D11*'4.юрид-всего'!E11)/('3.физ-всего'!D11+'4.юрид-всего'!D11) -> 19.656685 | F11: =H11+J11+L11+N11+P11+R11 -> 35420.5 | G11: =(H11*I11+J11*K11+L11*M11+N11*O11+P11*Q11+R11*S11)/(H11+J11+L11+N11+P11+R11) -> 28.884263 | H11: ='3.физ-всего'!H11+'4.юрид-всего'!H11 -> 2892.7 | I11: =('3.физ-всего'!H11*'3.физ-всего'!I11+'4.юрид-всего'!H11*'4.юрид-всего'!I11)/('3.физ-всего'!H11+'4.юрид-всего'!H11) -> 43.150171 | J11: ='3.физ-всего'!J11+'4.юрид-всего'!J11 -> 13505 | K11: =('3.физ-всего'!J11*'3.физ-всего'!K11+'4.юрид-всего'!J11*'4.юрид-всего'!K11)/('3.физ-всего'!J11+'4.юрид-всего'!J11) -> 24.040816 | L11: ='3.физ-всего'!L11+'4.юрид-всего'!L11 -> 14574.9 | M11: =('3.физ-всего'!L11*'3.физ-всего'!M11+'4.юрид-всего'!L11*'4.юрид-всего'!M11)/('3.физ-всего'!L11+'4.юрид-всего'!L11) -> 30.058273 | N11: ='3.физ-всего'!N11+'4.юрид-всего'!N11 -> 4221.3 | O11: =('3.физ-всего'!N11*'3.физ-всего'!O11+'4.юрид-всего'!N11*'4.юрид-всего'!O11)/('3.физ-всего'!N11+'4.юрид-всего'!N11) -> 30.725701 | P11: ='3.физ-всего'!P11+'4.юрид-всего'!P11 -> 226.6 | Q11: =('3.физ-всего'!P11*'3.физ-всего'!Q11+'4.юрид-всего'!P11*'4.юрид-всего'!Q11)/('3.физ-всего'!P11+'4.юрид-всего'!P11) -> 25.616064
A12: Апрель | B12: ='3.физ-всего'!B12+'4.юрид-всего'!B12 -> 51267.3 | C12: =('3.физ-всего'!B12*'3.физ-всего'!C12+'4.юрид-всего'!B12*'4.юрид-всего'!C12)/('3.физ-всего'!B12+'4.юрид-всего'!B12) -> 26.000049 | D12: ='3.физ-всего'!D12+'4.юрид-всего'!D12 -> 12672.3 | E12: =('3.физ-всего'!D12*'3.физ-всего'!E12+'4.юрид-всего'!D12*'4.юрид-всего'!E12)/('3.физ-всего'!D12+'4.юрид-всего'!D12) -> 22.143074 | F12: =H12+J12+L12+N12+P12+R12 -> 38595 | G12: =(H12*I12+J12*K12+L12*M12+N12*O12+P12*Q12+R12*S12)/(H12+J12+L12+N12+P12+R12) -> 27.26645 | H12: ='3.физ-всего'!H12+'4.юрид-всего'!H12 -> 3966.5 | I12: =('3.физ-всего'!H12*'3.физ-всего'!I12+'4.юрид-всего'!H12*'4.юрид-всего'!I12)/('3.физ-всего'!H12+'4.юрид-всего'!H12) -> 23.004039 | J12: ='3.физ-всего'!J12+'4.юрид-всего'!J12 -> 15075 | K12: =('3.физ-всего'!J12*'3.физ-всего'!K12+'4.юрид-всего'!J12*'4.юрид-всего'!K12)/('3.физ-всего'!J12+'4.юрид-всего'!J12) -> 27.637965 | L12: ='3.физ-всего'!L12+'4.юрид-всего'!L12 -> 13203.1 | M12: =('3.физ-всего'!L12*'3.физ-всего'!M12+'4.юрид-всего'!L12*'4.юрид-всего'!M12)/('3.физ-всего'!L12+'4.юрид-всего'!L12) -> 28.16965 | N12: ='3.физ-всего'!N12+'4.юрид-всего'!N12 -> 5969.1 | O12: =('3.физ-всего'!N12*'3.физ-всего'!O12+'4.юрид-всего'!N12*'4.юрид-всего'!O12)/('3.физ-всего'!N12+'4.юрид-всего'!N12) -> 26.54338 | P12: ='3.физ-всего'!P12+'4.юрид-всего'!P12 -> 381.3 | Q12: =('3.физ-всего'!P12*'3.физ-всего'!Q12+'4.юрид-всего'!P12*'4.юрид-всего'!Q12)/('3.физ-всего'!P12+'4.юрид-всего'!P12) -> 36.962995
A13: Май | B13: ='3.физ-всего'!B13+'4.юрид-всего'!B13 -> 60538.8 | C13: =('3.физ-всего'!B13*'3.физ-всего'!C13+'4.юрид-всего'!B13*'4.юрид-всего'!C13)/('3.физ-всего'!B13+'4.юрид-всего'!B13) -> 27.689793 | D13: ='3.физ-всего'!D13+'4.юрид-всего'!D13 -> 12246.6 | E13: =('3.физ-всего'!D13*'3.физ-всего'!E13+'4.юрид-всего'!D13*'4.юрид-всего'!E13)/('3.физ-всего'!D13+'4.юрид-всего'!D13) -> 23.410391 | F13: =H13+J13+L13+N13+P13+R13 -> 48292.2 | G13: =(H13*I13+J13*K13+L13*M13+N13*O13+P13*Q13+R13*S13)/(H13+J13+L13+N13+P13+R13) -> 28.775022 | H13: ='3.физ-всего'!H13+'4.юрид-всего'!H13 -> 1080.6 | I13: =('3.физ-всего'!H13*'3.физ-всего'!I13+'4.юрид-всего'!H13*'4.юрид-всего'!I13)/('3.физ-всего'!H13+'4.юрид-всего'!H13) -> 31.388567 | J13: ='3.физ-всего'!J13+'4.юрид-всего'!J13 -> 14679.3 | K13: =('3.физ-всего'!J13*'3.физ-всего'!K13+'4.юрид-всего'!J13*'4.юрид-всего'!K13)/('3.физ-всего'!J13+'4.юрид-всего'!J13) -> 24.869605 | L13: ='3.физ-всего'!L13+'4.юрид-всего'!L13 -> 14962 | M13: =('3.физ-всего'!L13*'3.физ-всего'!M13+'4.юрид-всего'!L13*'4.юрид-всего'!M13)/('3.физ-всего'!L13+'4.юрид-всего'!L13) -> 30.635506 | N13: ='3.физ-всего'!N13+'4.юрид-всего'!N13 -> 17337.5 | O13: =('3.физ-всего'!N13*'3.физ-всего'!O13+'4.юрид-всего'!N13*'4.юрид-всего'!O13)/('3.физ-всего'!N13+'4.юрид-всего'!N13) -> 30.205622 | P13: ='3.физ-всего'!P13+'4.юрид-всего'!P13 -> 232.8 | Q13: =('3.физ-всего'!P13*'3.физ-всего'!Q13+'4.юрид-всего'!P13*'4.юрид-всего'!Q13)/('3.физ-всего'!P13+'4.юрид-всего'!P13) -> 36.786254
A14: Июнь | B14: ='3.физ-всего'!B14+'4.юрид-всего'!B14 -> 50133.5 | C14: =('3.физ-всего'!B14*'3.физ-всего'!C14+'4.юрид-всего'!B14*'4.юрид-всего'!C14)/('3.физ-всего'!B14+'4.юрид-всего'!B14) -> 22.57934 | D14: ='3.физ-всего'!D14+'4.юрид-всего'!D14 -> 11851.4 | E14: =('3.физ-всего'!D14*'3.физ-всего'!E14+'4.юрид-всего'!D14*'4.юрид-всего'!E14)/('3.физ-всего'!D14+'4.юрид-всего'!D14) -> 17.045625 | F14: =H14+J14+L14+N14+P14+R14 -> 38282.1 | G14: =(H14*I14+J14*K14+L14*M14+N14*O14+P14*Q14+R14*S14)/(H14+J14+L14+N14+P14+R14) -> 24.292471 | H14: ='3.физ-всего'!H14+'4.юрид-всего'!H14 -> 1062.8 | I14: =('3.физ-всего'!H14*'3.физ-всего'!I14+'4.юрид-всего'!H14*'4.юрид-всего'!I14)/('3.физ-всего'!H14+'4.юрид-всего'!H14) -> 7.073297 | J14: ='3.физ-всего'!J14+'4.юрид-всего'!J14 -> 22184.6 | K14: =('3.физ-всего'!J14*'3.физ-всего'!K14+'4.юрид-всего'!J14*'4.юрид-всего'!K14)/('3.физ-всего'!J14+'4.юрид-всего'!J14) -> 22.694388 | L14: ='3.физ-всего'!L14+'4.юрид-всего'!L14 -> 9337.3 | M14: =('3.физ-всего'!L14*'3.физ-всего'!M14+'4.юрид-всего'!L14*'4.юрид-всего'!M14)/('3.физ-всего'!L14+'4.юрид-всего'!L14) -> 24.853945 | N14: ='3.физ-всего'!N14+'4.юрид-всего'!N14 -> 5458.2 | O14: =('3.физ-всего'!N14*'3.физ-всего'!O14+'4.юрид-всего'!N14*'4.юрид-всего'!O14)/('3.физ-всего'!N14+'4.юрид-всего'!N14) -> 33.159696 | P14: ='3.физ-всего'!P14+'4.юрид-всего'!P14 -> 239.2 | Q14: =('3.физ-всего'!P14*'3.физ-всего'!Q14+'4.юрид-всего'!P14*'4.юрид-всего'!Q14)/('3.физ-всего'!P14+'4.юрид-всего'!P14) -> 24.759197
A15: Июль | B15: ='3.физ-всего'!B15+'4.юрид-всего'!B15 -> 50764.3 | C15: =('3.физ-всего'!B15*'3.физ-всего'!C15+'4.юрид-всего'!B15*'4.юрид-всего'!C15)/('3.физ-всего'!B15+'4.юрид-всего'!B15) -> 24.129365 | D15: ='3.физ-всего'!D15+'4.юрид-всего'!D15 -> 13175.4 | E15: =('3.физ-всего'!D15*'3.физ-всего'!E15+'4.юрид-всего'!D15*'4.юрид-всего'!E15)/('3.физ-всего'!D15+'4.юрид-всего'!D15) -> 12.477743 | F15: =H15+J15+L15+N15+P15+R15 -> 37588.9 | G15: =(H15*I15+J15*K15+L15*M15+N15*O15+P15*Q15+R15*S15)/(H15+J15+L15+N15+P15+R15) -> 28.213411 | H15: ='3.физ-всего'!H15+'4.юрид-всего'!H15 -> 3808.1 | I15: =('3.физ-всего'!H15*'3.физ-всего'!I15+'4.юрид-всего'!H15*'4.юрид-всего'!I15)/('3.физ-всего'!H15+'4.юрид-всего'!H15) -> 3.0807489 | J15: ='3.физ-всего'!J15+'4.юрид-всего'!J15 -> 14782.2 | K15: =('3.физ-всего'!J15*'3.физ-всего'!K15+'4.юрид-всего'!J15*'4.юрид-всего'!K15)/('3.физ-всего'!J15+'4.юрид-всего'!J15) -> 31.170908 | L15: ='3.физ-всего'!L15+'4.юрид-всего'!L15 -> 11316.1 | M15: =('3.физ-всего'!L15*'3.физ-всего'!M15+'4.юрид-всего'!L15*'4.юрид-всего'!M15)/('3.физ-всего'!L15+'4.юрид-всего'!L15) -> 31.290608 | N15: ='3.физ-всего'!N15+'4.юрид-всего'!N15 -> 7205.5 | O15: =('3.физ-всего'!N15*'3.физ-всего'!O15+'4.юрид-всего'!N15*'4.юрид-всего'!O15)/('3.физ-всего'!N15+'4.юрид-всего'!N15) -> 29.901914 | P15: ='3.физ-всего'!P15+'4.юрид-всего'!P15 -> 477 | Q15: =('3.физ-всего'!P15*'3.физ-всего'!Q15+'4.юрид-всего'!P15*'4.юрид-всего'!Q15)/('3.физ-всего'!P15+'4.юрид-всего'!P15) -> 38.697694
A16: Август | B16: ='3.физ-всего'!B16+'4.юрид-всего'!B16 -> 84460.6 | C16: =('3.физ-всего'!B16*'3.физ-всего'!C16+'4.юрид-всего'!B16*'4.юрид-всего'!C16)/('3.физ-всего'!B16+'4.юрид-всего'!B16) -> 18.738324 | D16: ='3.физ-всего'!D16+'4.юрид-всего'!D16 -> 43051.7 | E16: =('3.физ-всего'!D16*'3.физ-всего'!E16+'4.юрид-всего'!D16*'4.юрид-всего'!E16)/('3.физ-всего'!D16+'4.юрид-всего'!D16) -> 8.2210795 | F16: =H16+J16+L16+N16+P16+R16 -> 41408.9 | G16: =(H16*I16+J16*K16+L16*M16+N16*O16+P16*Q16+R16*S16)/(H16+J16+L16+N16+P16+R16) -> 29.672815 | H16: ='3.физ-всего'!H16+'4.юрид-всего'!H16 -> 5350.1 | I16: =('3.физ-всего'!H16*'3.физ-всего'!I16+'4.юрид-всего'!H16*'4.юрид-всего'!I16)/('3.физ-всего'!H16+'4.юрид-всего'!H16) -> 9.5698622 | J16: ='3.физ-всего'!J16+'4.юрид-всего'!J16 -> 10884.9 | K16: =('3.физ-всего'!J16*'3.физ-всего'!K16+'4.юрид-всего'!J16*'4.юрид-всего'!K16)/('3.физ-всего'!J16+'4.юрид-всего'!J16) -> 29.503 | L16: ='3.физ-всего'!L16+'4.юрид-всего'!L16 -> 19978.9 | M16: =('3.физ-всего'!L16*'3.физ-всего'!M16+'4.юрид-всего'!L16*'4.юрид-всего'!M16)/('3.физ-всего'!L16+'4.юрид-всего'!L16) -> 35.106358 | N16: ='3.физ-всего'!N16+'4.юрид-всего'!N16 -> 4478.9 | O16: =('3.физ-всего'!N16*'3.физ-всего'!O16+'4.юрид-всего'!N16*'4.юрид-всего'!O16)/('3.физ-всего'!N16+'4.юрид-всего'!N16) -> 30.5331 | P16: ='3.физ-всего'!P16+'4.юрид-всего'!P16 -> 716.1 | Q16: =('3.физ-всего'!P16*'3.физ-всего'!Q16+'4.юрид-всего'!P16*'4.юрид-всего'!Q16)/('3.физ-всего'!P16+'4.юрид-всего'!P16) -> 25.472141
A17: Сентябрь | B17: ='3.физ-всего'!B17+'4.юрид-всего'!B17 -> 60079.8 | C17: =('3.физ-всего'!B17*'3.физ-всего'!C17+'4.юрид-всего'!B17*'4.юрид-всего'!C17)/('3.физ-всего'!B17+'4.юрид-всего'!B17) -> 25.757067 | D17: ='3.физ-всего'!D17+'4.юрид-всего'!D17 -> 10956.6 | E17: =('3.физ-всего'!D17*'3.физ-всего'!E17+'4.юрид-всего'!D17*'4.юрид-всего'!E17)/('3.физ-всего'!D17+'4.юрид-всего'!D17) -> 13.32431 | F17: =H17+J17+L17+N17+P17+R17 -> 49123.2 | G17: =(H17*I17+J17*K17+L17*M17+N17*O17+P17*Q17+R17*S17)/(H17+J17+L17+N17+P17+R17) -> 28.53011 | H17: ='3.физ-всего'!H17+'4.юрид-всего'!H17 -> 1413.6 | I17: =('3.физ-всего'!H17*'3.физ-всего'!I17+'4.юрид-всего'!H17*'4.юрид-всего'!I17)/('3.физ-всего'!H17+'4.юрид-всего'!H17) -> 3.7814092 | J17: ='3.физ-всего'!J17+'4.юрид-всего'!J17 -> 23652 | K17: =('3.физ-всего'!J17*'3.физ-всего'!K17+'4.юрид-всего'!J17*'4.юрид-всего'!K17)/('3.физ-всего'!J17+'4.юрид-всего'!J17) -> 24.879736 | L17: ='3.физ-всего'!L17+'4.юрид-всего'!L17 -> 16333.4 | M17: =('3.физ-всего'!L17*'3.физ-всего'!M17+'4.юрид-всего'!L17*'4.юрид-всего'!M17)/('3.физ-всего'!L17+'4.юрид-всего'!L17) -> 37.567138 | N17: ='3.физ-всего'!N17+'4.юрид-всего'!N17 -> 7596.4 | O17: =('3.физ-всего'!N17*'3.физ-всего'!O17+'4.юрид-всего'!N17*'4.юрид-всего'!O17)/('3.физ-всего'!N17+'4.юрид-всего'!N17) -> 25.062715 | P17: ='3.физ-всего'!P17+'4.юрид-всего'!P17 -> 127.8 | Q17: =('3.физ-всего'!P17*'3.физ-всего'!Q17+'4.юрид-всего'!P17*'4.юрид-всего'!Q17)/('3.физ-всего'!P17+'4.юрид-всего'!P17) -> 28.98169
A18: Октябрь | B18: ='3.физ-всего'!B18+'4.юрид-всего'!B18 -> 90226.5 | C18: =('3.физ-всего'!B18*'3.физ-всего'!C18+'4.юрид-всего'!B18*'4.юрид-всего'!C18)/('3.физ-всего'!B18+'4.юрид-всего'!B18) -> 24.966312 | D18: ='3.физ-всего'!D18+'4.юрид-всего'!D18 -> 37173.6 | E18: =('3.физ-всего'!D18*'3.физ-всего'!E18+'4.юрид-всего'!D18*'4.юрид-всего'!E18)/('3.физ-всего'!D18+'4.юрид-всего'!D18) -> 9.8071629 | F18: =H18+J18+L18+N18+P18+R18 -> 53052.9 | G18: =(H18*I18+J18*K18+L18*M18+N18*O18+P18*Q18+R18*S18)/(H18+J18+L18+N18+P18+R18) -> 35.588167 | H18: ='3.физ-всего'!H18+'4.юрид-всего'!H18 -> 2901.2 | I18: =('3.физ-всего'!H18*'3.физ-всего'!I18+'4.юрид-всего'!H18*'4.юрид-всего'!I18)/('3.физ-всего'!H18+'4.юрид-всего'!H18) -> 22.826072 | J18: ='3.физ-всего'!J18+'4.юрид-всего'!J18 -> 17291.1 | K18: =('3.физ-всего'!J18*'3.физ-всего'!K18+'4.юрид-всего'!J18*'4.юрид-всего'!K18)/('3.физ-всего'!J18+'4.юрид-всего'!J18) -> 28.075066 | L18: ='3.физ-всего'!L18+'4.юрид-всего'!L18 -> 29475.8 | M18: =('3.физ-всего'!L18*'3.физ-всего'!M18+'4.юрид-всего'!L18*'4.юрид-всего'!M18)/('3.физ-всего'!L18+'4.юрид-всего'!L18) -> 43.243029 | N18: ='3.физ-всего'!N18+'4.юрид-всего'!N18 -> 3135.4 | O18: =('3.физ-всего'!N18*'3.физ-всего'!O18+'4.юрид-всего'!N18*'4.юрид-всего'!O18)/('3.физ-всего'!N18+'4.юрид-всего'!N18) -> 18.623047 | P18: ='3.физ-всего'!P18+'4.юрид-всего'!P18 -> 249.4 | Q18: =('3.физ-всего'!P18*'3.физ-всего'!Q18+'4.юрид-всего'!P18*'4.юрид-всего'!Q18)/('3.физ-всего'!P18+'4.юрид-всего'!P18) -> 13.512751
A19: Ноябрь | B19: ='3.физ-всего'!B19+'4.юрид-всего'!B19 -> 77709.3 | C19: =('3.физ-всего'!B19*'3.физ-всего'!C19+'4.юрид-всего'!B19*'4.юрид-всего'!C19)/('3.физ-всего'!B19+'4.юрид-всего'!B19) -> 21.521011 | D19: ='3.физ-всего'!D19+'4.юрид-всего'!D19 -> 22973.7 | E19: =('3.физ-всего'!D19*'3.физ-всего'!E19+'4.юрид-всего'!D19*'4.юрид-всего'!E19)/('3.физ-всего'!D19+'4.юрид-всего'!D19) -> 13.248201 | F19: =H19+J19+L19+N19+P19+R19 -> 54735.6 | G19: =(H19*I19+J19*K19+L19*M19+N19*O19+P19*Q19+R19*S19)/(H19+J19+L19+N19+P19+R19) -> 24.993286 | H19: ='3.физ-всего'!H19+'4.юрид-всего'!H19 -> 10723.2 | I19: =('3.физ-всего'!H19*'3.физ-всего'!I19+'4.юрид-всего'!H19*'4.юрид-всего'!I19)/('3.физ-всего'!H19+'4.юрид-всего'!H19) -> 15.977973 | J19: ='3.физ-всего'!J19+'4.юрид-всего'!J19 -> 27986.5 | K19: =('3.физ-всего'!J19*'3.физ-всего'!K19+'4.юрид-всего'!J19*'4.юрид-всего'!K19)/('3.физ-всего'!J19+'4.юрид-всего'!J19) -> 24.887472 | L19: ='3.физ-всего'!L19+'4.юрид-всего'!L19 -> 15312.1 | M19: =('3.физ-всего'!L19*'3.физ-всего'!M19+'4.юрид-всего'!L19*'4.юрид-всего'!M19)/('3.физ-всего'!L19+'4.юрид-всего'!L19) -> 31.694986 | N19: ='3.физ-всего'!N19+'4.юрид-всего'!N19 -> 692.7 | O19: =('3.физ-всего'!N19*'3.физ-всего'!O19+'4.юрид-всего'!N19*'4.юрид-всего'!O19)/('3.физ-всего'!N19+'4.юрид-всего'!N19) -> 20.168096 | P19: ='3.физ-всего'!P19+'4.юрид-всего'!P19 -> 21.1 | Q19: =('3.физ-всего'!P19*'3.физ-всего'!Q19+'4.юрид-всего'!P19*'4.юрид-всего'!Q19)/('3.физ-всего'!P19+'4.юрид-всего'!P19) -> 42.037915
A20: Декабрь | B20: ='3.физ-всего'!B20+'4.юрид-всего'!B20 -> 69039.9 | C20: =('3.физ-всего'!B20*'3.физ-всего'!C20+'4.юрид-всего'!B20*'4.юрид-всего'!C20)/('3.физ-всего'!B20+'4.юрид-всего'!B20) -> 20.399741 | D20: ='3.физ-всего'!D20+'4.юрид-всего'!D20 -> 28713.1 | E20: =('3.физ-всего'!D20*'3.физ-всего'!E20+'4.юрид-всего'!D20*'4.юрид-всего'!E20)/('3.физ-всего'!D20+'4.юрид-всего'!D20) -> 8.7380841 | F20: =H20+J20+L20+N20+P20+R20 -> 40326.8 | G20: =(H20*I20+J20*K20+L20*M20+N20*O20+P20*Q20+R20*S20)/(H20+J20+L20+N20+P20+R20) -> 28.702961 | H20: ='3.физ-всего'!H20+'4.юрид-всего'!H20 -> 2858.3 | I20: =('3.физ-всего'!H20*'3.физ-всего'!I20+'4.юрид-всего'!H20*'4.юрид-всего'!I20)/('3.физ-всего'!H20+'4.юрид-всего'!H20) -> 18.706749 | J20: ='3.физ-всего'!J20+'4.юрид-всего'!J20 -> 16350.8 | K20: =('3.физ-всего'!J20*'3.физ-всего'!K20+'4.юрид-всего'!J20*'4.юрид-всего'!K20)/('3.физ-всего'!J20+'4.юрид-всего'!J20) -> 30.043679 | L20: ='3.физ-всего'!L20+'4.юрид-всего'!L20 -> 16919.7 | M20: =('3.физ-всего'!L20*'3.физ-всего'!M20+'4.юрид-всего'!L20*'4.юрид-всего'!M20)/('3.физ-всего'!L20+'4.юрид-всего'!L20) -> 27.948651 | N20: ='3.физ-всего'!N20+'4.юрид-всего'!N20 -> 4170.9 | O20: =('3.физ-всего'!N20*'3.физ-всего'!O20+'4.юрид-всего'!N20*'4.юрид-всего'!O20)/('3.физ-всего'!N20+'4.юрид-всего'!N20) -> 33.256528 | P20: ='3.физ-всего'!P20+'4.юрид-всего'!P20 -> 27.1 | Q20: =('3.физ-всего'!P20*'3.физ-всего'!Q20+'4.юрид-всего'!P20*'4.юрид-всего'!Q20)/('3.физ-всего'!P20+'4.юрид-всего'!P20) -> 44.223616
... A110: Июнь | B110: ='3.физ-всего'!B110+'4.юрид-всего'!B110 -> 7186362.3 | C110: =('3.физ-всего'!B110*'3.физ-всего'!C110+'4.юрид-всего'!B110*'4.юрид-всего'!C110)/('3.физ-всего'!B110+'4.юрид-всего'!B110) -> 0.44774262 | D110: ='3.физ-всего'!D110+'4.юрид-всего'!D110 -> 6808872.9 | E110: =('3.физ-всего'!D110*'3.физ-всего'!E110+'4.юрид-всего'!D110*'4.юрид-всего'!E110)/('3.физ-всего'!D110+'4.юрид-всего'!D110) -> 0.11246479 | F110: =H110+J110+L110+N110+P110+R110 -> 377489.4 | G110: =(H110*I110+J110*K110+L110*M110+N110*O110+P110*Q110+R110*S110)/(H110+J110+L110+N110+P110+R110) -> 6.4952346 | H110: ='3.физ-всего'!H110+'4.юрид-всего'!H110 -> 14992.8 | I110: =('3.физ-всего'!H110*'3.физ-всего'!I110+'4.юрид-всего'!H110*'4.юрид-всего'!I110)/('3.физ-всего'!H110+'4.юрид-всего'!H110) -> 0.98127301 | J110: ='3.физ-всего'!J110+'4.юрид-всего'!J110 -> 50101.1 | K110: =('3.физ-всего'!J110*'3.физ-всего'!K110+'4.юрид-всего'!J110*'4.юрид-всего'!K110)/('3.физ-всего'!J110+'4.юрид-всего'!J110) -> 4.342131 | L110: ='3.физ-всего'!L110+'4.юрид-всего'!L110 -> 42255.1 | M110: =('3.физ-всего'!L110*'3.физ-всего'!M110+'4.юрид-всего'!L110*'4.юрид-всего'!M110)/('3.физ-всего'!L110+'4.юрид-всего'!L110) -> 7.0670127 | N110: ='3.физ-всего'!N110+'4.юрид-всего'!N110 -> 30045.8 | O110: =('3.физ-всего'!N110*'3.физ-всего'!O110+'4.юрид-всего'!N110*'4.юрид-всего'!O110)/('3.физ-всего'!N110+'4.юрид-всего'!N110) -> 9.5463517 | P110: ='3.физ-всего'!P110+'4.юрид-всего'!P110 -> 240094.6 | Q110: =('3.физ-всего'!P110*'3.физ-всего'!Q110+'4.юрид-всего'!P110*'4.юрид-всего'!Q110)/('3.физ-всего'!P110+'4.юрид-всего'!P110) -> 6.8063985
A111: Июль | B111: ='3.физ-всего'!B111+'4.юрид-всего'!B111 -> 10822018 | C111: =('3.физ-всего'!B111*'3.физ-всего'!C111+'4.юрид-всего'!B111*'4.юрид-всего'!C111)/('3.физ-всего'!B111+'4.юрид-всего'!B111) -> 0.30889517 | D111: ='3.физ-всего'!D111+'4.юрид-всего'!D111 -> 10526255 | E111: =('3.физ-всего'!D111*'3.физ-всего'!E111+'4.юрид-всего'!D111*'4.юрид-всего'!E111)/('3.физ-всего'!D111+'4.юрид-всего'!D111) -> 0.10330682 | F111: =H111+J111+L111+N111+P111+R111 -> 295762.8 | G111: =(H111*I111+J111*K111+L111*M111+N111*O111+P111*Q111+R111*S111)/(H111+J111+L111+N111+P111+R111) -> 7.6258242 | H111: ='3.физ-всего'!H111+'4.юрид-всего'!H111 -> 13375.4 | I111: =('3.физ-всего'!H111*'3.физ-всего'!I111+'4.юрид-всего'!H111*'4.юрид-всего'!I111)/('3.физ-всего'!H111+'4.юрид-всего'!H111) -> 4.6248727 | J111: ='3.физ-всего'!J111+'4.юрид-всего'!J111 -> 79334.4 | K111: =('3.физ-всего'!J111*'3.физ-всего'!K111+'4.юрид-всего'!J111*'4.юрид-всего'!K111)/('3.физ-всего'!J111+'4.юрид-всего'!J111) -> 3.9179416 | L111: ='3.физ-всего'!L111+'4.юрид-всего'!L111 -> 45797.9 | M111: =('3.физ-всего'!L111*'3.физ-всего'!M111+'4.юрид-всего'!L111*'4.юрид-всего'!M111)/('3.физ-всего'!L111+'4.юрид-всего'!L111) -> 6.0345491 | N111: ='3.физ-всего'!N111+'4.юрид-всего'!N111 -> 71258 | O111: =('3.физ-всего'!N111*'3.физ-всего'!O111+'4.юрид-всего'!N111*'4.юрид-всего'!O111)/('3.физ-всего'!N111+'4.юрид-всего'!N111) -> 9.3701001 | P111: ='3.физ-всего'!P111+'4.юрид-всего'!P111 -> 85996.3 | Q111: =('3.физ-всего'!P111*'3.физ-всего'!Q111+'4.юрид-всего'!P111*'4.юрид-всего'!Q111)/('3.физ-всего'!P111+'4.юрид-всего'!P111) -> 10.915286 | R111: ='3.физ-всего'!R111+'4.юрид-всего'!R111 -> 0.8 | S111: =('3.физ-всего'!R111*'3.физ-всего'!S111+'4.юрид-всего'!R111*'4.юрид-всего'!S111)/('3.физ-всего'!R111+'4.юрид-всего'!R111) -> 12
A112: Август | B112: ='3.физ-всего'!B112+'4.юрид-всего'!B112 -> 12010770 | C112: =('3.физ-всего'!B112*'3.физ-всего'!C112+'4.юрид-всего'!B112*'4.юрид-всего'!C112)/('3.физ-всего'!B112+'4.юрид-всего'!B112) -> 0.2336798 | D112: ='3.физ-всего'!D112+'4.юрид-всего'!D112 -> 11687927 | E112: =('3.физ-всего'!D112*'3.физ-всего'!E112+'4.юрид-всего'!D112*'4.юрид-всего'!E112)/('3.физ-всего'!D112+'4.юрид-всего'!D112) -> 0.055744169 | F112: =H112+J112+L112+N112+P112+R112 -> 322843.6 | G112: =(H112*I112+J112*K112+L112*M112+N112*O112+P112*Q112+R112*S112)/(H112+J112+L112+N112+P112+R112) -> 6.6754945 | H112: ='3.физ-всего'!H112+'4.юрид-всего'!H112 -> 12599.4 | I112: =('3.физ-всего'!H112*'3.физ-всего'!I112+'4.юрид-всего'!H112*'4.юрид-всего'!I112)/('3.физ-всего'!H112+'4.юрид-всего'!H112) -> 4.6357622 | J112: ='3.физ-всего'!J112+'4.юрид-всего'!J112 -> 78786 | K112: =('3.физ-всего'!J112*'3.физ-всего'!K112+'4.юрид-всего'!J112*'4.юрид-всего'!K112)/('3.физ-всего'!J112+'4.юрид-всего'!J112) -> 4.9885981 | L112: ='3.физ-всего'!L112+'4.юрид-всего'!L112 -> 46124.5 | M112: =('3.физ-всего'!L112*'3.физ-всего'!M112+'4.юрид-всего'!L112*'4.юрид-всего'!M112)/('3.физ-всего'!L112+'4.юрид-всего'!L112) -> 5.9439689 | N112: ='3.физ-всего'!N112+'4.юрид-всего'!N112 -> 44731.9 | O112: =('3.физ-всего'!N112*'3.физ-всего'!O112+'4.юрид-всего'!N112*'4.юрид-всего'!O112)/('3.физ-всего'!N112+'4.юрид-всего'!N112) -> 9.9050951 | P112: ='3.физ-всего'!P112+'4.юрид-всего'!P112 -> 140601.8 | Q112: =('3.физ-всего'!P112*'3.физ-всего'!Q112+'4.юрид-всего'!P112*'4.юрид-всего'!Q112)/('3.физ-всего'!P112+'4.юрид-всего'!P112) -> 7.0160186
A113: Сентябрь | B113: ='3.физ-всего'!B113+'4.юрид-всего'!B113 -> 11792089 | C113: =('3.физ-всего'!B113*'3.физ-всего'!C113+'4.юрид-всего'!B113*'4.юрид-всего'!C113)/('3.физ-всего'!B113+'4.юрид-всего'!B113) -> 0.32325857 | D113: ='3.физ-всего'!D113+'4.юрид-всего'!D113 -> 11298965 | E113: =('3.физ-всего'!D113*'3.физ-всего'!E113+'4.юрид-всего'!D113*'4.юрид-всего'!E113)/('3.физ-всего'!D113+'4.юрид-всего'!D113) -> 0.082070654 | F113: =H113+J113+L113+N113+P113+R113 -> 493124.5 | G113: =(H113*I113+J113*K113+L113*M113+N113*O113+P113*Q113+R113*S113)/(H113+J113+L113+N113+P113+R113) -> 5.8495987 | H113: ='3.физ-всего'!H113+'4.юрид-всего'!H113 -> 109492.5 | I113: =('3.физ-всего'!H113*'3.физ-всего'!I113+'4.юрид-всего'!H113*'4.юрид-всего'!I113)/('3.физ-всего'!H113+'4.юрид-всего'!H113) -> 2.6485366 | J113: ='3.физ-всего'!J113+'4.юрид-всего'!J113 -> 72538.7 | K113: =('3.физ-всего'!J113*'3.физ-всего'!K113+'4.юрид-всего'!J113*'4.юрид-всего'!K113)/('3.физ-всего'!J113+'4.юрид-всего'!J113) -> 3.8736384 | L113: ='3.физ-всего'!L113+'4.юрид-всего'!L113 -> 47898.2 | M113: =('3.физ-всего'!L113*'3.физ-всего'!M113+'4.юрид-всего'!L113*'4.юрид-всего'!M113)/('3.физ-всего'!L113+'4.юрид-всего'!L113) -> 8.6470853 | N113: ='3.физ-всего'!N113+'4.юрид-всего'!N113 -> 59130.2 | O113: =('3.физ-всего'!N113*'3.физ-всего'!O113+'4.юрид-всего'!N113*'4.юрид-всего'!O113)/('3.физ-всего'!N113+'4.юрид-всего'!N113) -> 7.8887279 | P113: ='3.физ-всего'!P113+'4.юрид-всего'!P113 -> 140941.6 | Q113: =('3.физ-всего'!P113*'3.физ-всего'!Q113+'4.юрид-всего'!P113*'4.юрид-всего'!Q113)/('3.физ-всего'!P113+'4.юрид-всего'!P113) -> 10.166987 | R113: ='3.физ-всего'!R113+'4.юрид-всего'!R113 -> 63123.3 | S113: =('3.физ-всего'!R113*'3.физ-всего'!S113+'4.юрид-всего'!R113*'4.юрид-всего'!S113)/('3.физ-всего'!R113+'4.юрид-всего'!R113) -> 5.7031239e-05
A114: Октябрь | B114: ='3.физ-всего'!B114+'4.юрид-всего'!B114 -> 12491343 | C114: =('3.физ-всего'!B114*'3.физ-всего'!C114+'4.юрид-всего'!B114*'4.юрид-всего'!C114)/('3.физ-всего'!B114+'4.юрид-всего'!B114) -> 0.44789463 | D114: ='3.физ-всего'!D114+'4.юрид-всего'!D114 -> 11645180 | E114: =('3.физ-всего'!D114*'3.физ-всего'!E114+'4.юрид-всего'!D114*'4.юрид-всего'!E114)/('3.физ-всего'!D114+'4.юрид-всего'!D114) -> 0.10094098 | F114: =H114+J114+L114+N114+P114+R114 -> 846163.2 | G114: =(H114*I114+J114*K114+L114*M114+N114*O114+P114*Q114+R114*S114)/(H114+J114+L114+N114+P114+R114) -> 5.2227864 | H114: ='3.физ-всего'!H114+'4.юрид-всего'!H114 -> 167684.8 | I114: =('3.физ-всего'!H114*'3.физ-всего'!I114+'4.юрид-всего'!H114*'4.юрид-всего'!I114)/('3.физ-всего'!H114+'4.юрид-всего'!H114) -> 1.6953882 | J114: ='3.физ-всего'!J114+'4.юрид-всего'!J114 -> 170073.4 | K114: =('3.физ-всего'!J114*'3.физ-всего'!K114+'4.юрид-всего'!J114*'4.юрид-всего'!K114)/('3.физ-всего'!J114+'4.юрид-всего'!J114) -> 3.2894521 | L114: ='3.физ-всего'!L114+'4.юрид-всего'!L114 -> 166610.6 | M114: =('3.физ-всего'!L114*'3.физ-всего'!M114+'4.юрид-всего'!L114*'4.юрид-всего'!M114)/('3.физ-всего'!L114+'4.юрид-всего'!L114) -> 5.9496984 | N114: ='3.физ-всего'!N114+'4.юрид-всего'!N114 -> 106012.2 | O114: =('3.физ-всего'!N114*'3.физ-всего'!O114+'4.юрид-всего'!N114*'4.юрид-всего'!O114)/('3.физ-всего'!N114+'4.юрид-всего'!N114) -> 7.388982 | P114: ='3.физ-всего'!P114+'4.юрид-всего'!P114 -> 235781.7 | Q114: =('3.физ-всего'!P114*'3.физ-всего'!Q114+'4.юрид-всего'!P114*'4.юрид-всего'!Q114)/('3.физ-всего'!P114+'4.юрид-всего'!P114) -> 7.6383343 | R114: ='3.физ-всего'!R114+'4.юрид-всего'!R114 -> 0.5 | S114: =('3.физ-всего'!R114*'3.физ-всего'!S114+'4.юрид-всего'!R114*'4.юрид-всего'!S114)/('3.физ-всего'!R114+'4.юрид-всего'!R114) -> 12
A115: Ноябрь | B115: ='3.физ-всего'!B115+'4.юрид-всего'!B115 -> 13252588 | C115: =('3.физ-всего'!B115*'3.физ-всего'!C115+'4.юрид-всего'!B115*'4.юрид-всего'!C115)/('3.физ-всего'!B115+'4.юрид-всего'!B115) -> 0.17619582 | D115: ='3.физ-всего'!D115+'4.юрид-всего'!D115 -> 12848765 | E115: =('3.физ-всего'!D115*'3.физ-всего'!E115+'4.юрид-всего'!D115*'4.юрид-всего'!E115)/('3.физ-всего'!D115+'4.юрид-всего'!D115) -> 0.01375013 | F115: =H115+J115+L115+N115+P115+R115 -> 403822.6 | G115: =(H115*I115+J115*K115+L115*M115+N115*O115+P115*Q115+R115*S115)/(H115+J115+L115+N115+P115+R115) -> 5.3448677 | H115: ='3.физ-всего'!H115+'4.юрид-всего'!H115 -> 125485.1 | I115: =('3.физ-всего'!H115*'3.физ-всего'!I115+'4.юрид-всего'!H115*'4.юрид-всего'!I115)/('3.физ-всего'!H115+'4.юрид-всего'!H115) -> 2.7670497 | J115: ='3.физ-всего'!J115+'4.юрид-всего'!J115 -> 74452.1 | K115: =('3.физ-всего'!J115*'3.физ-всего'!K115+'4.юрид-всего'!J115*'4.юрид-всего'!K115)/('3.физ-всего'!J115+'4.юрид-всего'!J115) -> 3.965842 | L115: ='3.физ-всего'!L115+'4.юрид-всего'!L115 -> 58535 | M115: =('3.физ-всего'!L115*'3.физ-всего'!M115+'4.юрид-всего'!L115*'4.юрид-всего'!M115)/('3.физ-всего'!L115+'4.юрид-всего'!L115) -> 6.0870633 | N115: ='3.физ-всего'!N115+'4.юрид-всего'!N115 -> 44649.3 | O115: =('3.физ-всего'!N115*'3.физ-всего'!O115+'4.юрид-всего'!N115*'4.юрид-всего'!O115)/('3.физ-всего'!N115+'4.юрид-всего'!N115) -> 9.5076702 | P115: ='3.физ-всего'!P115+'4.юрид-всего'!P115 -> 100700.8 | Q115: =('3.физ-всего'!P115*'3.физ-всего'!Q115+'4.юрид-всего'!P115*'4.юрид-всего'!Q115)/('3.физ-всего'!P115+'4.юрид-всего'!P115) -> 7.2995341 | R115: ='3.физ-всего'!R115+'4.юрид-всего'!R115 -> 0.3 | S115: =('3.физ-всего'!R115*'3.физ-всего'!S115+'4.юрид-всего'!R115*'4.юрид-всего'!S115)/('3.физ-всего'!R115+'4.юрид-всего'!R115) -> 12
A116: Декабрь | B116: ='3.физ-всего'!B116+'4.юрид-всего'!B116 -> 14854000 | C116: =('3.физ-всего'!B116*'3.физ-всего'!C116+'4.юрид-всего'!B116*'4.юрид-всего'!C116)/('3.физ-всего'!B116+'4.юрид-всего'!B116) -> 0.24472759 | D116: ='3.физ-всего'!D116+'4.юрид-всего'!D116 -> 14154988 | E116: =('3.физ-всего'!D116*'3.физ-всего'!E116+'4.юрид-всего'!D116*'4.юрид-всего'!E116)/('3.физ-всего'!D116+'4.юрид-всего'!D116) -> 0.017533398 | F116: =H116+J116+L116+N116+P116+R116 -> 699012 | G116: =(H116*I116+J116*K116+L116*M116+N116*O116+P116*Q116+R116*S116)/(H116+J116+L116+N116+P116+R116) -> 4.8454082 | H116: ='3.физ-всего'!H116+'4.юрид-всего'!H116 -> 158887.9 | I116: =('3.физ-всего'!H116*'3.физ-всего'!I116+'4.юрид-всего'!H116*'4.юрид-всего'!I116)/('3.физ-всего'!H116+'4.юрид-всего'!H116) -> 2.46083 | J116: ='3.физ-всего'!J116+'4.юрид-всего'!J116 -> 126142.6 | K116: =('3.физ-всего'!J116*'3.физ-всего'!K116+'4.юрид-всего'!J116*'4.юрид-всего'!K116)/('3.физ-всего'!J116+'4.юрид-всего'!J116) -> 3.8065781 | L116: ='3.физ-всего'!L116+'4.юрид-всего'!L116 -> 66566.5 | M116: =('3.физ-всего'!L116*'3.физ-всего'!M116+'4.юрид-всего'!L116*'4.юрид-всего'!M116)/('3.физ-всего'!L116+'4.юрид-всего'!L116) -> 7.5456316 | N116: ='3.физ-всего'!N116+'4.юрид-всего'!N116 -> 58228.8 | O116: =('3.физ-всего'!N116*'3.физ-всего'!O116+'4.юрид-всего'!N116*'4.юрид-всего'!O116)/('3.физ-всего'!N116+'4.юрид-всего'!N116) -> 8.9746048 | P116: ='3.физ-всего'!P116+'4.юрид-всего'!P116 -> 227720.7 | Q116: =('3.физ-всего'!P116*'3.физ-всего'!Q116+'4.юрид-всего'!P116*'4.юрид-всего'!Q116)/('3.физ-всего'!P116+'4.юрид-всего'!P116) -> 6.5471357 | R116: ='3.физ-всего'!R116+'4.юрид-всего'!R116 -> 61465.5 | S116: =('3.физ-всего'!R116*'3.физ-всего'!S116+'4.юрид-всего'!R116*'4.юрид-всего'!S116)/('3.физ-всего'!R116+'4.юрид-всего'!R116) -> 0.00074187959
A117: Январь 2005 г. | B117: ='3.физ-всего'!B117+'4.юрид-всего'!B117 -> 8854900.8 | C117: =('3.физ-всего'!B117*'3.физ-всего'!C117+'4.юрид-всего'!B117*'4.юрид-всего'!C117)/('3.физ-всего'!B117+'4.юрид-всего'!B117) -> 0.49379472 | D117: ='3.физ-всего'!D117+'4.юрид-всего'!D117 -> 7919923.9 | E117: =('3.физ-всего'!D117*'3.физ-всего'!E117+'4.юрид-всего'!D117*'4.юрид-всего'!E117)/('3.физ-всего'!D117+'4.юрид-всего'!D117) -> 0.0111707 | F117: =H117+J117+L117+N117+P117+R117 -> 934976.9 | G117: =(H117*I117+J117*K117+L117*M117+N117*O117+P117*Q117+R117*S117)/(H117+J117+L117+N117+P117+R117) -> 4.5819658 | H117: ='3.физ-всего'!H117+'4.юрид-всего'!H117 -> 126965.3 | I117: =('3.физ-всего'!H117*'3.физ-всего'!I117+'4.юрид-всего'!H117*'4.юрид-всего'!I117)/('3.физ-всего'!H117+'4.юрид-всего'!H117) -> 3.6816516 | J117: ='3.физ-всего'!J117+'4.юрид-всего'!J117 -> 72767.1 | K117: =('3.физ-всего'!J117*'3.физ-всего'!K117+'4.юрид-всего'!J117*'4.юрид-всего'!K117)/('3.физ-всего'!J117+'4.юрид-всего'!J117) -> 4.0885152 | L117: ='3.физ-всего'!L117+'4.юрид-всего'!L117 -> 111258.9 | M117: =('3.физ-всего'!L117*'3.физ-всего'!M117+'4.юрид-всего'!L117*'4.юрид-всего'!M117)/('3.физ-всего'!L117+'4.юрид-всего'!L117) -> 9.3513869 | N117: ='3.физ-всего'!N117+'4.юрид-всего'!N117 -> 50974.9 | O117: =('3.физ-всего'!N117*'3.физ-всего'!O117+'4.юрид-всего'!N117*'4.юрид-всего'!O117)/('3.физ-всего'!N117+'4.юрид-всего'!N117) -> 9.2653579 | P117: ='3.физ-всего'!P117+'4.юрид-всего'!P117 -> 573010.4 | Q117: =('3.физ-всего'!P117*'3.физ-всего'!Q117+'4.юрид-всего'!P117*'4.юрид-всего'!Q117)/('3.физ-всего'!P117+'4.юрид-всего'!P117) -> 3.5014224 | R117: ='3.физ-всего'!R117+'4.юрид-всего'!R117 -> 0.3 | S117: =('3.физ-всего'!R117*'3.физ-всего'!S117+'4.юрид-всего'!R117*'4.юрид-всего'!S117)/('3.физ-всего'!R117+'4.юрид-всего'!R117) -> 12
A118: Февраль | B118: ='3.физ-всего'!B118+'4.юрид-всего'!B118 -> 10691606 | C118: =('3.физ-всего'!B118*'3.физ-всего'!C118+'4.юрид-всего'!B118*'4.юрид-всего'!C118)/('3.физ-всего'!B118+'4.юрид-всего'!B118) -> 0.25187512 | D118: ='3.физ-всего'!D118+'4.юрид-всего'!D118 -> 10345418 | E118: =('3.физ-всего'!D118*'3.физ-всего'!E118+'4.юрид-всего'!D118*'4.юрид-всего'!E118)/('3.физ-всего'!D118+'4.юрид-всего'!D118) -> 0.0105407 | F118: =H118+J118+L118+N118+P118+R118 -> 346187.9 | G118: =(H118*I118+J118*K118+L118*M118+N118*O118+P118*Q118+R118*S118)/(H118+J118+L118+N118+P118+R118) -> 7.46387 | H118: ='3.физ-всего'!H118+'4.юрид-всего'!H118 -> 11301.5 | I118: =('3.физ-всего'!H118*'3.физ-всего'!I118+'4.юрид-всего'!H118*'4.юрид-всего'!I118)/('3.физ-всего'!H118+'4.юрид-всего'!H118) -> 1.4539355 | J118: ='3.физ-всего'!J118+'4.юрид-всего'!J118 -> 77613.6 | K118: =('3.физ-всего'!J118*'3.физ-всего'!K118+'4.юрид-всего'!J118*'4.юрид-всего'!K118)/('3.физ-всего'!J118+'4.юрид-всего'!J118) -> 3.4383263 | L118: ='3.физ-всего'!L118+'4.юрид-всего'!L118 -> 79383.6 | M118: =('3.физ-всего'!L118*'3.физ-всего'!M118+'4.юрид-всего'!L118*'4.юрид-всего'!M118)/('3.физ-всего'!L118+'4.юрид-всего'!L118) -> 6.2830775 | N118: ='3.физ-всего'!N118+'4.юрид-всего'!N118 -> 66937.7 | O118: =('3.физ-всего'!N118*'3.физ-всего'!O118+'4.юрид-всего'!N118*'4.юрид-всего'!O118)/('3.физ-всего'!N118+'4.юрид-всего'!N118) -> 8.7691556 | P118: ='3.физ-всего'!P118+'4.юрид-всего'!P118 -> 110951.2 | Q118: =('3.физ-всего'!P118*'3.физ-всего'!Q118+'4.юрид-всего'!P118*'4.юрид-всего'!Q118)/('3.физ-всего'!P118+'4.юрид-всего'!P118) -> 10.949363 | R118: ='3.физ-всего'!R118+'4.юрид-всего'!R118 -> 0.3 | S118: =('3.физ-всего'!R118*'3.физ-всего'!S118+'4.юрид-всего'!R118*'4.юрид-всего'!S118)/('3.физ-всего'!R118+'4.юрид-всего'!R118) -> 12
A119: Март | B119: ='3.физ-всего'!B119+'4.юрид-всего'!B119 -> 12266439 | C119: =('3.физ-всего'!B119*'3.физ-всего'!C119+'4.юрид-всего'!B119*'4.юрид-всего'!C119)/('3.физ-всего'!B119+'4.юрид-всего'!B119) -> 0.24162238 | D119: ='3.физ-всего'!D119+'4.юрид-всего'!D119 -> 11398437 | E119: =('3.физ-всего'!D119*'3.физ-всего'!E119+'4.юрид-всего'!D119*'4.юрид-всего'!E119)/('3.физ-всего'!D119+'4.юрид-всего'!D119) -> 0.012365061 | F119: =H119+J119+L119+N119+P119+R119 -> 868002.3 | G119: =(H119*I119+J119*K119+L119*M119+N119*O119+P119*Q119+R119*S119)/(H119+J119+L119+N119+P119+R119) -> 3.2521847 | H119: ='3.физ-всего'!H119+'4.юрид-всего'!H119 -> 45700.2 | I119: =('3.физ-всего'!H119*'3.физ-всего'!I119+'4.юрид-всего'!H119*'4.юрид-всего'!I119)/('3.физ-всего'!H119+'4.юрид-всего'!H119) -> 1.8096179 | J119: ='3.физ-всего'!J119+'4.юрид-всего'!J119 -> 61349.7 | K119: =('3.физ-всего'!J119*'3.физ-всего'!K119+'4.юрид-всего'!J119*'4.юрид-всего'!K119)/('3.физ-всего'!J119+'4.юрид-всего'!J119) -> 3.6129583 | L119: ='3.физ-всего'!L119+'4.юрид-всего'!L119 -> 46623.7 | M119: =('3.физ-всего'!L119*'3.физ-всего'!M119+'4.юрид-всего'!L119*'4.юрид-всего'!M119)/('3.физ-всего'!L119+'4.юрид-всего'!L119) -> 8.9453941 | N119: ='3.физ-всего'!N119+'4.юрид-всего'!N119 -> 52957.4 | O119: =('3.физ-всего'!N119*'3.физ-всего'!O119+'4.юрид-всего'!N119*'4.юрид-всего'!O119)/('3.физ-всего'!N119+'4.юрид-всего'!N119) -> 8.2707278 | P119: ='3.физ-всего'!P119+'4.юрид-всего'!P119 -> 600759.9 | Q119: =('3.физ-всего'!P119*'3.физ-всего'!Q119+'4.юрид-всего'!P119*'4.юрид-всего'!Q119)/('3.физ-всего'!P119+'4.юрид-всего'!P119) -> 2.7689624 | R119: ='3.физ-всего'!R119+'4.юрид-всего'!R119 -> 60611.4 | S119: =('3.физ-всего'!R119*'3.физ-всего'!S119+'4.юрид-всего'!R119*'4.юрид-всего'!S119)/('3.физ-всего'!R119+'4.юрид-всего'!R119) -> 7.9193023e-05
A120: Апрель | B120: ='3.физ-всего'!B120+'4.юрид-всего'!B120 -> 14580227 | C120: =('3.физ-всего'!B120*'3.физ-всего'!C120+'4.юрид-всего'!B120*'4.юрид-всего'!C120)/('3.физ-всего'!B120+'4.юрид-всего'!B120) -> 0.24237296 | D120: ='3.физ-всего'!D120+'4.юрид-всего'!D120 -> 14064667 | E120: =('3.физ-всего'!D120*'3.физ-всего'!E120+'4.юрид-всего'!D120*'4.юрид-всего'!E120)/('3.физ-всего'!D120+'4.юрид-всего'!D120) -> 0.011872425 | F120: =H120+J120+L120+N120+P120+R120 -> 515559.9 | G120: =(H120*I120+J120*K120+L120*M120+N120*O120+P120*Q120+R120*S120)/(H120+J120+L120+N120+P120+R120) -> 6.5305139 | H120: ='3.физ-всего'!H120+'4.юрид-всего'!H120 -> 20816.6 | I120: =('3.физ-всего'!H120*'3.физ-всего'!I120+'4.юрид-всего'!H120*'4.юрид-всего'!I120)/('3.физ-всего'!H120+'4.юрид-всего'!H120) -> 2.2293516 | J120: ='3.физ-всего'!J120+'4.юрид-всего'!J120 -> 161651 | K120: =('3.физ-всего'!J120*'3.физ-всего'!K120+'4.юрид-всего'!J120*'4.юрид-всего'!K120)/('3.физ-всего'!J120+'4.юрид-всего'!J120) -> 3.8577046 | L120: ='3.физ-всего'!L120+'4.юрид-всего'!L120 -> 60442.6 | M120: =('3.физ-всего'!L120*'3.физ-всего'!M120+'4.юрид-всего'!L120*'4.юрид-всего'!M120)/('3.физ-всего'!L120+'4.юрид-всего'!L120) -> 6.9732468 | N120: ='3.физ-всего'!N120+'4.юрид-всего'!N120 -> 65064.7 | O120: =('3.физ-всего'!N120*'3.физ-всего'!O120+'4.юрид-всего'!N120*'4.юрид-всего'!O120)/('3.физ-всего'!N120+'4.юрид-всего'!N120) -> 10.160284 | P120: ='3.физ-всего'!P120+'4.юрид-всего'!P120 -> 207584.7 | Q120: =('3.физ-всего'!P120*'3.физ-всего'!Q120+'4.юрид-всего'!P120*'4.юрид-всего'!Q120)/('3.физ-всего'!P120+'4.юрид-всего'!P120) -> 7.7765902 | R120: ='3.физ-всего'!R120+'4.юрид-всего'!R120 -> 0.3 | S120: =('3.физ-всего'!R120*'3.физ-всего'!S120+'4.юрид-всего'!R120*'4.юрид-всего'!S120)/('3.физ-всего'!R120+'4.юрид-всего'!R120) -> 12
A121: Май | B121: ='3.физ-всего'!B121+'4.юрид-всего'!B121 -> 9694579.6 | C121: =('3.физ-всего'!B121*'3.физ-всего'!C121+'4.юрид-всего'!B121*'4.юрид-всего'!C121)/('3.физ-всего'!B121+'4.юрид-всего'!B121) -> 0.21343434 | D121: ='3.физ-всего'!D121+'4.юрид-всего'!D121 -> 9402590.5 | E121: =('3.физ-всего'!D121*'3.физ-всего'!E121+'4.юрид-всего'!D121*'4.юрид-всего'!E121)/('3.физ-всего'!D121+'4.юрид-всего'!D121) -> 0.021996625 | F121: =H121+J121+L121+N121+P121+R121 -> 291989.1 | G121: =(H121*I121+J121*K121+L121*M121+N121*O121+P121*Q121+R121*S121)/(H121+J121+L121+N121+P121+R121) -> 6.3780839 | H121: ='3.физ-всего'!H121+'4.юрид-всего'!H121 -> 8355.5 | I121: =('3.физ-всего'!H121*'3.физ-всего'!I121+'4.юрид-всего'!H121*'4.юрид-всего'!I121)/('3.физ-всего'!H121+'4.юрид-всего'!H121) -> 2.0156049 | J121: ='3.физ-всего'!J121+'4.юрид-всего'!J121 -> 156424.3 | K121: =('3.физ-всего'!J121*'3.физ-всего'!K121+'4.юрид-всего'!J121*'4.юрид-всего'!K121)/('3.физ-всего'!J121+'4.юрид-всего'!J121) -> 4.0853234 | L121: ='3.физ-всего'!L121+'4.юрид-всего'!L121 -> 47757.5 | M121: =('3.физ-всего'!L121*'3.физ-всего'!M121+'4.юрид-всего'!L121*'4.юрид-всего'!M121)/('3.физ-всего'!L121+'4.юрид-всего'!L121) -> 7.3367781 | N121: ='3.физ-всего'!N121+'4.юрид-всего'!N121 -> 41156.1 | O121: =('3.физ-всего'!N121*'3.физ-всего'!O121+'4.юрид-всего'!N121*'4.юрид-всего'!O121)/('3.физ-всего'!N121+'4.юрид-всего'!N121) -> 9.8158445 | P121: ='3.физ-всего'!P121+'4.юрид-всего'!P121 -> 38169 | Q121: =('3.физ-всего'!P121*'3.физ-всего'!Q121+'4.юрид-всего'!P121*'4.юрид-всего'!Q121)/('3.физ-всего'!P121+'4.юрид-всего'!P121) -> 11.810911 | R121: ='3.физ-всего'!R121+'4.юрид-всего'!R121 -> 126.7 | S121: =('3.физ-всего'!R121*'3.физ-всего'!S121+'4.юрид-всего'!R121*'4.юрид-всего'!S121)/('3.физ-всего'!R121+'4.юрид-всего'!R121) -> 10
A122: Июнь | B122: ='3.физ-всего'!B122+'4.юрид-всего'!B122 -> 7806894.1 | C122: =('3.физ-всего'!B122*'3.физ-всего'!C122+'4.юрид-всего'!B122*'4.юрид-всего'!C122)/('3.физ-всего'!B122+'4.юрид-всего'!B122) -> 0.27343483 | D122: ='3.физ-всего'!D122+'4.юрид-всего'!D122 -> 7354716.5 | E122: =('3.физ-всего'!D122*'3.физ-всего'!E122+'4.юрид-всего'!D122*'4.юрид-всего'!E122)/('3.физ-всего'!D122+'4.юрид-всего'!D122) -> 0.025249469 | F122: =H122+J122+L122+N122+P122+R122 -> 452177.6 | G122: =(H122*I122+J122*K122+L122*M122+N122*O122+P122*Q122+R122*S122)/(H122+J122+L122+N122+P122+R122) -> 4.310196 | H122: ='3.физ-всего'!H122+'4.юрид-всего'!H122 -> 27077.8 | I122: =('3.физ-всего'!H122*'3.физ-всего'!I122+'4.юрид-всего'!H122*'4.юрид-всего'!I122)/('3.физ-всего'!H122+'4.юрид-всего'!H122) -> 1.3579043 | J122: ='3.физ-всего'!J122+'4.юрид-всего'!J122 -> 195918.2 | K122: =('3.физ-всего'!J122*'3.физ-всего'!K122+'4.юрид-всего'!J122*'4.юрид-всего'!K122)/('3.физ-всего'!J122+'4.юрид-всего'!J122) -> 2.4382082 | L122: ='3.физ-всего'!L122+'4.юрид-всего'!L122 -> 84742.9 | M122: =('3.физ-всего'!L122*'3.физ-всего'!M122+'4.юрид-всего'!L122*'4.юрид-всего'!M122)/('3.физ-всего'!L122+'4.юрид-всего'!L122) -> 7.4365878 | N122: ='3.физ-всего'!N122+'4.юрид-всего'!N122 -> 40310.5 | O122: =('3.физ-всего'!N122*'3.физ-всего'!O122+'4.юрид-всего'!N122*'4.юрид-всего'!O122)/('3.физ-всего'!N122+'4.юрид-всего'!N122) -> 8.6228722 | P122: ='3.физ-всего'!P122+'4.юрид-всего'!P122 -> 44364.9 | Q122: =('3.физ-всего'!P122*'3.физ-всего'!Q122+'4.юрид-всего'!P122*'4.юрид-всего'!Q122)/('3.физ-всего'!P122+'4.юрид-всего'!P122) -> 10.294677 | R122: ='3.физ-всего'!R122+'4.юрид-всего'!R122 -> 59763.3 | S122: =('3.физ-всего'!R122*'3.физ-всего'!S122+'4.юрид-всего'!R122*'4.юрид-всего'!S122)/('3.физ-всего'!R122+'4.юрид-всего'!R122) -> 5.0198031e-05
A123: Июль | B123: ='3.физ-всего'!B123+'4.юрид-всего'!B123 -> 5145279.4 | C123: =('3.физ-всего'!B123*'3.физ-всего'!C123+'4.юрид-всего'!B123*'4.юрид-всего'!C123)/('3.физ-всего'!B123+'4.юрид-всего'!B123) -> 0.57822794 | D123: ='3.физ-всего'!D123+'4.юрид-всего'!D123 -> 4725280 | E123: =('3.физ-всего'!D123*'3.физ-всего'!E123+'4.юрид-всего'!D123*'4.юрид-всего'!E123)/('3.физ-всего'!D123+'4.юрид-всего'!D123) -> 0.059260407 | F123: =H123+J123+L123+N123+P123+R123 -> 419999.4 | G123: =(H123*I123+J123*K123+L123*M123+N123*O123+P123*Q123+R123*S123)/(H123+J123+L123+N123+P123+R123) -> 6.4169669 | H123: ='3.физ-всего'!H123+'4.юрид-всего'!H123 -> 20338.5 | I123: =('3.физ-всего'!H123*'3.физ-всего'!I123+'4.юрид-всего'!H123*'4.юрид-всего'!I123)/('3.физ-всего'!H123+'4.юрид-всего'!H123) -> 0.5135187 | J123: ='3.физ-всего'!J123+'4.юрид-всего'!J123 -> 198282 | K123: =('3.физ-всего'!J123*'3.физ-всего'!K123+'4.юрид-всего'!J123*'4.юрид-всего'!K123)/('3.физ-всего'!J123+'4.юрид-всего'!J123) -> 5.6539142 | L123: ='3.физ-всего'!L123+'4.юрид-всего'!L123 -> 55209.7 | M123: =('3.физ-всего'!L123*'3.физ-всего'!M123+'4.юрид-всего'!L123*'4.юрид-всего'!M123)/('3.физ-всего'!L123+'4.юрид-всего'!L123) -> 6.0490585 | N123: ='3.физ-всего'!N123+'4.юрид-всего'!N123 -> 62962.4 | O123: =('3.физ-всего'!N123*'3.физ-всего'!O123+'4.юрид-всего'!N123*'4.юрид-всего'!O123)/('3.физ-всего'!N123+'4.юрид-всего'!N123) -> 7.9053506 | P123: ='3.физ-всего'!P123+'4.юрид-всего'!P123 -> 82141.8 | Q123: =('3.физ-всего'!P123*'3.физ-всего'!Q123+'4.юрид-всего'!P123*'4.юрид-всего'!Q123)/('3.физ-всего'!P123+'4.юрид-всего'!P123) -> 8.8972289 | R123: ='3.физ-всего'!R123+'4.юрид-всего'!R123 -> 1065 | S123: =('3.физ-всего'!R123*'3.физ-всего'!S123+'4.юрид-всего'!R123*'4.юрид-всего'!S123)/('3.физ-всего'!R123+'4.юрид-всего'!R123) -> 1.0025352
A124: Август | B124: ='3.физ-всего'!B124+'4.юрид-всего'!B124 -> 3821973.4 | C124: =('3.физ-всего'!B124*'3.физ-всего'!C124+'4.юрид-всего'!B124*'4.юрид-всего'!C124)/('3.физ-всего'!B124+'4.юрид-всего'!B124) -> 0.73371658 | D124: ='3.физ-всего'!D124+'4.юрид-всего'!D124 -> 3413237.3 | E124: =('3.физ-всего'!D124*'3.физ-всего'!E124+'4.юрид-всего'!D124*'4.юрид-всего'!E124)/('3.физ-всего'!D124+'4.юрид-всего'!D124) -> 0.072071912 | F124: =H124+J124+L124+N124+P124+R124 -> 408736.1 | G124: =(H124*I124+J124*K124+L124*M124+N124*O124+P124*Q124+R124*S124)/(H124+J124+L124+N124+P124+R124) -> 6.2589204 | H124: ='3.физ-всего'!H124+'4.юрид-всего'!H124 -> 38770 | I124: =('3.физ-всего'!H124*'3.физ-всего'!I124+'4.юрид-всего'!H124*'4.юрид-всего'!I124)/('3.физ-всего'!H124+'4.юрид-всего'!H124) -> 3.2414873 | J124: ='3.физ-всего'!J124+'4.юрид-всего'!J124 -> 66804.7 | K124: =('3.физ-всего'!J124*'3.физ-всего'!K124+'4.юрид-всего'!J124*'4.юрид-всего'!K124)/('3.физ-всего'!J124+'4.юрид-всего'!J124) -> 4.6788593 | L124: ='3.физ-всего'!L124+'4.юрид-всего'!L124 -> 125908.8 | M124: =('3.физ-всего'!L124*'3.физ-всего'!M124+'4.юрид-всего'!L124*'4.юрид-всего'!M124)/('3.физ-всего'!L124+'4.юрид-всего'!L124) -> 5.1164641 | N124: ='3.физ-всего'!N124+'4.юрид-всего'!N124 -> 66454.8 | O124: =('3.физ-всего'!N124*'3.физ-всего'!O124+'4.юрид-всего'!N124*'4.юрид-всего'!O124)/('3.физ-всего'!N124+'4.юрид-всего'!N124) -> 9.6988938 | P124: ='3.физ-всего'!P124+'4.юрид-всего'!P124 -> 110789.3 | Q124: =('3.физ-всего'!P124*'3.физ-всего'!Q124+'4.юрид-всего'!P124*'4.юрид-всего'!Q124)/('3.физ-всего'!P124+'4.юрид-всего'!P124) -> 7.502291 | R124: ='3.физ-всего'!R124+'4.юрид-всего'!R124 -> 8.5 | S124: =('3.физ-всего'!R124*'3.физ-всего'!S124+'4.юрид-всего'!R124*'4.юрид-всего'!S124)/('3.физ-всего'!R124+'4.юрид-всего'!R124) -> 10
... A176: Декабрь | B176: ='3.физ-всего'!B176+'4.юрид-всего'!B176 -> 8890531 | C176: =('3.физ-всего'!B176*'3.физ-всего'!C176+'4.юрид-всего'!B176*'4.юрид-всего'!C176)/('3.физ-всего'!B176+'4.юрид-всего'!B176) -> 2.3396294 | D176: ='3.физ-всего'!D176+'4.юрид-всего'!D176 -> 6320772.6 | E176: =('3.физ-всего'!D176*'3.физ-всего'!E176+'4.юрид-всего'!D176*'4.юрид-всего'!E176)/('3.физ-всего'!D176+'4.юрид-всего'!D176) -> 0.27429923 | F176: =H176+J176+L176+N176+P176+R176 -> 2569758.4 | G176: =(H176*I176+J176*K176+L176*M176+N176*O176+P176*Q176+R176*S176)/(H176+J176+L176+N176+P176+R176) -> 7.4196721 | H176: ='3.физ-всего'!H176+'4.юрид-всего'!H176 -> 82742.4 | I176: =('3.физ-всего'!H176*'3.физ-всего'!I176+'4.юрид-всего'!H176*'4.юрид-всего'!I176)/('3.физ-всего'!H176+'4.юрид-всего'!H176) -> 2.3030222 | J176: ='3.физ-всего'!J176+'4.юрид-всего'!J176 -> 892003.6 | K176: =('3.физ-всего'!J176*'3.физ-всего'!K176+'4.юрид-всего'!J176*'4.юрид-всего'!K176)/('3.физ-всего'!J176+'4.юрид-всего'!J176) -> 4.0029561 | L176: ='3.физ-всего'!L176+'4.юрид-всего'!L176 -> 285457 | M176: =('3.физ-всего'!L176*'3.физ-всего'!M176+'4.юрид-всего'!L176*'4.юрид-всего'!M176)/('3.физ-всего'!L176+'4.юрид-всего'!L176) -> 7.7357653 | N176: ='3.физ-всего'!N176+'4.юрид-всего'!N176 -> 986723.4 | O176: =('3.физ-всего'!N176*'3.физ-всего'!O176+'4.юрид-всего'!N176*'4.юрид-всего'!O176)/('3.физ-всего'!N176+'4.юрид-всего'!N176) -> 9.0184253 | P176: ='3.физ-всего'!P176+'4.юрид-всего'!P176 -> 321362.4 | Q176: =('3.физ-всего'!P176*'3.физ-всего'!Q176+'4.юрид-всего'!P176*'4.юрид-всего'!Q176)/('3.физ-всего'!P176+'4.юрид-всего'!P176) -> 13.055207 | R176: ='3.физ-всего'!R176+'4.юрид-всего'!R176 -> 1469.6 | S176: =('3.физ-всего'!R176*'3.физ-всего'!S176+'4.юрид-всего'!R176*'4.юрид-всего'!S176)/('3.физ-всего'!R176+'4.юрид-всего'!R176) -> 2.1664126
A177: Январь 2010 г. | B177: ='3.физ-всего'!B177+'4.юрид-всего'!B177+'5.нерез-всего'!B9 -> 7364367.1 | C177: =('3.физ-всего'!B177*'3.физ-всего'!C177+'4.юрид-всего'!B177*'4.юрид-всего'!C177+'5.нерез-всего'!B9*'5.нерез-всего'!C9)/('3.физ-всего'!B177+'4.юрид-всего'!B177+'5.нерез-всего'!B9) -> 2.1847937 | D177: ='3.физ-всего'!D177+'4.юрид-всего'!D177+'5.нерез-всего'!D9 -> 5781609.7 | E177: =('3.физ-всего'!D177*'3.физ-всего'!E177+'4.юрид-всего'!D177*'4.юрид-всего'!E177+'5.нерез-всего'!D9*'5.нерез-всего'!E9)/('3.физ-всего'!D177+'4.юрид-всего'!D177+'5.нерез-всего'!D9) -> 0.16483901 | F177: =H177+J177+L177+N177+P177+R177 -> 1582757.4 | G177: =(H177*I177+J177*K177+L177*M177+N177*O177+P177*Q177+R177*S177)/(H177+J177+L177+N177+P177+R177) -> 9.5634291 | H177: ='3.физ-всего'!H177+'4.юрид-всего'!H177+'5.нерез-всего'!H9 -> 40289.6 | I177: =('3.физ-всего'!H177*'3.физ-всего'!I177+'4.юрид-всего'!H177*'4.юрид-всего'!I177+'5.нерез-всего'!H9*'5.нерез-всего'!I9)/('3.физ-всего'!H177+'4.юрид-всего'!H177+'5.нерез-всего'!H9) -> 3.086776 | J177: ='3.физ-всего'!J177+'4.юрид-всего'!J177+'5.нерез-всего'!J9 -> 246659.6 | K177: =('3.физ-всего'!J177*'3.физ-всего'!K177+'4.юрид-всего'!J177*'4.юрид-всего'!K177+'5.нерез-всего'!J9*'5.нерез-всего'!K9)/('3.физ-всего'!J177+'4.юрид-всего'!J177+'5.нерез-всего'!J9) -> 5.7144794 | L177: ='3.физ-всего'!L177+'4.юрид-всего'!L177+'5.нерез-всего'!L9 -> 228294.3 | M177: =('3.физ-всего'!L177*'3.физ-всего'!M177+'4.юрид-всего'!L177*'4.юрид-всего'!M177+'5.нерез-всего'!L9*'5.нерез-всего'!M9)/('3.физ-всего'!L177+'4.юрид-всего'!L177+'5.нерез-всего'!L9) -> 8.6031548 | N177: ='3.физ-всего'!N177+'4.юрид-всего'!N177+'5.нерез-всего'!N9 -> 583655.8 | O177: =('3.физ-всего'!N177*'3.физ-всего'!O177+'4.юрид-всего'!N177*'4.юрид-всего'!O177+'5.нерез-всего'!N9*'5.нерез-всего'!O9)/('3.физ-всего'!N177+'4.юрид-всего'!N177+'5.нерез-всего'!N9) -> 9.3314251 | P177: ='3.физ-всего'!P177+'4.юрид-всего'!P177+'5.нерез-всего'!P9 -> 444083.7 | Q177: =('3.физ-всего'!P177*'3.физ-всего'!Q177+'4.юрид-всего'!P177*'4.юрид-всего'!Q177+'5.нерез-всего'!P9*'5.нерез-всего'!Q9)/('3.физ-всего'!P177+'4.юрид-всего'!P177+'5.нерез-всего'!P9) -> 12.949609 | R177: ='3.физ-всего'!R177+'4.юрид-всего'!R177+'5.нерез-всего'!R9 -> 39774.4 | S177: =('3.физ-всего'!R177*'3.физ-всего'!S177+'4.юрид-всего'!R177*'4.юрид-всего'!S177+'5.нерез-всего'!R9*'5.нерез-всего'!S9)/('3.физ-всего'!R177+'4.юрид-всего'!R177+'5.нерез-всего'!R9) -> 11.102364
A178: Февраль | B178: ='3.физ-всего'!B178+'4.юрид-всего'!B178+'5.нерез-всего'!B10 -> 7717825.3 | C178: =('3.физ-всего'!B178*'3.физ-всего'!C178+'4.юрид-всего'!B178*'4.юрид-всего'!C178+'5.нерез-всего'!B10*'5.нерез-всего'!C10)/('3.физ-всего'!B178+'4.юрид-всего'!B178+'5.нерез-всего'!B10) -> 1.9394408 | D178: ='3.физ-всего'!D178+'4.юрид-всего'!D178+'5.нерез-всего'!D10 -> 6159045 | E178: =('3.физ-всего'!D178*'3.физ-всего'!E178+'4.юрид-всего'!D178*'4.юрид-всего'!E178+'5.нерез-всего'!D10*'5.нерез-всего'!E10)/('3.физ-всего'!D178+'4.юрид-всего'!D178+'5.нерез-всего'!D10) -> 0.22661627 | F178: =H178+J178+L178+N178+P178+R178 -> 1558780.3 | G178: =(H178*I178+J178*K178+L178*M178+N178*O178+P178*Q178+R178*S178)/(H178+J178+L178+N178+P178+R178) -> 8.7071444 | H178: ='3.физ-всего'!H178+'4.юрид-всего'!H178+'5.нерез-всего'!H10 -> 31372.1 | I178: =('3.физ-всего'!H178*'3.физ-всего'!I178+'4.юрид-всего'!H178*'4.юрид-всего'!I178+'5.нерез-всего'!H10*'5.нерез-всего'!I10)/('3.физ-всего'!H178+'4.юрид-всего'!H178+'5.нерез-всего'!H10) -> 3.4619749 | J178: ='3.физ-всего'!J178+'4.юрид-всего'!J178+'5.нерез-всего'!J10 -> 163803.3 | K178: =('3.физ-всего'!J178*'3.физ-всего'!K178+'4.юрид-всего'!J178*'4.юрид-всего'!K178+'5.нерез-всего'!J10*'5.нерез-всего'!K10)/('3.физ-всего'!J178+'4.юрид-всего'!J178+'5.нерез-всего'!J10) -> 5.1077559 | L178: ='3.физ-всего'!L178+'4.юрид-всего'!L178+'5.нерез-всего'!L10 -> 296378.8 | M178: =('3.физ-всего'!L178*'3.физ-всего'!M178+'4.юрид-всего'!L178*'4.юрид-всего'!M178+'5.нерез-всего'!L10*'5.нерез-всего'!M10)/('3.физ-всего'!L178+'4.юрид-всего'!L178+'5.нерез-всего'!L10) -> 6.1253651 | N178: ='3.физ-всего'!N178+'4.юрид-всего'!N178+'5.нерез-всего'!N10 -> 755394 | O178: =('3.физ-всего'!N178*'3.физ-всего'!O178+'4.юрид-всего'!N178*'4.юрид-всего'!O178+'5.нерез-всего'!N10*'5.нерез-всего'!O10)/('3.физ-всего'!N178+'4.юрид-всего'!N178+'5.нерез-всего'!N10) -> 9.3337675 | P178: ='3.физ-всего'!P178+'4.юрид-всего'!P178+'5.нерез-всего'!P10 -> 311741 | Q178: =('3.физ-всего'!P178*'3.физ-всего'!Q178+'4.юрид-всего'!P178*'4.юрид-всего'!Q178+'5.нерез-всего'!P10*'5.нерез-всего'!Q10)/('3.физ-всего'!P178+'4.юрид-всего'!P178+'5.нерез-всего'!P10) -> 12.061111 | R178: ='3.физ-всего'!R178+'4.юрид-всего'!R178+'5.нерез-всего'!R10 -> 91.1 | S178: =('3.физ-всего'!R178*'3.физ-всего'!S178+'4.юрид-всего'!R178*'4.юрид-всего'!S178+'5.нерез-всего'!R10*'5.нерез-всего'!S10)/('3.физ-всего'!R178+'4.юрид-всего'!R178+'5.нерез-всего'!R10) -> 13.228869
A179: Март | B179: ='3.физ-всего'!B179+'4.юрид-всего'!B179+'5.нерез-всего'!B11 -> 11797167 | C179: =('3.физ-всего'!B179*'3.физ-всего'!C179+'4.юрид-всего'!B179*'4.юрид-всего'!C179+'5.нерез-всего'!B11*'5.нерез-всего'!C11)/('3.физ-всего'!B179+'4.юрид-всего'!B179+'5.нерез-всего'!B11) -> 1.7361647 | D179: ='3.физ-всего'!D179+'4.юрид-всего'!D179+'5.нерез-всего'!D11 -> 9242942.6 | E179: =('3.физ-всего'!D179*'3.физ-всего'!E179+'4.юрид-всего'!D179*'4.юрид-всего'!E179+'5.нерез-всего'!D11*'5.нерез-всего'!E11)/('3.физ-всего'!D179+'4.юрид-всего'!D179+'5.нерез-всего'!D11) -> 0.23153756 | F179: =H179+J179+L179+N179+P179+R179 -> 2554224.1 | G179: =(H179*I179+J179*K179+L179*M179+N179*O179+P179*Q179+R179*S179)/(H179+J179+L179+N179+P179+R179) -> 7.1809422 | H179: ='3.физ-всего'!H179+'4.юрид-всего'!H179+'5.нерез-всего'!H11 -> 76051.9 | I179: =('3.физ-всего'!H179*'3.физ-всего'!I179+'4.юрид-всего'!H179*'4.юрид-всего'!I179+'5.нерез-всего'!H11*'5.нерез-всего'!I11)/('3.физ-всего'!H179+'4.юрид-всего'!H179+'5.нерез-всего'!H11) -> 3.9150284 | J179: ='3.физ-всего'!J179+'4.юрид-всего'!J179+'5.нерез-всего'!J11 -> 232418.1 | K179: =('3.физ-всего'!J179*'3.физ-всего'!K179+'4.юрид-всего'!J179*'4.юрид-всего'!K179+'5.нерез-всего'!J11*'5.нерез-всего'!K11)/('3.физ-всего'!J179+'4.юрид-всего'!J179+'5.нерез-всего'!J11) -> 4.5240161 | L179: ='3.физ-всего'!L179+'4.юрид-всего'!L179+'5.нерез-всего'!L11 -> 220322.8 | M179: =('3.физ-всего'!L179*'3.физ-всего'!M179+'4.юрид-всего'!L179*'4.юрид-всего'!M179+'5.нерез-всего'!L11*'5.нерез-всего'!M11)/('3.физ-всего'!L179+'4.юрид-всего'!L179+'5.нерез-всего'!L11) -> 8.1423693 | N179: ='3.физ-всего'!N179+'4.юрид-всего'!N179+'5.нерез-всего'!N11 -> 695510.8 | O179: =('3.физ-всего'!N179*'3.физ-всего'!O179+'4.юрид-всего'!N179*'4.юрид-всего'!O179+'5.нерез-всего'!N11*'5.нерез-всего'!O11)/('3.физ-всего'!N179+'4.юрид-всего'!N179+'5.нерез-всего'!N11) -> 8.1080801 | P179: ='3.физ-всего'!P179+'4.юрид-всего'!P179+'5.нерез-всего'!P11 -> 611981.8 | Q179: =('3.физ-всего'!P179*'3.физ-всего'!Q179+'4.юрид-всего'!P179*'4.юрид-всего'!Q179+'5.нерез-всего'!P11*'5.нерез-всего'!Q11)/('3.физ-всего'!P179+'4.юрид-всего'!P179+'5.нерез-всего'!P11) -> 8.588955 | R179: ='3.физ-всего'!R179+'4.юрид-всего'!R179+'5.нерез-всего'!R11 -> 717938.7 | S179: =('3.физ-всего'!R179*'3.физ-всего'!S179+'4.юрид-всего'!R179*'4.юрид-всего'!S179+'5.нерез-всего'!R11*'5.нерез-всего'!S11)/('3.физ-всего'!R179+'4.юрид-всего'!R179+'5.нерез-всего'!R11) -> 5.993598
